BEGIN:VCALENDAR
VERSION:2.0
PRODID:-//RFWM - ECPv6.15.20//NONSGML v1.0//EN
CALSCALE:GREGORIAN
METHOD:PUBLISH
X-WR-CALNAME:RFWM
X-ORIGINAL-URL:https://rfwm.org
X-WR-CALDESC:Events for RFWM
REFRESH-INTERVAL;VALUE=DURATION:PT1H
X-Robots-Tag:noindex
X-PUBLISHED-TTL:PT1H
BEGIN:VTIMEZONE
TZID:UTC
BEGIN:STANDARD
TZOFFSETFROM:+0000
TZOFFSETTO:+0000
TZNAME:UTC
DTSTART:20240101T000000
END:STANDARD
END:VTIMEZONE
BEGIN:VEVENT
DTSTART;TZID=UTC:20250312T183000
DTEND;TZID=UTC:20250312T203000
DTSTAMP:20260426T042712
CREATED:20240923T143534Z
LAST-MODIFIED:20240923T143534Z
UID:10301-1741804200-1741811400@rfwm.org
SUMMARY:Bible Study
DESCRIPTION:Join us for BIble Study on Wednesdays at Norwood Park 8100 Newton Avenue N\, Brooklyn Park \nPrayer – 6:30 pm \nBible Study – 7 pm \nChildcare NOT provided \n\n           Download QR
URL:https://rfwm.org/event/bible-study-3/2025-03-12/
CATEGORIES:Wednesday
ATTACH;FMTTYPE=image/png:https://rfwm.org/wp-content/uploads/2024/09/Bible-Study-Flyer-2-Updated.png
END:VEVENT
BEGIN:VEVENT
DTSTART;TZID=UTC:20250309T100000
DTEND;TZID=UTC:20250309T130000
DTSTAMP:20260426T042712
CREATED:20240903T132041Z
LAST-MODIFIED:20240903T132041Z
UID:10249-1741514400-1741525200@rfwm.org
SUMMARY:Sunday Worship Service
DESCRIPTION:Sunday Worship Service \n10 am Prayer \n11 am Worship \nLocation: Northport Elementary School 5421 Brooklyn Blvd\, Brooklyn Center \n\n           Download QR
URL:https://rfwm.org/event/sunday-worship-service-2/2025-03-09/
CATEGORIES:Sunday
ATTACH;FMTTYPE=image/png:https://rfwm.org/wp-content/uploads/2023/12/rfwm-flyer.png
END:VEVENT
BEGIN:VEVENT
DTSTART;TZID=UTC:20250307T183000
DTEND;TZID=UTC:20250307T200000
DTSTAMP:20260426T042712
CREATED:20241206T200438Z
LAST-MODIFIED:20250312T170122Z
UID:9384-1741372200-1741377600@rfwm.org
SUMMARY:Freedom Gathering
DESCRIPTION:Fridays 6:30 – 8 pm \n8525 Edinbrook Crossing \nBrooklyn Park\, MN 55443 \n\n           Download QR
URL:https://rfwm.org/event/freedom-gathering/2025-03-07/
CATEGORIES:Friday
ATTACH;FMTTYPE=image/png:https://rfwm.org/wp-content/uploads/2024/12/Freedom-Gathering-Group-Flyer-1-Facebook-Post-March-2025.png
END:VEVENT
BEGIN:VEVENT
DTSTART;TZID=UTC:20250305T183000
DTEND;TZID=UTC:20250305T203000
DTSTAMP:20260426T042712
CREATED:20240923T143534Z
LAST-MODIFIED:20240923T143534Z
UID:10300-1741199400-1741206600@rfwm.org
SUMMARY:Bible Study
DESCRIPTION:Join us for BIble Study on Wednesdays at Norwood Park 8100 Newton Avenue N\, Brooklyn Park \nPrayer – 6:30 pm \nBible Study – 7 pm \nChildcare NOT provided \n\n           Download QR
URL:https://rfwm.org/event/bible-study-3/2025-03-05/
CATEGORIES:Wednesday
ATTACH;FMTTYPE=image/png:https://rfwm.org/wp-content/uploads/2024/09/Bible-Study-Flyer-2-Updated.png
END:VEVENT
BEGIN:VEVENT
DTSTART;TZID=UTC:20250302T100000
DTEND;TZID=UTC:20250302T130000
DTSTAMP:20260426T042712
CREATED:20240903T132041Z
LAST-MODIFIED:20240903T132041Z
UID:10248-1740909600-1740920400@rfwm.org
SUMMARY:Sunday Worship Service
DESCRIPTION:Sunday Worship Service \n10 am Prayer \n11 am Worship \nLocation: Northport Elementary School 5421 Brooklyn Blvd\, Brooklyn Center \n\n           Download QR
URL:https://rfwm.org/event/sunday-worship-service-2/2025-03-02/
CATEGORIES:Sunday
ATTACH;FMTTYPE=image/png:https://rfwm.org/wp-content/uploads/2023/12/rfwm-flyer.png
END:VEVENT
BEGIN:VEVENT
DTSTART;TZID=UTC:20250228T183000
DTEND;TZID=UTC:20250228T200000
DTSTAMP:20260426T042712
CREATED:20241206T200438Z
LAST-MODIFIED:20250312T170122Z
UID:9383-1740767400-1740772800@rfwm.org
SUMMARY:Freedom Gathering
DESCRIPTION:Fridays 6:30 – 8 pm \n8525 Edinbrook Crossing \nBrooklyn Park\, MN 55443 \n\n           Download QR
URL:https://rfwm.org/event/freedom-gathering/2025-02-28/
CATEGORIES:Friday
ATTACH;FMTTYPE=image/png:https://rfwm.org/wp-content/uploads/2024/12/Freedom-Gathering-Group-Flyer-1-Facebook-Post-March-2025.png
END:VEVENT
BEGIN:VEVENT
DTSTART;TZID=UTC:20250226T183000
DTEND;TZID=UTC:20250226T203000
DTSTAMP:20260426T042712
CREATED:20240923T143534Z
LAST-MODIFIED:20240923T143534Z
UID:10299-1740594600-1740601800@rfwm.org
SUMMARY:Bible Study
DESCRIPTION:Join us for BIble Study on Wednesdays at Norwood Park 8100 Newton Avenue N\, Brooklyn Park \nPrayer – 6:30 pm \nBible Study – 7 pm \nChildcare NOT provided \n\n           Download QR
URL:https://rfwm.org/event/bible-study-3/2025-02-26/
CATEGORIES:Wednesday
ATTACH;FMTTYPE=image/png:https://rfwm.org/wp-content/uploads/2024/09/Bible-Study-Flyer-2-Updated.png
END:VEVENT
BEGIN:VEVENT
DTSTART;TZID=UTC:20250223T100000
DTEND;TZID=UTC:20250223T130000
DTSTAMP:20260426T042712
CREATED:20240903T132041Z
LAST-MODIFIED:20240903T132041Z
UID:10247-1740304800-1740315600@rfwm.org
SUMMARY:Sunday Worship Service
DESCRIPTION:Sunday Worship Service \n10 am Prayer \n11 am Worship \nLocation: Northport Elementary School 5421 Brooklyn Blvd\, Brooklyn Center \n\n           Download QR
URL:https://rfwm.org/event/sunday-worship-service-2/2025-02-23/
CATEGORIES:Sunday
ATTACH;FMTTYPE=image/png:https://rfwm.org/wp-content/uploads/2023/12/rfwm-flyer.png
END:VEVENT
BEGIN:VEVENT
DTSTART;TZID=UTC:20250221T183000
DTEND;TZID=UTC:20250221T200000
DTSTAMP:20260426T042712
CREATED:20241206T200438Z
LAST-MODIFIED:20250312T170121Z
UID:9382-1740162600-1740168000@rfwm.org
SUMMARY:Freedom Gathering
DESCRIPTION:Fridays 6:30 – 8 pm \n8525 Edinbrook Crossing \nBrooklyn Park\, MN 55443 \n\n           Download QR
URL:https://rfwm.org/event/freedom-gathering/2025-02-21/
CATEGORIES:Friday
ATTACH;FMTTYPE=image/png:https://rfwm.org/wp-content/uploads/2024/12/Freedom-Gathering-Group-Flyer-1-Facebook-Post-March-2025.png
END:VEVENT
BEGIN:VEVENT
DTSTART;TZID=UTC:20250219T183000
DTEND;TZID=UTC:20250219T203000
DTSTAMP:20260426T042712
CREATED:20240923T143534Z
LAST-MODIFIED:20240923T143534Z
UID:10298-1739989800-1739997000@rfwm.org
SUMMARY:Bible Study
DESCRIPTION:Join us for BIble Study on Wednesdays at Norwood Park 8100 Newton Avenue N\, Brooklyn Park \nPrayer – 6:30 pm \nBible Study – 7 pm \nChildcare NOT provided \n\n           Download QR
URL:https://rfwm.org/event/bible-study-3/2025-02-19/
CATEGORIES:Wednesday
ATTACH;FMTTYPE=image/png:https://rfwm.org/wp-content/uploads/2024/09/Bible-Study-Flyer-2-Updated.png
END:VEVENT
BEGIN:VEVENT
DTSTART;TZID=UTC:20250216T100000
DTEND;TZID=UTC:20250216T130000
DTSTAMP:20260426T042712
CREATED:20240903T132041Z
LAST-MODIFIED:20240903T132041Z
UID:10246-1739700000-1739710800@rfwm.org
SUMMARY:Sunday Worship Service
DESCRIPTION:Sunday Worship Service \n10 am Prayer \n11 am Worship \nLocation: Northport Elementary School 5421 Brooklyn Blvd\, Brooklyn Center \n\n           Download QR
URL:https://rfwm.org/event/sunday-worship-service-2/2025-02-16/
CATEGORIES:Sunday
ATTACH;FMTTYPE=image/png:https://rfwm.org/wp-content/uploads/2023/12/rfwm-flyer.png
END:VEVENT
BEGIN:VEVENT
DTSTART;TZID=UTC:20250215T140000
DTEND;TZID=UTC:20250215T170000
DTSTAMP:20260426T042712
CREATED:20250102T215129Z
LAST-MODIFIED:20250108T214142Z
UID:10226-1739628000-1739638800@rfwm.org
SUMMARY:Fellowship Gathering
DESCRIPTION:Join the RFWM Family for a time of fellowship and fun \nSaturday\, February 15\, 2025 at 2 pm \n8100 Newton Avenue\, Brooklyn Park \nRegister: CLICK HERE \n\n           Download QR
URL:https://rfwm.org/event/fellowship-gathering/
CATEGORIES:Saturday
ATTACH;FMTTYPE=image/png:https://rfwm.org/wp-content/uploads/2025/01/FELLOWSHIP-GATHERING-21525.png
END:VEVENT
BEGIN:VEVENT
DTSTART;TZID=UTC:20250214T183000
DTEND;TZID=UTC:20250214T200000
DTSTAMP:20260426T042712
CREATED:20241206T200438Z
LAST-MODIFIED:20250312T170114Z
UID:9380-1739557800-1739563200@rfwm.org
SUMMARY:Freedom Gathering
DESCRIPTION:Fridays 6:30 – 8 pm \n8525 Edinbrook Crossing \nBrooklyn Park\, MN 55443 \n\n           Download QR
URL:https://rfwm.org/event/freedom-gathering/2025-02-14/
CATEGORIES:Friday
ATTACH;FMTTYPE=image/png:https://rfwm.org/wp-content/uploads/2024/12/Freedom-Gathering-Group-Flyer-1-Facebook-Post-March-2025.png
END:VEVENT
BEGIN:VEVENT
DTSTART;TZID=UTC:20250212T183000
DTEND;TZID=UTC:20250212T203000
DTSTAMP:20260426T042712
CREATED:20240923T143534Z
LAST-MODIFIED:20240923T143534Z
UID:10297-1739385000-1739392200@rfwm.org
SUMMARY:Bible Study
DESCRIPTION:Join us for BIble Study on Wednesdays at Norwood Park 8100 Newton Avenue N\, Brooklyn Park \nPrayer – 6:30 pm \nBible Study – 7 pm \nChildcare NOT provided \n\n           Download QR
URL:https://rfwm.org/event/bible-study-3/2025-02-12/
CATEGORIES:Wednesday
ATTACH;FMTTYPE=image/png:https://rfwm.org/wp-content/uploads/2024/09/Bible-Study-Flyer-2-Updated.png
END:VEVENT
BEGIN:VEVENT
DTSTART;TZID=UTC:20250209T100000
DTEND;TZID=UTC:20250209T130000
DTSTAMP:20260426T042712
CREATED:20240903T132041Z
LAST-MODIFIED:20240903T132041Z
UID:10245-1739095200-1739106000@rfwm.org
SUMMARY:Sunday Worship Service
DESCRIPTION:Sunday Worship Service \n10 am Prayer \n11 am Worship \nLocation: Northport Elementary School 5421 Brooklyn Blvd\, Brooklyn Center \n\n           Download QR
URL:https://rfwm.org/event/sunday-worship-service-2/2025-02-09/
CATEGORIES:Sunday
ATTACH;FMTTYPE=image/png:https://rfwm.org/wp-content/uploads/2023/12/rfwm-flyer.png
END:VEVENT
BEGIN:VEVENT
DTSTART;TZID=UTC:20250207T183000
DTEND;TZID=UTC:20250207T200000
DTSTAMP:20260426T042712
CREATED:20241206T200438Z
LAST-MODIFIED:20250312T170113Z
UID:9379-1738953000-1738958400@rfwm.org
SUMMARY:Freedom Gathering
DESCRIPTION:Fridays 6:30 – 8 pm \n8525 Edinbrook Crossing \nBrooklyn Park\, MN 55443 \n\n           Download QR
URL:https://rfwm.org/event/freedom-gathering/2025-02-07/
CATEGORIES:Friday
ATTACH;FMTTYPE=image/png:https://rfwm.org/wp-content/uploads/2024/12/Freedom-Gathering-Group-Flyer-1-Facebook-Post-March-2025.png
END:VEVENT
BEGIN:VEVENT
DTSTART;TZID=UTC:20250205T183000
DTEND;TZID=UTC:20250205T203000
DTSTAMP:20260426T042712
CREATED:20240923T143534Z
LAST-MODIFIED:20240923T143534Z
UID:10296-1738780200-1738787400@rfwm.org
SUMMARY:Bible Study
DESCRIPTION:Join us for BIble Study on Wednesdays at Norwood Park 8100 Newton Avenue N\, Brooklyn Park \nPrayer – 6:30 pm \nBible Study – 7 pm \nChildcare NOT provided \n\n           Download QR
URL:https://rfwm.org/event/bible-study-3/2025-02-05/
CATEGORIES:Wednesday
ATTACH;FMTTYPE=image/png:https://rfwm.org/wp-content/uploads/2024/09/Bible-Study-Flyer-2-Updated.png
END:VEVENT
BEGIN:VEVENT
DTSTART;TZID=UTC:20250202T100000
DTEND;TZID=UTC:20250202T130000
DTSTAMP:20260426T042712
CREATED:20240903T132041Z
LAST-MODIFIED:20240903T132041Z
UID:10244-1738490400-1738501200@rfwm.org
SUMMARY:Sunday Worship Service
DESCRIPTION:Sunday Worship Service \n10 am Prayer \n11 am Worship \nLocation: Northport Elementary School 5421 Brooklyn Blvd\, Brooklyn Center \n\n           Download QR
URL:https://rfwm.org/event/sunday-worship-service-2/2025-02-02/
CATEGORIES:Sunday
ATTACH;FMTTYPE=image/png:https://rfwm.org/wp-content/uploads/2023/12/rfwm-flyer.png
END:VEVENT
BEGIN:VEVENT
DTSTART;TZID=UTC:20250131T183000
DTEND;TZID=UTC:20250131T200000
DTSTAMP:20260426T042712
CREATED:20241206T200438Z
LAST-MODIFIED:20250312T170113Z
UID:9378-1738348200-1738353600@rfwm.org
SUMMARY:Freedom Gathering
DESCRIPTION:Fridays 6:30 – 8 pm \n8525 Edinbrook Crossing \nBrooklyn Park\, MN 55443 \n\n           Download QR
URL:https://rfwm.org/event/freedom-gathering/2025-01-31/
CATEGORIES:Friday
ATTACH;FMTTYPE=image/png:https://rfwm.org/wp-content/uploads/2024/12/Freedom-Gathering-Group-Flyer-1-Facebook-Post-March-2025.png
END:VEVENT
BEGIN:VEVENT
DTSTART;TZID=UTC:20250129T183000
DTEND;TZID=UTC:20250129T203000
DTSTAMP:20260426T042712
CREATED:20240923T143534Z
LAST-MODIFIED:20240923T143534Z
UID:10295-1738175400-1738182600@rfwm.org
SUMMARY:Bible Study
DESCRIPTION:Join us for BIble Study on Wednesdays at Norwood Park 8100 Newton Avenue N\, Brooklyn Park \nPrayer – 6:30 pm \nBible Study – 7 pm \nChildcare NOT provided \n\n           Download QR
URL:https://rfwm.org/event/bible-study-3/2025-01-29/
CATEGORIES:Wednesday
ATTACH;FMTTYPE=image/png:https://rfwm.org/wp-content/uploads/2024/09/Bible-Study-Flyer-2-Updated.png
END:VEVENT
BEGIN:VEVENT
DTSTART;TZID=UTC:20250126T100000
DTEND;TZID=UTC:20250126T130000
DTSTAMP:20260426T042712
CREATED:20240903T132041Z
LAST-MODIFIED:20240903T132041Z
UID:10243-1737885600-1737896400@rfwm.org
SUMMARY:Sunday Worship Service
DESCRIPTION:Sunday Worship Service \n10 am Prayer \n11 am Worship \nLocation: Northport Elementary School 5421 Brooklyn Blvd\, Brooklyn Center \n\n           Download QR
URL:https://rfwm.org/event/sunday-worship-service-2/2025-01-26/
CATEGORIES:Sunday
ATTACH;FMTTYPE=image/png:https://rfwm.org/wp-content/uploads/2023/12/rfwm-flyer.png
END:VEVENT
BEGIN:VEVENT
DTSTART;TZID=UTC:20250124T183000
DTEND;TZID=UTC:20250124T200000
DTSTAMP:20260426T042712
CREATED:20241206T200438Z
LAST-MODIFIED:20250312T170113Z
UID:9377-1737743400-1737748800@rfwm.org
SUMMARY:Freedom Gathering
DESCRIPTION:Fridays 6:30 – 8 pm \n8525 Edinbrook Crossing \nBrooklyn Park\, MN 55443 \n\n           Download QR
URL:https://rfwm.org/event/freedom-gathering/2025-01-24/
CATEGORIES:Friday
ATTACH;FMTTYPE=image/png:https://rfwm.org/wp-content/uploads/2024/12/Freedom-Gathering-Group-Flyer-1-Facebook-Post-March-2025.png
END:VEVENT
BEGIN:VEVENT
DTSTART;TZID=UTC:20250122T183000
DTEND;TZID=UTC:20250122T203000
DTSTAMP:20260426T042712
CREATED:20240923T143534Z
LAST-MODIFIED:20240923T143534Z
UID:10294-1737570600-1737577800@rfwm.org
SUMMARY:Bible Study
DESCRIPTION:Join us for BIble Study on Wednesdays at Norwood Park 8100 Newton Avenue N\, Brooklyn Park \nPrayer – 6:30 pm \nBible Study – 7 pm \nChildcare NOT provided \n\n           Download QR
URL:https://rfwm.org/event/bible-study-3/2025-01-22/
CATEGORIES:Wednesday
ATTACH;FMTTYPE=image/png:https://rfwm.org/wp-content/uploads/2024/09/Bible-Study-Flyer-2-Updated.png
END:VEVENT
BEGIN:VEVENT
DTSTART;TZID=UTC:20250119T100000
DTEND;TZID=UTC:20250119T130000
DTSTAMP:20260426T042712
CREATED:20240903T132041Z
LAST-MODIFIED:20240903T132041Z
UID:10242-1737280800-1737291600@rfwm.org
SUMMARY:Sunday Worship Service
DESCRIPTION:Sunday Worship Service \n10 am Prayer \n11 am Worship \nLocation: Northport Elementary School 5421 Brooklyn Blvd\, Brooklyn Center \n\n           Download QR
URL:https://rfwm.org/event/sunday-worship-service-2/2025-01-19/
CATEGORIES:Sunday
ATTACH;FMTTYPE=image/png:https://rfwm.org/wp-content/uploads/2023/12/rfwm-flyer.png
END:VEVENT
BEGIN:VEVENT
DTSTART;TZID=UTC:20250117T183000
DTEND;TZID=UTC:20250117T200000
DTSTAMP:20260426T042712
CREATED:20241206T200438Z
LAST-MODIFIED:20250312T170112Z
UID:9376-1737138600-1737144000@rfwm.org
SUMMARY:Freedom Gathering
DESCRIPTION:Fridays 6:30 – 8 pm \n8525 Edinbrook Crossing \nBrooklyn Park\, MN 55443 \n\n           Download QR
URL:https://rfwm.org/event/freedom-gathering/2025-01-17/
CATEGORIES:Friday
ATTACH;FMTTYPE=image/png:https://rfwm.org/wp-content/uploads/2024/12/Freedom-Gathering-Group-Flyer-1-Facebook-Post-March-2025.png
END:VEVENT
BEGIN:VEVENT
DTSTART;TZID=UTC:20250115T183000
DTEND;TZID=UTC:20250115T203000
DTSTAMP:20260426T042712
CREATED:20240923T143534Z
LAST-MODIFIED:20240923T143534Z
UID:10293-1736965800-1736973000@rfwm.org
SUMMARY:Bible Study
DESCRIPTION:Join us for BIble Study on Wednesdays at Norwood Park 8100 Newton Avenue N\, Brooklyn Park \nPrayer – 6:30 pm \nBible Study – 7 pm \nChildcare NOT provided \n\n           Download QR
URL:https://rfwm.org/event/bible-study-3/2025-01-15/
CATEGORIES:Wednesday
ATTACH;FMTTYPE=image/png:https://rfwm.org/wp-content/uploads/2024/09/Bible-Study-Flyer-2-Updated.png
END:VEVENT
BEGIN:VEVENT
DTSTART;TZID=UTC:20250112T100000
DTEND;TZID=UTC:20250112T130000
DTSTAMP:20260426T042712
CREATED:20240903T132041Z
LAST-MODIFIED:20240903T132041Z
UID:10241-1736676000-1736686800@rfwm.org
SUMMARY:Sunday Worship Service
DESCRIPTION:Sunday Worship Service \n10 am Prayer \n11 am Worship \nLocation: Northport Elementary School 5421 Brooklyn Blvd\, Brooklyn Center \n\n           Download QR
URL:https://rfwm.org/event/sunday-worship-service-2/2025-01-12/
CATEGORIES:Sunday
ATTACH;FMTTYPE=image/png:https://rfwm.org/wp-content/uploads/2023/12/rfwm-flyer.png
END:VEVENT
BEGIN:VEVENT
DTSTART;TZID=UTC:20250111T090000
DTEND;TZID=UTC:20250111T110000
DTSTAMP:20260426T042712
CREATED:20241220T191512Z
LAST-MODIFIED:20250411T020148Z
UID:10165-1736586000-1736593200@rfwm.org
SUMMARY:Men's Ministry Gathering
DESCRIPTION:Men’s Ministry Gathering \nJanuary 11\, 2025 @ 9 am \nRFWM Office 8525 Edinbrook Crossing\, Brooklyn Park \n\n           Download QR
URL:https://rfwm.org/event/mens-ministry-gathering/
ATTACH;FMTTYPE=image/jpeg:https://rfwm.org/wp-content/uploads/2024/12/RFWM-Mens-Ministry.jpg
END:VEVENT
BEGIN:VEVENT
DTSTART;TZID=UTC:20250110T183000
DTEND;TZID=UTC:20250110T200000
DTSTAMP:20260426T042712
CREATED:20241206T200438Z
LAST-MODIFIED:20250312T170112Z
UID:9375-1736533800-1736539200@rfwm.org
SUMMARY:Freedom Gathering
DESCRIPTION:Fridays 6:30 – 8 pm \n8525 Edinbrook Crossing \nBrooklyn Park\, MN 55443 \n\n           Download QR
URL:https://rfwm.org/event/freedom-gathering/2025-01-10/
CATEGORIES:Friday
ATTACH;FMTTYPE=image/png:https://rfwm.org/wp-content/uploads/2024/12/Freedom-Gathering-Group-Flyer-1-Facebook-Post-March-2025.png
END:VEVENT
BEGIN:VEVENT
DTSTART;TZID=UTC:20250108T183000
DTEND;TZID=UTC:20250108T203000
DTSTAMP:20260426T042712
CREATED:20240923T143534Z
LAST-MODIFIED:20240923T143534Z
UID:10292-1736361000-1736368200@rfwm.org
SUMMARY:Bible Study
DESCRIPTION:Join us for BIble Study on Wednesdays at Norwood Park 8100 Newton Avenue N\, Brooklyn Park \nPrayer – 6:30 pm \nBible Study – 7 pm \nChildcare NOT provided \n\n           Download QR
URL:https://rfwm.org/event/bible-study-3/2025-01-08/
CATEGORIES:Wednesday
ATTACH;FMTTYPE=image/png:https://rfwm.org/wp-content/uploads/2024/09/Bible-Study-Flyer-2-Updated.png
END:VEVENT
END:VCALENDAR