BEGIN:VCALENDAR
VERSION:2.0
PRODID:-//RFWM - ECPv6.15.20//NONSGML v1.0//EN
CALSCALE:GREGORIAN
METHOD:PUBLISH
X-ORIGINAL-URL:https://rfwm.org
X-WR-CALDESC:Events for RFWM
REFRESH-INTERVAL;VALUE=DURATION:PT1H
X-Robots-Tag:noindex
X-PUBLISHED-TTL:PT1H
BEGIN:VTIMEZONE
TZID:UTC
BEGIN:STANDARD
TZOFFSETFROM:+0000
TZOFFSETTO:+0000
TZNAME:UTC
DTSTART:20250101T000000
END:STANDARD
END:VTIMEZONE
BEGIN:VEVENT
DTSTART;TZID=UTC:20261011T100000
DTEND;TZID=UTC:20261011T130000
DTSTAMP:20260425T235444
CREATED:20260215T003538Z
LAST-MODIFIED:20260311T130851Z
UID:12706-1791712800-1791723600@rfwm.org
SUMMARY:Sunday Service
DESCRIPTION:10 am Prayer \n11 am Service \nChild Care Provided \nChildren’s Church Immediately following Praise and Worship \n\n           Download QR
URL:https://rfwm.org/event/sunday-service-5/2026-10-11/
CATEGORIES:Sunday
ATTACH;FMTTYPE=image/png:https://rfwm.org/wp-content/uploads/2026/02/RFWM-Services-Flyer-March-2026.png
END:VEVENT
BEGIN:VEVENT
DTSTART;TZID=UTC:20261014T080000
DTEND;TZID=UTC:20261014T170000
DTSTAMP:20260425T235444
CREATED:20260216T002814Z
LAST-MODIFIED:20260216T003042Z
UID:12952-1791964800-1791997200@rfwm.org
SUMMARY:Midweek Service
DESCRIPTION:Wednesdays \n6pm Prayer & 7pm Bible Study \n\n           Download QR
URL:https://rfwm.org/event/n-midweek-service/2026-10-14/
ATTACH;FMTTYPE=image/png:https://rfwm.org/wp-content/uploads/2026/02/Screenshot-2026-02-15-182509.png
END:VEVENT
BEGIN:VEVENT
DTSTART;TZID=UTC:20261016T183000
DTEND;TZID=UTC:20261016T200000
DTSTAMP:20260425T235444
CREATED:20260310T002726Z
LAST-MODIFIED:20260311T125805Z
UID:13206-1792175400-1792180800@rfwm.org
SUMMARY:Freedom Gathering
DESCRIPTION:Fridays 6:30 pm \n\n           Download QR
URL:https://rfwm.org/event/freedom-gathering-2/2026-10-16/
ATTACH;FMTTYPE=image/png:https://rfwm.org/wp-content/uploads/2026/03/Freedom-Gathering-Group-Flyer-2-8.5-x-11-in-1.png
END:VEVENT
BEGIN:VEVENT
DTSTART;TZID=UTC:20261017T080000
DTEND;TZID=UTC:20261017T170000
DTSTAMP:20260425T235444
CREATED:20260310T003039Z
LAST-MODIFIED:20260310T003039Z
UID:13249-1792224000-1792256400@rfwm.org
SUMMARY:Corporate Prayer
DESCRIPTION:Saturdays 10 am \n\n           Download QR
URL:https://rfwm.org/event/corporate-prayer-2/2026-10-17/
ATTACH;FMTTYPE=image/png:https://rfwm.org/wp-content/uploads/2026/02/Copy-of-IG-SERMON-Snippet.png
END:VEVENT
BEGIN:VEVENT
DTSTART;TZID=UTC:20261018T100000
DTEND;TZID=UTC:20261018T130000
DTSTAMP:20260425T235444
CREATED:20260215T003538Z
LAST-MODIFIED:20260311T130851Z
UID:12707-1792317600-1792328400@rfwm.org
SUMMARY:Sunday Service
DESCRIPTION:10 am Prayer \n11 am Service \nChild Care Provided \nChildren’s Church Immediately following Praise and Worship \n\n           Download QR
URL:https://rfwm.org/event/sunday-service-5/2026-10-18/
CATEGORIES:Sunday
ATTACH;FMTTYPE=image/png:https://rfwm.org/wp-content/uploads/2026/02/RFWM-Services-Flyer-March-2026.png
END:VEVENT
BEGIN:VEVENT
DTSTART;TZID=UTC:20261021T080000
DTEND;TZID=UTC:20261021T170000
DTSTAMP:20260425T235444
CREATED:20260216T002814Z
LAST-MODIFIED:20260216T003042Z
UID:12953-1792569600-1792602000@rfwm.org
SUMMARY:Midweek Service
DESCRIPTION:Wednesdays \n6pm Prayer & 7pm Bible Study \n\n           Download QR
URL:https://rfwm.org/event/n-midweek-service/2026-10-21/
ATTACH;FMTTYPE=image/png:https://rfwm.org/wp-content/uploads/2026/02/Screenshot-2026-02-15-182509.png
END:VEVENT
BEGIN:VEVENT
DTSTART;TZID=UTC:20261023T183000
DTEND;TZID=UTC:20261023T200000
DTSTAMP:20260425T235444
CREATED:20260310T002726Z
LAST-MODIFIED:20260311T125806Z
UID:13207-1792780200-1792785600@rfwm.org
SUMMARY:Freedom Gathering
DESCRIPTION:Fridays 6:30 pm \n\n           Download QR
URL:https://rfwm.org/event/freedom-gathering-2/2026-10-23/
ATTACH;FMTTYPE=image/png:https://rfwm.org/wp-content/uploads/2026/03/Freedom-Gathering-Group-Flyer-2-8.5-x-11-in-1.png
END:VEVENT
BEGIN:VEVENT
DTSTART;TZID=UTC:20261024T080000
DTEND;TZID=UTC:20261024T170000
DTSTAMP:20260425T235444
CREATED:20260310T003039Z
LAST-MODIFIED:20260310T003039Z
UID:13250-1792828800-1792861200@rfwm.org
SUMMARY:Corporate Prayer
DESCRIPTION:Saturdays 10 am \n\n           Download QR
URL:https://rfwm.org/event/corporate-prayer-2/2026-10-24/
ATTACH;FMTTYPE=image/png:https://rfwm.org/wp-content/uploads/2026/02/Copy-of-IG-SERMON-Snippet.png
END:VEVENT
BEGIN:VEVENT
DTSTART;TZID=UTC:20261025T100000
DTEND;TZID=UTC:20261025T130000
DTSTAMP:20260425T235444
CREATED:20260215T003538Z
LAST-MODIFIED:20260311T130852Z
UID:12708-1792922400-1792933200@rfwm.org
SUMMARY:Sunday Service
DESCRIPTION:10 am Prayer \n11 am Service \nChild Care Provided \nChildren’s Church Immediately following Praise and Worship \n\n           Download QR
URL:https://rfwm.org/event/sunday-service-5/2026-10-25/
CATEGORIES:Sunday
ATTACH;FMTTYPE=image/png:https://rfwm.org/wp-content/uploads/2026/02/RFWM-Services-Flyer-March-2026.png
END:VEVENT
BEGIN:VEVENT
DTSTART;TZID=UTC:20261028T080000
DTEND;TZID=UTC:20261028T170000
DTSTAMP:20260425T235444
CREATED:20260216T002814Z
LAST-MODIFIED:20260216T003043Z
UID:12954-1793174400-1793206800@rfwm.org
SUMMARY:Midweek Service
DESCRIPTION:Wednesdays \n6pm Prayer & 7pm Bible Study \n\n           Download QR
URL:https://rfwm.org/event/n-midweek-service/2026-10-28/
ATTACH;FMTTYPE=image/png:https://rfwm.org/wp-content/uploads/2026/02/Screenshot-2026-02-15-182509.png
END:VEVENT
BEGIN:VEVENT
DTSTART;TZID=UTC:20261030T183000
DTEND;TZID=UTC:20261030T200000
DTSTAMP:20260425T235444
CREATED:20260310T002726Z
LAST-MODIFIED:20260311T125806Z
UID:13208-1793385000-1793390400@rfwm.org
SUMMARY:Freedom Gathering
DESCRIPTION:Fridays 6:30 pm \n\n           Download QR
URL:https://rfwm.org/event/freedom-gathering-2/2026-10-30/
ATTACH;FMTTYPE=image/png:https://rfwm.org/wp-content/uploads/2026/03/Freedom-Gathering-Group-Flyer-2-8.5-x-11-in-1.png
END:VEVENT
BEGIN:VEVENT
DTSTART;TZID=UTC:20261031T080000
DTEND;TZID=UTC:20261031T170000
DTSTAMP:20260425T235444
CREATED:20260310T003039Z
LAST-MODIFIED:20260310T003039Z
UID:13251-1793433600-1793466000@rfwm.org
SUMMARY:Corporate Prayer
DESCRIPTION:Saturdays 10 am \n\n           Download QR
URL:https://rfwm.org/event/corporate-prayer-2/2026-10-31/
ATTACH;FMTTYPE=image/png:https://rfwm.org/wp-content/uploads/2026/02/Copy-of-IG-SERMON-Snippet.png
END:VEVENT
BEGIN:VEVENT
DTSTART;TZID=UTC:20261101T100000
DTEND;TZID=UTC:20261101T130000
DTSTAMP:20260425T235444
CREATED:20260215T003538Z
LAST-MODIFIED:20260311T130852Z
UID:12709-1793527200-1793538000@rfwm.org
SUMMARY:Sunday Service
DESCRIPTION:10 am Prayer \n11 am Service \nChild Care Provided \nChildren’s Church Immediately following Praise and Worship \n\n           Download QR
URL:https://rfwm.org/event/sunday-service-5/2026-11-01/
CATEGORIES:Sunday
ATTACH;FMTTYPE=image/png:https://rfwm.org/wp-content/uploads/2026/02/RFWM-Services-Flyer-March-2026.png
END:VEVENT
BEGIN:VEVENT
DTSTART;TZID=UTC:20261104T080000
DTEND;TZID=UTC:20261104T170000
DTSTAMP:20260425T235444
CREATED:20260216T002814Z
LAST-MODIFIED:20260216T003043Z
UID:12955-1793779200-1793811600@rfwm.org
SUMMARY:Midweek Service
DESCRIPTION:Wednesdays \n6pm Prayer & 7pm Bible Study \n\n           Download QR
URL:https://rfwm.org/event/n-midweek-service/2026-11-04/
ATTACH;FMTTYPE=image/png:https://rfwm.org/wp-content/uploads/2026/02/Screenshot-2026-02-15-182509.png
END:VEVENT
BEGIN:VEVENT
DTSTART;TZID=UTC:20261106T183000
DTEND;TZID=UTC:20261106T200000
DTSTAMP:20260425T235444
CREATED:20260310T002726Z
LAST-MODIFIED:20260311T125807Z
UID:13209-1793989800-1793995200@rfwm.org
SUMMARY:Freedom Gathering
DESCRIPTION:Fridays 6:30 pm \n\n           Download QR
URL:https://rfwm.org/event/freedom-gathering-2/2026-11-06/
ATTACH;FMTTYPE=image/png:https://rfwm.org/wp-content/uploads/2026/03/Freedom-Gathering-Group-Flyer-2-8.5-x-11-in-1.png
END:VEVENT
BEGIN:VEVENT
DTSTART;TZID=UTC:20261107T080000
DTEND;TZID=UTC:20261107T170000
DTSTAMP:20260425T235444
CREATED:20260310T003039Z
LAST-MODIFIED:20260310T003039Z
UID:13252-1794038400-1794070800@rfwm.org
SUMMARY:Corporate Prayer
DESCRIPTION:Saturdays 10 am \n\n           Download QR
URL:https://rfwm.org/event/corporate-prayer-2/2026-11-07/
ATTACH;FMTTYPE=image/png:https://rfwm.org/wp-content/uploads/2026/02/Copy-of-IG-SERMON-Snippet.png
END:VEVENT
BEGIN:VEVENT
DTSTART;TZID=UTC:20261108T100000
DTEND;TZID=UTC:20261108T130000
DTSTAMP:20260425T235444
CREATED:20260215T003538Z
LAST-MODIFIED:20260311T130852Z
UID:12710-1794132000-1794142800@rfwm.org
SUMMARY:Sunday Service
DESCRIPTION:10 am Prayer \n11 am Service \nChild Care Provided \nChildren’s Church Immediately following Praise and Worship \n\n           Download QR
URL:https://rfwm.org/event/sunday-service-5/2026-11-08/
CATEGORIES:Sunday
ATTACH;FMTTYPE=image/png:https://rfwm.org/wp-content/uploads/2026/02/RFWM-Services-Flyer-March-2026.png
END:VEVENT
BEGIN:VEVENT
DTSTART;TZID=UTC:20261111T080000
DTEND;TZID=UTC:20261111T170000
DTSTAMP:20260425T235444
CREATED:20260216T002814Z
LAST-MODIFIED:20260216T003043Z
UID:12956-1794384000-1794416400@rfwm.org
SUMMARY:Midweek Service
DESCRIPTION:Wednesdays \n6pm Prayer & 7pm Bible Study \n\n           Download QR
URL:https://rfwm.org/event/n-midweek-service/2026-11-11/
ATTACH;FMTTYPE=image/png:https://rfwm.org/wp-content/uploads/2026/02/Screenshot-2026-02-15-182509.png
END:VEVENT
BEGIN:VEVENT
DTSTART;TZID=UTC:20261113T183000
DTEND;TZID=UTC:20261113T200000
DTSTAMP:20260425T235444
CREATED:20260310T002726Z
LAST-MODIFIED:20260311T125807Z
UID:13210-1794594600-1794600000@rfwm.org
SUMMARY:Freedom Gathering
DESCRIPTION:Fridays 6:30 pm \n\n           Download QR
URL:https://rfwm.org/event/freedom-gathering-2/2026-11-13/
ATTACH;FMTTYPE=image/png:https://rfwm.org/wp-content/uploads/2026/03/Freedom-Gathering-Group-Flyer-2-8.5-x-11-in-1.png
END:VEVENT
BEGIN:VEVENT
DTSTART;TZID=UTC:20261114T080000
DTEND;TZID=UTC:20261114T170000
DTSTAMP:20260425T235444
CREATED:20260310T003039Z
LAST-MODIFIED:20260310T003039Z
UID:13253-1794643200-1794675600@rfwm.org
SUMMARY:Corporate Prayer
DESCRIPTION:Saturdays 10 am \n\n           Download QR
URL:https://rfwm.org/event/corporate-prayer-2/2026-11-14/
ATTACH;FMTTYPE=image/png:https://rfwm.org/wp-content/uploads/2026/02/Copy-of-IG-SERMON-Snippet.png
END:VEVENT
BEGIN:VEVENT
DTSTART;TZID=UTC:20261115T100000
DTEND;TZID=UTC:20261115T130000
DTSTAMP:20260425T235444
CREATED:20260215T003538Z
LAST-MODIFIED:20260311T130853Z
UID:12711-1794736800-1794747600@rfwm.org
SUMMARY:Sunday Service
DESCRIPTION:10 am Prayer \n11 am Service \nChild Care Provided \nChildren’s Church Immediately following Praise and Worship \n\n           Download QR
URL:https://rfwm.org/event/sunday-service-5/2026-11-15/
CATEGORIES:Sunday
ATTACH;FMTTYPE=image/png:https://rfwm.org/wp-content/uploads/2026/02/RFWM-Services-Flyer-March-2026.png
END:VEVENT
BEGIN:VEVENT
DTSTART;TZID=UTC:20261118T080000
DTEND;TZID=UTC:20261118T170000
DTSTAMP:20260425T235444
CREATED:20260216T002814Z
LAST-MODIFIED:20260216T003043Z
UID:12957-1794988800-1795021200@rfwm.org
SUMMARY:Midweek Service
DESCRIPTION:Wednesdays \n6pm Prayer & 7pm Bible Study \n\n           Download QR
URL:https://rfwm.org/event/n-midweek-service/2026-11-18/
ATTACH;FMTTYPE=image/png:https://rfwm.org/wp-content/uploads/2026/02/Screenshot-2026-02-15-182509.png
END:VEVENT
BEGIN:VEVENT
DTSTART;TZID=UTC:20261120T183000
DTEND;TZID=UTC:20261120T200000
DTSTAMP:20260425T235444
CREATED:20260310T002726Z
LAST-MODIFIED:20260311T125807Z
UID:13211-1795199400-1795204800@rfwm.org
SUMMARY:Freedom Gathering
DESCRIPTION:Fridays 6:30 pm \n\n           Download QR
URL:https://rfwm.org/event/freedom-gathering-2/2026-11-20/
ATTACH;FMTTYPE=image/png:https://rfwm.org/wp-content/uploads/2026/03/Freedom-Gathering-Group-Flyer-2-8.5-x-11-in-1.png
END:VEVENT
BEGIN:VEVENT
DTSTART;TZID=UTC:20261121T080000
DTEND;TZID=UTC:20261121T170000
DTSTAMP:20260425T235444
CREATED:20260310T003039Z
LAST-MODIFIED:20260310T003039Z
UID:13254-1795248000-1795280400@rfwm.org
SUMMARY:Corporate Prayer
DESCRIPTION:Saturdays 10 am \n\n           Download QR
URL:https://rfwm.org/event/corporate-prayer-2/2026-11-21/
ATTACH;FMTTYPE=image/png:https://rfwm.org/wp-content/uploads/2026/02/Copy-of-IG-SERMON-Snippet.png
END:VEVENT
BEGIN:VEVENT
DTSTART;TZID=UTC:20261122T100000
DTEND;TZID=UTC:20261122T130000
DTSTAMP:20260425T235444
CREATED:20260215T003538Z
LAST-MODIFIED:20260311T130854Z
UID:12712-1795341600-1795352400@rfwm.org
SUMMARY:Sunday Service
DESCRIPTION:10 am Prayer \n11 am Service \nChild Care Provided \nChildren’s Church Immediately following Praise and Worship \n\n           Download QR
URL:https://rfwm.org/event/sunday-service-5/2026-11-22/
CATEGORIES:Sunday
ATTACH;FMTTYPE=image/png:https://rfwm.org/wp-content/uploads/2026/02/RFWM-Services-Flyer-March-2026.png
END:VEVENT
BEGIN:VEVENT
DTSTART;TZID=UTC:20261125T080000
DTEND;TZID=UTC:20261125T170000
DTSTAMP:20260425T235444
CREATED:20260216T002814Z
LAST-MODIFIED:20260216T003044Z
UID:12958-1795593600-1795626000@rfwm.org
SUMMARY:Midweek Service
DESCRIPTION:Wednesdays \n6pm Prayer & 7pm Bible Study \n\n           Download QR
URL:https://rfwm.org/event/n-midweek-service/2026-11-25/
ATTACH;FMTTYPE=image/png:https://rfwm.org/wp-content/uploads/2026/02/Screenshot-2026-02-15-182509.png
END:VEVENT
BEGIN:VEVENT
DTSTART;TZID=UTC:20261127T183000
DTEND;TZID=UTC:20261127T200000
DTSTAMP:20260425T235444
CREATED:20260310T002726Z
LAST-MODIFIED:20260311T125807Z
UID:13212-1795804200-1795809600@rfwm.org
SUMMARY:Freedom Gathering
DESCRIPTION:Fridays 6:30 pm \n\n           Download QR
URL:https://rfwm.org/event/freedom-gathering-2/2026-11-27/
ATTACH;FMTTYPE=image/png:https://rfwm.org/wp-content/uploads/2026/03/Freedom-Gathering-Group-Flyer-2-8.5-x-11-in-1.png
END:VEVENT
BEGIN:VEVENT
DTSTART;TZID=UTC:20261128T080000
DTEND;TZID=UTC:20261128T170000
DTSTAMP:20260425T235444
CREATED:20260310T003039Z
LAST-MODIFIED:20260310T003039Z
UID:13255-1795852800-1795885200@rfwm.org
SUMMARY:Corporate Prayer
DESCRIPTION:Saturdays 10 am \n\n           Download QR
URL:https://rfwm.org/event/corporate-prayer-2/2026-11-28/
ATTACH;FMTTYPE=image/png:https://rfwm.org/wp-content/uploads/2026/02/Copy-of-IG-SERMON-Snippet.png
END:VEVENT
BEGIN:VEVENT
DTSTART;TZID=UTC:20261129T100000
DTEND;TZID=UTC:20261129T130000
DTSTAMP:20260425T235444
CREATED:20260215T003538Z
LAST-MODIFIED:20260311T130854Z
UID:12713-1795946400-1795957200@rfwm.org
SUMMARY:Sunday Service
DESCRIPTION:10 am Prayer \n11 am Service \nChild Care Provided \nChildren’s Church Immediately following Praise and Worship \n\n           Download QR
URL:https://rfwm.org/event/sunday-service-5/2026-11-29/
CATEGORIES:Sunday
ATTACH;FMTTYPE=image/png:https://rfwm.org/wp-content/uploads/2026/02/RFWM-Services-Flyer-March-2026.png
END:VEVENT
BEGIN:VEVENT
DTSTART;TZID=UTC:20261202T080000
DTEND;TZID=UTC:20261202T170000
DTSTAMP:20260425T235444
CREATED:20260216T002814Z
LAST-MODIFIED:20260216T003044Z
UID:12959-1796198400-1796230800@rfwm.org
SUMMARY:Midweek Service
DESCRIPTION:Wednesdays \n6pm Prayer & 7pm Bible Study \n\n           Download QR
URL:https://rfwm.org/event/n-midweek-service/2026-12-02/
ATTACH;FMTTYPE=image/png:https://rfwm.org/wp-content/uploads/2026/02/Screenshot-2026-02-15-182509.png
END:VEVENT
END:VCALENDAR