BEGIN:VCALENDAR
VERSION:2.0
PRODID:-//RFWM - ECPv6.15.20//NONSGML v1.0//EN
CALSCALE:GREGORIAN
METHOD:PUBLISH
X-WR-CALNAME:RFWM
X-ORIGINAL-URL:https://rfwm.org
X-WR-CALDESC:Events for RFWM
REFRESH-INTERVAL;VALUE=DURATION:PT1H
X-Robots-Tag:noindex
X-PUBLISHED-TTL:PT1H
BEGIN:VTIMEZONE
TZID:UTC
BEGIN:STANDARD
TZOFFSETFROM:+0000
TZOFFSETTO:+0000
TZNAME:UTC
DTSTART:20240101T000000
END:STANDARD
END:VTIMEZONE
BEGIN:VEVENT
DTSTART;TZID=UTC:20251122T070000
DTEND;TZID=UTC:20251122T080000
DTSTAMP:20260426T001446
CREATED:20251007T214310Z
LAST-MODIFIED:20251007T214310Z
UID:12470-1763794800-1763798400@rfwm.org
SUMMARY:Weekly Prayer
DESCRIPTION:Weekly Prayer Option #2 \nSaturdays 7-8am \nRFWM Office \n8525 Edinbrook Crossing Suite 12\, Brooklyn Park \n\n           Download QR
URL:https://rfwm.org/event/weekly-prayer-2/2025-11-22/
END:VEVENT
BEGIN:VEVENT
DTSTART;TZID=UTC:20251121T183000
DTEND;TZID=UTC:20251121T200000
DTSTAMP:20260426T001446
CREATED:20241206T200438Z
LAST-MODIFIED:20250312T170139Z
UID:9421-1763749800-1763755200@rfwm.org
SUMMARY:Freedom Gathering
DESCRIPTION:Fridays 6:30 – 8 pm \n8525 Edinbrook Crossing \nBrooklyn Park\, MN 55443 \n\n           Download QR
URL:https://rfwm.org/event/freedom-gathering/2025-11-21/
CATEGORIES:Friday
ATTACH;FMTTYPE=image/png:https://rfwm.org/wp-content/uploads/2024/12/Freedom-Gathering-Group-Flyer-1-Facebook-Post-March-2025.png
END:VEVENT
BEGIN:VEVENT
DTSTART;TZID=UTC:20251119T180000
DTEND;TZID=UTC:20251119T203000
DTSTAMP:20260426T001446
CREATED:20250918T230253Z
LAST-MODIFIED:20250918T230253Z
UID:12152-1763575200-1763584200@rfwm.org
SUMMARY:Bible Study
DESCRIPTION:6 pm Prayer \n7 pm Bible Study \nNorwood Park \n8100 Newton Avenue N\, Brooklyn Park \n\n           Download QR
URL:https://rfwm.org/event/bible-study-8/2025-11-19/
CATEGORIES:Wednesday
END:VEVENT
BEGIN:VEVENT
DTSTART;TZID=UTC:20251118T190000
DTEND;TZID=UTC:20251118T200000
DTSTAMP:20260426T001446
CREATED:20251007T214117Z
LAST-MODIFIED:20251007T214117Z
UID:12456-1763492400-1763496000@rfwm.org
SUMMARY:Weekly Prayer
DESCRIPTION:Join us for weekly prayer Tuesday 7-8pm \nRFWM Office 8525 Edinbrook Crossing Suite 15\, Brooklyn Park \n\n           Download QR
URL:https://rfwm.org/event/weekly-prayer/2025-11-18/
END:VEVENT
BEGIN:VEVENT
DTSTART;TZID=UTC:20251115T070000
DTEND;TZID=UTC:20251115T080000
DTSTAMP:20260426T001446
CREATED:20251007T214310Z
LAST-MODIFIED:20251007T214310Z
UID:12469-1763190000-1763193600@rfwm.org
SUMMARY:Weekly Prayer
DESCRIPTION:Weekly Prayer Option #2 \nSaturdays 7-8am \nRFWM Office \n8525 Edinbrook Crossing Suite 12\, Brooklyn Park \n\n           Download QR
URL:https://rfwm.org/event/weekly-prayer-2/2025-11-15/
END:VEVENT
BEGIN:VEVENT
DTSTART;TZID=UTC:20251114T183000
DTEND;TZID=UTC:20251114T200000
DTSTAMP:20260426T001446
CREATED:20241206T200438Z
LAST-MODIFIED:20250312T170139Z
UID:9420-1763145000-1763150400@rfwm.org
SUMMARY:Freedom Gathering
DESCRIPTION:Fridays 6:30 – 8 pm \n8525 Edinbrook Crossing \nBrooklyn Park\, MN 55443 \n\n           Download QR
URL:https://rfwm.org/event/freedom-gathering/2025-11-14/
CATEGORIES:Friday
ATTACH;FMTTYPE=image/png:https://rfwm.org/wp-content/uploads/2024/12/Freedom-Gathering-Group-Flyer-1-Facebook-Post-March-2025.png
END:VEVENT
BEGIN:VEVENT
DTSTART;TZID=UTC:20251112T180000
DTEND;TZID=UTC:20251112T203000
DTSTAMP:20260426T001446
CREATED:20250918T230253Z
LAST-MODIFIED:20250918T230253Z
UID:12151-1762970400-1762979400@rfwm.org
SUMMARY:Bible Study
DESCRIPTION:6 pm Prayer \n7 pm Bible Study \nNorwood Park \n8100 Newton Avenue N\, Brooklyn Park \n\n           Download QR
URL:https://rfwm.org/event/bible-study-8/2025-11-12/
CATEGORIES:Wednesday
END:VEVENT
BEGIN:VEVENT
DTSTART;TZID=UTC:20251111T190000
DTEND;TZID=UTC:20251111T200000
DTSTAMP:20260426T001446
CREATED:20251007T214117Z
LAST-MODIFIED:20251007T214117Z
UID:12455-1762887600-1762891200@rfwm.org
SUMMARY:Weekly Prayer
DESCRIPTION:Join us for weekly prayer Tuesday 7-8pm \nRFWM Office 8525 Edinbrook Crossing Suite 15\, Brooklyn Park \n\n           Download QR
URL:https://rfwm.org/event/weekly-prayer/2025-11-11/
END:VEVENT
BEGIN:VEVENT
DTSTART;TZID=UTC:20251108T070000
DTEND;TZID=UTC:20251108T080000
DTSTAMP:20260426T001446
CREATED:20251007T214310Z
LAST-MODIFIED:20251007T214310Z
UID:12468-1762585200-1762588800@rfwm.org
SUMMARY:Weekly Prayer
DESCRIPTION:Weekly Prayer Option #2 \nSaturdays 7-8am \nRFWM Office \n8525 Edinbrook Crossing Suite 12\, Brooklyn Park \n\n           Download QR
URL:https://rfwm.org/event/weekly-prayer-2/2025-11-08/
END:VEVENT
BEGIN:VEVENT
DTSTART;TZID=UTC:20251107T183000
DTEND;TZID=UTC:20251107T200000
DTSTAMP:20260426T001446
CREATED:20241206T200438Z
LAST-MODIFIED:20250312T170139Z
UID:9419-1762540200-1762545600@rfwm.org
SUMMARY:Freedom Gathering
DESCRIPTION:Fridays 6:30 – 8 pm \n8525 Edinbrook Crossing \nBrooklyn Park\, MN 55443 \n\n           Download QR
URL:https://rfwm.org/event/freedom-gathering/2025-11-07/
CATEGORIES:Friday
ATTACH;FMTTYPE=image/png:https://rfwm.org/wp-content/uploads/2024/12/Freedom-Gathering-Group-Flyer-1-Facebook-Post-March-2025.png
END:VEVENT
BEGIN:VEVENT
DTSTART;TZID=UTC:20251105T180000
DTEND;TZID=UTC:20251105T203000
DTSTAMP:20260426T001446
CREATED:20250918T230253Z
LAST-MODIFIED:20250918T230253Z
UID:12150-1762365600-1762374600@rfwm.org
SUMMARY:Bible Study
DESCRIPTION:6 pm Prayer \n7 pm Bible Study \nNorwood Park \n8100 Newton Avenue N\, Brooklyn Park \n\n           Download QR
URL:https://rfwm.org/event/bible-study-8/2025-11-05/
CATEGORIES:Wednesday
END:VEVENT
BEGIN:VEVENT
DTSTART;TZID=UTC:20251104T190000
DTEND;TZID=UTC:20251104T200000
DTSTAMP:20260426T001446
CREATED:20251007T214117Z
LAST-MODIFIED:20251007T214117Z
UID:12454-1762282800-1762286400@rfwm.org
SUMMARY:Weekly Prayer
DESCRIPTION:Join us for weekly prayer Tuesday 7-8pm \nRFWM Office 8525 Edinbrook Crossing Suite 15\, Brooklyn Park \n\n           Download QR
URL:https://rfwm.org/event/weekly-prayer/2025-11-04/
END:VEVENT
BEGIN:VEVENT
DTSTART;TZID=UTC:20251101T070000
DTEND;TZID=UTC:20251101T080000
DTSTAMP:20260426T001446
CREATED:20251007T214310Z
LAST-MODIFIED:20251007T214310Z
UID:12467-1761980400-1761984000@rfwm.org
SUMMARY:Weekly Prayer
DESCRIPTION:Weekly Prayer Option #2 \nSaturdays 7-8am \nRFWM Office \n8525 Edinbrook Crossing Suite 12\, Brooklyn Park \n\n           Download QR
URL:https://rfwm.org/event/weekly-prayer-2/2025-11-01/
END:VEVENT
BEGIN:VEVENT
DTSTART;TZID=UTC:20251031T183000
DTEND;TZID=UTC:20251031T200000
DTSTAMP:20260426T001446
CREATED:20241206T200438Z
LAST-MODIFIED:20250312T170138Z
UID:9418-1761935400-1761940800@rfwm.org
SUMMARY:Freedom Gathering
DESCRIPTION:Fridays 6:30 – 8 pm \n8525 Edinbrook Crossing \nBrooklyn Park\, MN 55443 \n\n           Download QR
URL:https://rfwm.org/event/freedom-gathering/2025-10-31/
CATEGORIES:Friday
ATTACH;FMTTYPE=image/png:https://rfwm.org/wp-content/uploads/2024/12/Freedom-Gathering-Group-Flyer-1-Facebook-Post-March-2025.png
END:VEVENT
BEGIN:VEVENT
DTSTART;TZID=UTC:20251029T180000
DTEND;TZID=UTC:20251029T203000
DTSTAMP:20260426T001446
CREATED:20250918T230253Z
LAST-MODIFIED:20250918T230253Z
UID:12149-1761760800-1761769800@rfwm.org
SUMMARY:Bible Study
DESCRIPTION:6 pm Prayer \n7 pm Bible Study \nNorwood Park \n8100 Newton Avenue N\, Brooklyn Park \n\n           Download QR
URL:https://rfwm.org/event/bible-study-8/2025-10-29/
CATEGORIES:Wednesday
END:VEVENT
BEGIN:VEVENT
DTSTART;TZID=UTC:20251028T190000
DTEND;TZID=UTC:20251028T200000
DTSTAMP:20260426T001446
CREATED:20251007T214117Z
LAST-MODIFIED:20251007T214117Z
UID:12453-1761678000-1761681600@rfwm.org
SUMMARY:Weekly Prayer
DESCRIPTION:Join us for weekly prayer Tuesday 7-8pm \nRFWM Office 8525 Edinbrook Crossing Suite 15\, Brooklyn Park \n\n           Download QR
URL:https://rfwm.org/event/weekly-prayer/2025-10-28/
END:VEVENT
BEGIN:VEVENT
DTSTART;TZID=UTC:20251025T070000
DTEND;TZID=UTC:20251025T080000
DTSTAMP:20260426T001446
CREATED:20251007T214310Z
LAST-MODIFIED:20251007T214310Z
UID:12466-1761375600-1761379200@rfwm.org
SUMMARY:Weekly Prayer
DESCRIPTION:Weekly Prayer Option #2 \nSaturdays 7-8am \nRFWM Office \n8525 Edinbrook Crossing Suite 12\, Brooklyn Park \n\n           Download QR
URL:https://rfwm.org/event/weekly-prayer-2/2025-10-25/
END:VEVENT
BEGIN:VEVENT
DTSTART;TZID=UTC:20251024T183000
DTEND;TZID=UTC:20251024T200000
DTSTAMP:20260426T001446
CREATED:20241206T200438Z
LAST-MODIFIED:20250312T170138Z
UID:9417-1761330600-1761336000@rfwm.org
SUMMARY:Freedom Gathering
DESCRIPTION:Fridays 6:30 – 8 pm \n8525 Edinbrook Crossing \nBrooklyn Park\, MN 55443 \n\n           Download QR
URL:https://rfwm.org/event/freedom-gathering/2025-10-24/
CATEGORIES:Friday
ATTACH;FMTTYPE=image/png:https://rfwm.org/wp-content/uploads/2024/12/Freedom-Gathering-Group-Flyer-1-Facebook-Post-March-2025.png
END:VEVENT
BEGIN:VEVENT
DTSTART;TZID=UTC:20251022T180000
DTEND;TZID=UTC:20251022T203000
DTSTAMP:20260426T001446
CREATED:20250918T230253Z
LAST-MODIFIED:20250918T230253Z
UID:12148-1761156000-1761165000@rfwm.org
SUMMARY:Bible Study
DESCRIPTION:6 pm Prayer \n7 pm Bible Study \nNorwood Park \n8100 Newton Avenue N\, Brooklyn Park \n\n           Download QR
URL:https://rfwm.org/event/bible-study-8/2025-10-22/
CATEGORIES:Wednesday
END:VEVENT
BEGIN:VEVENT
DTSTART;TZID=UTC:20251021T190000
DTEND;TZID=UTC:20251021T200000
DTSTAMP:20260426T001446
CREATED:20251007T214117Z
LAST-MODIFIED:20251007T214117Z
UID:12452-1761073200-1761076800@rfwm.org
SUMMARY:Weekly Prayer
DESCRIPTION:Join us for weekly prayer Tuesday 7-8pm \nRFWM Office 8525 Edinbrook Crossing Suite 15\, Brooklyn Park \n\n           Download QR
URL:https://rfwm.org/event/weekly-prayer/2025-10-21/
END:VEVENT
BEGIN:VEVENT
DTSTART;TZID=UTC:20251018T070000
DTEND;TZID=UTC:20251018T080000
DTSTAMP:20260426T001446
CREATED:20251007T214310Z
LAST-MODIFIED:20251007T214310Z
UID:12465-1760770800-1760774400@rfwm.org
SUMMARY:Weekly Prayer
DESCRIPTION:Weekly Prayer Option #2 \nSaturdays 7-8am \nRFWM Office \n8525 Edinbrook Crossing Suite 12\, Brooklyn Park \n\n           Download QR
URL:https://rfwm.org/event/weekly-prayer-2/2025-10-18/
END:VEVENT
BEGIN:VEVENT
DTSTART;TZID=UTC:20251017T183000
DTEND;TZID=UTC:20251017T200000
DTSTAMP:20260426T001446
CREATED:20241206T200438Z
LAST-MODIFIED:20250312T170138Z
UID:9416-1760725800-1760731200@rfwm.org
SUMMARY:Freedom Gathering
DESCRIPTION:Fridays 6:30 – 8 pm \n8525 Edinbrook Crossing \nBrooklyn Park\, MN 55443 \n\n           Download QR
URL:https://rfwm.org/event/freedom-gathering/2025-10-17/
CATEGORIES:Friday
ATTACH;FMTTYPE=image/png:https://rfwm.org/wp-content/uploads/2024/12/Freedom-Gathering-Group-Flyer-1-Facebook-Post-March-2025.png
END:VEVENT
BEGIN:VEVENT
DTSTART;TZID=UTC:20251015T180000
DTEND;TZID=UTC:20251015T203000
DTSTAMP:20260426T001446
CREATED:20250918T230253Z
LAST-MODIFIED:20250918T230253Z
UID:12147-1760551200-1760560200@rfwm.org
SUMMARY:Bible Study
DESCRIPTION:6 pm Prayer \n7 pm Bible Study \nNorwood Park \n8100 Newton Avenue N\, Brooklyn Park \n\n           Download QR
URL:https://rfwm.org/event/bible-study-8/2025-10-15/
CATEGORIES:Wednesday
END:VEVENT
BEGIN:VEVENT
DTSTART;TZID=UTC:20251014T190000
DTEND;TZID=UTC:20251014T200000
DTSTAMP:20260426T001446
CREATED:20251007T214117Z
LAST-MODIFIED:20251007T214117Z
UID:12451-1760468400-1760472000@rfwm.org
SUMMARY:Weekly Prayer
DESCRIPTION:Join us for weekly prayer Tuesday 7-8pm \nRFWM Office 8525 Edinbrook Crossing Suite 15\, Brooklyn Park \n\n           Download QR
URL:https://rfwm.org/event/weekly-prayer/2025-10-14/
END:VEVENT
BEGIN:VEVENT
DTSTART;TZID=UTC:20251011T070000
DTEND;TZID=UTC:20251011T080000
DTSTAMP:20260426T001446
CREATED:20251007T214310Z
LAST-MODIFIED:20251007T214310Z
UID:12464-1760166000-1760169600@rfwm.org
SUMMARY:Weekly Prayer
DESCRIPTION:Weekly Prayer Option #2 \nSaturdays 7-8am \nRFWM Office \n8525 Edinbrook Crossing Suite 12\, Brooklyn Park \n\n           Download QR
URL:https://rfwm.org/event/weekly-prayer-2/2025-10-11/
END:VEVENT
BEGIN:VEVENT
DTSTART;TZID=UTC:20251010T183000
DTEND;TZID=UTC:20251010T200000
DTSTAMP:20260426T001446
CREATED:20241206T200438Z
LAST-MODIFIED:20250312T170137Z
UID:9415-1760121000-1760126400@rfwm.org
SUMMARY:Freedom Gathering
DESCRIPTION:Fridays 6:30 – 8 pm \n8525 Edinbrook Crossing \nBrooklyn Park\, MN 55443 \n\n           Download QR
URL:https://rfwm.org/event/freedom-gathering/2025-10-10/
CATEGORIES:Friday
ATTACH;FMTTYPE=image/png:https://rfwm.org/wp-content/uploads/2024/12/Freedom-Gathering-Group-Flyer-1-Facebook-Post-March-2025.png
END:VEVENT
BEGIN:VEVENT
DTSTART;TZID=UTC:20251008T180000
DTEND;TZID=UTC:20251008T203000
DTSTAMP:20260426T001446
CREATED:20250918T230253Z
LAST-MODIFIED:20250918T230253Z
UID:12146-1759946400-1759955400@rfwm.org
SUMMARY:Bible Study
DESCRIPTION:6 pm Prayer \n7 pm Bible Study \nNorwood Park \n8100 Newton Avenue N\, Brooklyn Park \n\n           Download QR
URL:https://rfwm.org/event/bible-study-8/2025-10-08/
CATEGORIES:Wednesday
END:VEVENT
BEGIN:VEVENT
DTSTART;TZID=UTC:20251007T190000
DTEND;TZID=UTC:20251007T200000
DTSTAMP:20260426T001446
CREATED:20251007T214117Z
LAST-MODIFIED:20251007T214117Z
UID:12450-1759863600-1759867200@rfwm.org
SUMMARY:Weekly Prayer
DESCRIPTION:Join us for weekly prayer Tuesday 7-8pm \nRFWM Office 8525 Edinbrook Crossing Suite 15\, Brooklyn Park \n\n           Download QR
URL:https://rfwm.org/event/weekly-prayer/2025-10-07/
END:VEVENT
BEGIN:VEVENT
DTSTART;TZID=UTC:20251003T183000
DTEND;TZID=UTC:20251003T200000
DTSTAMP:20260426T001446
CREATED:20241206T200438Z
LAST-MODIFIED:20250312T170137Z
UID:9414-1759516200-1759521600@rfwm.org
SUMMARY:Freedom Gathering
DESCRIPTION:Fridays 6:30 – 8 pm \n8525 Edinbrook Crossing \nBrooklyn Park\, MN 55443 \n\n           Download QR
URL:https://rfwm.org/event/freedom-gathering/2025-10-03/
CATEGORIES:Friday
ATTACH;FMTTYPE=image/png:https://rfwm.org/wp-content/uploads/2024/12/Freedom-Gathering-Group-Flyer-1-Facebook-Post-March-2025.png
END:VEVENT
BEGIN:VEVENT
DTSTART;TZID=UTC:20251001T180000
DTEND;TZID=UTC:20251001T203000
DTSTAMP:20260426T001446
CREATED:20250918T230253Z
LAST-MODIFIED:20250918T230253Z
UID:12145-1759341600-1759350600@rfwm.org
SUMMARY:Bible Study
DESCRIPTION:6 pm Prayer \n7 pm Bible Study \nNorwood Park \n8100 Newton Avenue N\, Brooklyn Park \n\n           Download QR
URL:https://rfwm.org/event/bible-study-8/2025-10-01/
CATEGORIES:Wednesday
END:VEVENT
END:VCALENDAR