BEGIN:VCALENDAR
VERSION:2.0
PRODID:-//RFWM - ECPv6.15.20//NONSGML v1.0//EN
CALSCALE:GREGORIAN
METHOD:PUBLISH
X-WR-CALNAME:RFWM
X-ORIGINAL-URL:https://rfwm.org
X-WR-CALDESC:Events for RFWM
REFRESH-INTERVAL;VALUE=DURATION:PT1H
X-Robots-Tag:noindex
X-PUBLISHED-TTL:PT1H
BEGIN:VTIMEZONE
TZID:UTC
BEGIN:STANDARD
TZOFFSETFROM:+0000
TZOFFSETTO:+0000
TZNAME:UTC
DTSTART:20240101T000000
END:STANDARD
END:VTIMEZONE
BEGIN:VEVENT
DTSTART;TZID=UTC:20251015T180000
DTEND;TZID=UTC:20251015T203000
DTSTAMP:20260426T001520
CREATED:20250918T230253Z
LAST-MODIFIED:20250918T230253Z
UID:12147-1760551200-1760560200@rfwm.org
SUMMARY:Bible Study
DESCRIPTION:6 pm Prayer \n7 pm Bible Study \nNorwood Park \n8100 Newton Avenue N\, Brooklyn Park \n\n           Download QR
URL:https://rfwm.org/event/bible-study-8/2025-10-15/
CATEGORIES:Wednesday
END:VEVENT
BEGIN:VEVENT
DTSTART;TZID=UTC:20251014T190000
DTEND;TZID=UTC:20251014T200000
DTSTAMP:20260426T001520
CREATED:20251007T214117Z
LAST-MODIFIED:20251007T214117Z
UID:12451-1760468400-1760472000@rfwm.org
SUMMARY:Weekly Prayer
DESCRIPTION:Join us for weekly prayer Tuesday 7-8pm \nRFWM Office 8525 Edinbrook Crossing Suite 15\, Brooklyn Park \n\n           Download QR
URL:https://rfwm.org/event/weekly-prayer/2025-10-14/
END:VEVENT
BEGIN:VEVENT
DTSTART;TZID=UTC:20251011T070000
DTEND;TZID=UTC:20251011T080000
DTSTAMP:20260426T001520
CREATED:20251007T214310Z
LAST-MODIFIED:20251007T214310Z
UID:12464-1760166000-1760169600@rfwm.org
SUMMARY:Weekly Prayer
DESCRIPTION:Weekly Prayer Option #2 \nSaturdays 7-8am \nRFWM Office \n8525 Edinbrook Crossing Suite 12\, Brooklyn Park \n\n           Download QR
URL:https://rfwm.org/event/weekly-prayer-2/2025-10-11/
END:VEVENT
BEGIN:VEVENT
DTSTART;TZID=UTC:20251010T183000
DTEND;TZID=UTC:20251010T200000
DTSTAMP:20260426T001520
CREATED:20241206T200438Z
LAST-MODIFIED:20250312T170137Z
UID:9415-1760121000-1760126400@rfwm.org
SUMMARY:Freedom Gathering
DESCRIPTION:Fridays 6:30 – 8 pm \n8525 Edinbrook Crossing \nBrooklyn Park\, MN 55443 \n\n           Download QR
URL:https://rfwm.org/event/freedom-gathering/2025-10-10/
CATEGORIES:Friday
ATTACH;FMTTYPE=image/png:https://rfwm.org/wp-content/uploads/2024/12/Freedom-Gathering-Group-Flyer-1-Facebook-Post-March-2025.png
END:VEVENT
BEGIN:VEVENT
DTSTART;TZID=UTC:20251008T180000
DTEND;TZID=UTC:20251008T203000
DTSTAMP:20260426T001520
CREATED:20250918T230253Z
LAST-MODIFIED:20250918T230253Z
UID:12146-1759946400-1759955400@rfwm.org
SUMMARY:Bible Study
DESCRIPTION:6 pm Prayer \n7 pm Bible Study \nNorwood Park \n8100 Newton Avenue N\, Brooklyn Park \n\n           Download QR
URL:https://rfwm.org/event/bible-study-8/2025-10-08/
CATEGORIES:Wednesday
END:VEVENT
BEGIN:VEVENT
DTSTART;TZID=UTC:20251007T190000
DTEND;TZID=UTC:20251007T200000
DTSTAMP:20260426T001520
CREATED:20251007T214117Z
LAST-MODIFIED:20251007T214117Z
UID:12450-1759863600-1759867200@rfwm.org
SUMMARY:Weekly Prayer
DESCRIPTION:Join us for weekly prayer Tuesday 7-8pm \nRFWM Office 8525 Edinbrook Crossing Suite 15\, Brooklyn Park \n\n           Download QR
URL:https://rfwm.org/event/weekly-prayer/2025-10-07/
END:VEVENT
BEGIN:VEVENT
DTSTART;TZID=UTC:20251003T183000
DTEND;TZID=UTC:20251003T200000
DTSTAMP:20260426T001520
CREATED:20241206T200438Z
LAST-MODIFIED:20250312T170137Z
UID:9414-1759516200-1759521600@rfwm.org
SUMMARY:Freedom Gathering
DESCRIPTION:Fridays 6:30 – 8 pm \n8525 Edinbrook Crossing \nBrooklyn Park\, MN 55443 \n\n           Download QR
URL:https://rfwm.org/event/freedom-gathering/2025-10-03/
CATEGORIES:Friday
ATTACH;FMTTYPE=image/png:https://rfwm.org/wp-content/uploads/2024/12/Freedom-Gathering-Group-Flyer-1-Facebook-Post-March-2025.png
END:VEVENT
BEGIN:VEVENT
DTSTART;TZID=UTC:20251001T180000
DTEND;TZID=UTC:20251001T203000
DTSTAMP:20260426T001520
CREATED:20250918T230253Z
LAST-MODIFIED:20250918T230253Z
UID:12145-1759341600-1759350600@rfwm.org
SUMMARY:Bible Study
DESCRIPTION:6 pm Prayer \n7 pm Bible Study \nNorwood Park \n8100 Newton Avenue N\, Brooklyn Park \n\n           Download QR
URL:https://rfwm.org/event/bible-study-8/2025-10-01/
CATEGORIES:Wednesday
END:VEVENT
BEGIN:VEVENT
DTSTART;TZID=UTC:20250926T183000
DTEND;TZID=UTC:20250926T200000
DTSTAMP:20260426T001520
CREATED:20241206T200438Z
LAST-MODIFIED:20250312T170137Z
UID:9413-1758911400-1758916800@rfwm.org
SUMMARY:Freedom Gathering
DESCRIPTION:Fridays 6:30 – 8 pm \n8525 Edinbrook Crossing \nBrooklyn Park\, MN 55443 \n\n           Download QR
URL:https://rfwm.org/event/freedom-gathering/2025-09-26/
CATEGORIES:Friday
ATTACH;FMTTYPE=image/png:https://rfwm.org/wp-content/uploads/2024/12/Freedom-Gathering-Group-Flyer-1-Facebook-Post-March-2025.png
END:VEVENT
BEGIN:VEVENT
DTSTART;TZID=UTC:20250924T180000
DTEND;TZID=UTC:20250924T203000
DTSTAMP:20260426T001520
CREATED:20250918T230253Z
LAST-MODIFIED:20250918T230253Z
UID:12144-1758736800-1758745800@rfwm.org
SUMMARY:Bible Study
DESCRIPTION:6 pm Prayer \n7 pm Bible Study \nNorwood Park \n8100 Newton Avenue N\, Brooklyn Park \n\n           Download QR
URL:https://rfwm.org/event/bible-study-8/2025-09-24/
CATEGORIES:Wednesday
END:VEVENT
BEGIN:VEVENT
DTSTART;TZID=UTC:20250919T183000
DTEND;TZID=UTC:20250919T200000
DTSTAMP:20260426T001520
CREATED:20241206T200438Z
LAST-MODIFIED:20250312T170136Z
UID:9412-1758306600-1758312000@rfwm.org
SUMMARY:Freedom Gathering
DESCRIPTION:Fridays 6:30 – 8 pm \n8525 Edinbrook Crossing \nBrooklyn Park\, MN 55443 \n\n           Download QR
URL:https://rfwm.org/event/freedom-gathering/2025-09-19/
CATEGORIES:Friday
ATTACH;FMTTYPE=image/png:https://rfwm.org/wp-content/uploads/2024/12/Freedom-Gathering-Group-Flyer-1-Facebook-Post-March-2025.png
END:VEVENT
BEGIN:VEVENT
DTSTART;TZID=UTC:20250912T183000
DTEND;TZID=UTC:20250912T200000
DTSTAMP:20260426T001520
CREATED:20241206T200438Z
LAST-MODIFIED:20250312T170134Z
UID:9411-1757701800-1757707200@rfwm.org
SUMMARY:Freedom Gathering
DESCRIPTION:Fridays 6:30 – 8 pm \n8525 Edinbrook Crossing \nBrooklyn Park\, MN 55443 \n\n           Download QR
URL:https://rfwm.org/event/freedom-gathering/2025-09-12/
CATEGORIES:Friday
ATTACH;FMTTYPE=image/png:https://rfwm.org/wp-content/uploads/2024/12/Freedom-Gathering-Group-Flyer-1-Facebook-Post-March-2025.png
END:VEVENT
BEGIN:VEVENT
DTSTART;TZID=UTC:20250905T183000
DTEND;TZID=UTC:20250905T200000
DTSTAMP:20260426T001520
CREATED:20241206T200438Z
LAST-MODIFIED:20250312T170134Z
UID:9410-1757097000-1757102400@rfwm.org
SUMMARY:Freedom Gathering
DESCRIPTION:Fridays 6:30 – 8 pm \n8525 Edinbrook Crossing \nBrooklyn Park\, MN 55443 \n\n           Download QR
URL:https://rfwm.org/event/freedom-gathering/2025-09-05/
CATEGORIES:Friday
ATTACH;FMTTYPE=image/png:https://rfwm.org/wp-content/uploads/2024/12/Freedom-Gathering-Group-Flyer-1-Facebook-Post-March-2025.png
END:VEVENT
BEGIN:VEVENT
DTSTART;TZID=UTC:20250829T183000
DTEND;TZID=UTC:20250829T200000
DTSTAMP:20260426T001520
CREATED:20241206T200438Z
LAST-MODIFIED:20250312T170134Z
UID:9409-1756492200-1756497600@rfwm.org
SUMMARY:Freedom Gathering
DESCRIPTION:Fridays 6:30 – 8 pm \n8525 Edinbrook Crossing \nBrooklyn Park\, MN 55443 \n\n           Download QR
URL:https://rfwm.org/event/freedom-gathering/2025-08-29/
CATEGORIES:Friday
ATTACH;FMTTYPE=image/png:https://rfwm.org/wp-content/uploads/2024/12/Freedom-Gathering-Group-Flyer-1-Facebook-Post-March-2025.png
END:VEVENT
BEGIN:VEVENT
DTSTART;TZID=UTC:20250827T183000
DTEND;TZID=UTC:20250827T200000
DTSTAMP:20260426T001520
CREATED:20250820T200202Z
LAST-MODIFIED:20250820T200202Z
UID:12137-1756319400-1756324800@rfwm.org
SUMMARY:Bible Study
DESCRIPTION:Brooklyn Park Library \n8500 W Broadway\, Brooklyn Park \n6:30 pm – 8 pm \n\n           Download QR
URL:https://rfwm.org/event/bible-study-7/
CATEGORIES:Wednesday
END:VEVENT
BEGIN:VEVENT
DTSTART;TZID=UTC:20250823T120000
DTEND;TZID=UTC:20250823T150000
DTSTAMP:20260426T001520
CREATED:20250701T224359Z
LAST-MODIFIED:20250701T224732Z
UID:10954-1755950400-1755961200@rfwm.org
SUMMARY:End of Summer BBQ
DESCRIPTION:Join Us for an End of Summer BBQ \n8100 Newton Avenue N\, Brooklyn Park \nSign up here: https://forms.gle/jciyAPVNNESq4r768 \n\n           Download QR
URL:https://rfwm.org/event/end-of-summer-bbq-2/
LOCATION:Brooklyn Park\, MN\, 8100 Newton Avenue N\, Brooklyn Park\, Minnesota\, 55443\, United States
CATEGORIES:Saturday
ATTACH;FMTTYPE=image/png:https://rfwm.org/wp-content/uploads/2025/07/Yellow-Purple-Bbq-Party-Virtual-Invitation.png
END:VEVENT
BEGIN:VEVENT
DTSTART;TZID=UTC:20250822T183000
DTEND;TZID=UTC:20250822T200000
DTSTAMP:20260426T001520
CREATED:20241206T200438Z
LAST-MODIFIED:20250312T170133Z
UID:9408-1755887400-1755892800@rfwm.org
SUMMARY:Freedom Gathering
DESCRIPTION:Fridays 6:30 – 8 pm \n8525 Edinbrook Crossing \nBrooklyn Park\, MN 55443 \n\n           Download QR
URL:https://rfwm.org/event/freedom-gathering/2025-08-22/
CATEGORIES:Friday
ATTACH;FMTTYPE=image/png:https://rfwm.org/wp-content/uploads/2024/12/Freedom-Gathering-Group-Flyer-1-Facebook-Post-March-2025.png
END:VEVENT
BEGIN:VEVENT
DTSTART;TZID=UTC:20250820T183000
DTEND;TZID=UTC:20250820T200000
DTSTAMP:20260426T001520
CREATED:20250820T195905Z
LAST-MODIFIED:20250820T195905Z
UID:12135-1755714600-1755720000@rfwm.org
SUMMARY:Bible Study
DESCRIPTION:Jewel Park \n1401 89th Avenue Brooklyn Park \n6:30 pm \n\n           Download QR
URL:https://rfwm.org/event/bible-study-6/
CATEGORIES:Wednesday
END:VEVENT
BEGIN:VEVENT
DTSTART;TZID=UTC:20250815T183000
DTEND;TZID=UTC:20250815T200000
DTSTAMP:20260426T001520
CREATED:20241206T200438Z
LAST-MODIFIED:20250312T170133Z
UID:9407-1755282600-1755288000@rfwm.org
SUMMARY:Freedom Gathering
DESCRIPTION:Fridays 6:30 – 8 pm \n8525 Edinbrook Crossing \nBrooklyn Park\, MN 55443 \n\n           Download QR
URL:https://rfwm.org/event/freedom-gathering/2025-08-15/
CATEGORIES:Friday
ATTACH;FMTTYPE=image/png:https://rfwm.org/wp-content/uploads/2024/12/Freedom-Gathering-Group-Flyer-1-Facebook-Post-March-2025.png
END:VEVENT
BEGIN:VEVENT
DTSTART;TZID=UTC:20250813T183000
DTEND;TZID=UTC:20250813T200000
DTSTAMP:20260426T001520
CREATED:20250813T175158Z
LAST-MODIFIED:20250813T175313Z
UID:12133-1755109800-1755115200@rfwm.org
SUMMARY:Bible Study
DESCRIPTION:Join Us at 6:30 pm \nBrooklyn Park Library \n8500 W Broadway Avenue\, Brooklyn Park \n\n           Download QR
URL:https://rfwm.org/event/bible-study-5/
END:VEVENT
BEGIN:VEVENT
DTSTART;TZID=UTC:20250808T183000
DTEND;TZID=UTC:20250808T200000
DTSTAMP:20260426T001520
CREATED:20241206T200438Z
LAST-MODIFIED:20250312T170133Z
UID:9406-1754677800-1754683200@rfwm.org
SUMMARY:Freedom Gathering
DESCRIPTION:Fridays 6:30 – 8 pm \n8525 Edinbrook Crossing \nBrooklyn Park\, MN 55443 \n\n           Download QR
URL:https://rfwm.org/event/freedom-gathering/2025-08-08/
CATEGORIES:Friday
ATTACH;FMTTYPE=image/png:https://rfwm.org/wp-content/uploads/2024/12/Freedom-Gathering-Group-Flyer-1-Facebook-Post-March-2025.png
END:VEVENT
BEGIN:VEVENT
DTSTART;TZID=UTC:20250801T183000
DTEND;TZID=UTC:20250801T200000
DTSTAMP:20260426T001520
CREATED:20241206T200438Z
LAST-MODIFIED:20250312T170132Z
UID:9405-1754073000-1754078400@rfwm.org
SUMMARY:Freedom Gathering
DESCRIPTION:Fridays 6:30 – 8 pm \n8525 Edinbrook Crossing \nBrooklyn Park\, MN 55443 \n\n           Download QR
URL:https://rfwm.org/event/freedom-gathering/2025-08-01/
CATEGORIES:Friday
ATTACH;FMTTYPE=image/png:https://rfwm.org/wp-content/uploads/2024/12/Freedom-Gathering-Group-Flyer-1-Facebook-Post-March-2025.png
END:VEVENT
BEGIN:VEVENT
DTSTART;TZID=UTC:20250730T080000
DTEND;TZID=UTC:20250730T170000
DTSTAMP:20260426T001520
CREATED:20250730T161914Z
LAST-MODIFIED:20250730T161914Z
UID:12125-1753862400-1753894800@rfwm.org
SUMMARY:Bible Study
DESCRIPTION:Bible Study \n6:30 pm \nJewel Park – 1401 89th Ave N\, Brooklyn Park \n\n           Download QR
URL:https://rfwm.org/event/bible-study-4/
END:VEVENT
BEGIN:VEVENT
DTSTART;TZID=UTC:20250727T100000
DTEND;TZID=UTC:20250727T130000
DTSTAMP:20260426T001520
CREATED:20240903T132041Z
LAST-MODIFIED:20240903T132041Z
UID:10269-1753610400-1753621200@rfwm.org
SUMMARY:Sunday Worship Service
DESCRIPTION:Sunday Worship Service \n10 am Prayer \n11 am Worship \nLocation: Northport Elementary School 5421 Brooklyn Blvd\, Brooklyn Center \n\n           Download QR
URL:https://rfwm.org/event/sunday-worship-service-2/2025-07-27/
CATEGORIES:Sunday
ATTACH;FMTTYPE=image/png:https://rfwm.org/wp-content/uploads/2023/12/rfwm-flyer.png
END:VEVENT
BEGIN:VEVENT
DTSTART;TZID=UTC:20250725T183000
DTEND;TZID=UTC:20250725T200000
DTSTAMP:20260426T001520
CREATED:20241206T200438Z
LAST-MODIFIED:20250312T170132Z
UID:9404-1753468200-1753473600@rfwm.org
SUMMARY:Freedom Gathering
DESCRIPTION:Fridays 6:30 – 8 pm \n8525 Edinbrook Crossing \nBrooklyn Park\, MN 55443 \n\n           Download QR
URL:https://rfwm.org/event/freedom-gathering/2025-07-25/
CATEGORIES:Friday
ATTACH;FMTTYPE=image/png:https://rfwm.org/wp-content/uploads/2024/12/Freedom-Gathering-Group-Flyer-1-Facebook-Post-March-2025.png
END:VEVENT
BEGIN:VEVENT
DTSTART;TZID=UTC:20250720T100000
DTEND;TZID=UTC:20250720T130000
DTSTAMP:20260426T001520
CREATED:20240903T132041Z
LAST-MODIFIED:20240903T132041Z
UID:10268-1753005600-1753016400@rfwm.org
SUMMARY:Sunday Worship Service
DESCRIPTION:Sunday Worship Service \n10 am Prayer \n11 am Worship \nLocation: Northport Elementary School 5421 Brooklyn Blvd\, Brooklyn Center \n\n           Download QR
URL:https://rfwm.org/event/sunday-worship-service-2/2025-07-20/
CATEGORIES:Sunday
ATTACH;FMTTYPE=image/png:https://rfwm.org/wp-content/uploads/2023/12/rfwm-flyer.png
END:VEVENT
BEGIN:VEVENT
DTSTART;TZID=UTC:20250718T183000
DTEND;TZID=UTC:20250718T200000
DTSTAMP:20260426T001520
CREATED:20241206T200438Z
LAST-MODIFIED:20250312T170132Z
UID:9403-1752863400-1752868800@rfwm.org
SUMMARY:Freedom Gathering
DESCRIPTION:Fridays 6:30 – 8 pm \n8525 Edinbrook Crossing \nBrooklyn Park\, MN 55443 \n\n           Download QR
URL:https://rfwm.org/event/freedom-gathering/2025-07-18/
CATEGORIES:Friday
ATTACH;FMTTYPE=image/png:https://rfwm.org/wp-content/uploads/2024/12/Freedom-Gathering-Group-Flyer-1-Facebook-Post-March-2025.png
END:VEVENT
BEGIN:VEVENT
DTSTART;TZID=UTC:20250713T100000
DTEND;TZID=UTC:20250713T130000
DTSTAMP:20260426T001520
CREATED:20240903T132041Z
LAST-MODIFIED:20240903T132041Z
UID:10267-1752400800-1752411600@rfwm.org
SUMMARY:Sunday Worship Service
DESCRIPTION:Sunday Worship Service \n10 am Prayer \n11 am Worship \nLocation: Northport Elementary School 5421 Brooklyn Blvd\, Brooklyn Center \n\n           Download QR
URL:https://rfwm.org/event/sunday-worship-service-2/2025-07-13/
CATEGORIES:Sunday
ATTACH;FMTTYPE=image/png:https://rfwm.org/wp-content/uploads/2023/12/rfwm-flyer.png
END:VEVENT
BEGIN:VEVENT
DTSTART;TZID=UTC:20250711T183000
DTEND;TZID=UTC:20250711T200000
DTSTAMP:20260426T001520
CREATED:20241206T200438Z
LAST-MODIFIED:20250312T170131Z
UID:9402-1752258600-1752264000@rfwm.org
SUMMARY:Freedom Gathering
DESCRIPTION:Fridays 6:30 – 8 pm \n8525 Edinbrook Crossing \nBrooklyn Park\, MN 55443 \n\n           Download QR
URL:https://rfwm.org/event/freedom-gathering/2025-07-11/
CATEGORIES:Friday
ATTACH;FMTTYPE=image/png:https://rfwm.org/wp-content/uploads/2024/12/Freedom-Gathering-Group-Flyer-1-Facebook-Post-March-2025.png
END:VEVENT
BEGIN:VEVENT
DTSTART;TZID=UTC:20250706T100000
DTEND;TZID=UTC:20250706T130000
DTSTAMP:20260426T001520
CREATED:20240903T132041Z
LAST-MODIFIED:20240903T132041Z
UID:10266-1751796000-1751806800@rfwm.org
SUMMARY:Sunday Worship Service
DESCRIPTION:Sunday Worship Service \n10 am Prayer \n11 am Worship \nLocation: Northport Elementary School 5421 Brooklyn Blvd\, Brooklyn Center \n\n           Download QR
URL:https://rfwm.org/event/sunday-worship-service-2/2025-07-06/
CATEGORIES:Sunday
ATTACH;FMTTYPE=image/png:https://rfwm.org/wp-content/uploads/2023/12/rfwm-flyer.png
END:VEVENT
END:VCALENDAR