BEGIN:VCALENDAR
VERSION:2.0
PRODID:-//RFWM - ECPv6.15.20//NONSGML v1.0//EN
CALSCALE:GREGORIAN
METHOD:PUBLISH
X-ORIGINAL-URL:https://rfwm.org
X-WR-CALDESC:Events for RFWM
REFRESH-INTERVAL;VALUE=DURATION:PT1H
X-Robots-Tag:noindex
X-PUBLISHED-TTL:PT1H
BEGIN:VTIMEZONE
TZID:UTC
BEGIN:STANDARD
TZOFFSETFROM:+0000
TZOFFSETTO:+0000
TZNAME:UTC
DTSTART:20250101T000000
END:STANDARD
END:VTIMEZONE
BEGIN:VEVENT
DTSTART;TZID=UTC:20260522T183000
DTEND;TZID=UTC:20260522T200000
DTSTAMP:20260425T194713
CREATED:20260310T002726Z
LAST-MODIFIED:20260311T125746Z
UID:13184-1779474600-1779480000@rfwm.org
SUMMARY:Freedom Gathering
DESCRIPTION:Fridays 6:30 pm \n\n           Download QR
URL:https://rfwm.org/event/freedom-gathering-2/2026-05-22/
ATTACH;FMTTYPE=image/png:https://rfwm.org/wp-content/uploads/2026/03/Freedom-Gathering-Group-Flyer-2-8.5-x-11-in-1.png
END:VEVENT
BEGIN:VEVENT
DTSTART;TZID=UTC:20260523T080000
DTEND;TZID=UTC:20260523T170000
DTSTAMP:20260425T194713
CREATED:20260310T003039Z
LAST-MODIFIED:20260310T003039Z
UID:13227-1779523200-1779555600@rfwm.org
SUMMARY:Corporate Prayer
DESCRIPTION:Saturdays 10 am \n\n           Download QR
URL:https://rfwm.org/event/corporate-prayer-2/2026-05-23/
ATTACH;FMTTYPE=image/png:https://rfwm.org/wp-content/uploads/2026/02/Copy-of-IG-SERMON-Snippet.png
END:VEVENT
BEGIN:VEVENT
DTSTART;TZID=UTC:20260523T120000
DTEND;TZID=UTC:20260523T160000
DTSTAMP:20260425T194713
CREATED:20260328T123710Z
LAST-MODIFIED:20260328T123710Z
UID:13404-1779537600-1779552000@rfwm.org
SUMMARY:New Member Classess
DESCRIPTION:New Member Classes are three consecutive Saturdays for 4 hours.\nMay 9th\, 16th\, and 23rd from Noon – 4 pm\n\nThese classes will help you discover how your faith\, gifts\, and obedience contribute to building God’s church and advancing the mission of Resurrecting Faith World Ministries.\n\n           Download QR
URL:https://rfwm.org/event/new-member-classess/2026-05-23/
END:VEVENT
BEGIN:VEVENT
DTSTART;TZID=UTC:20260524T100000
DTEND;TZID=UTC:20260524T130000
DTSTAMP:20260425T194713
CREATED:20260215T003538Z
LAST-MODIFIED:20260311T130841Z
UID:12686-1779616800-1779627600@rfwm.org
SUMMARY:Sunday Service
DESCRIPTION:10 am Prayer \n11 am Service \nChild Care Provided \nChildren’s Church Immediately following Praise and Worship \n\n           Download QR
URL:https://rfwm.org/event/sunday-service-5/2026-05-24/
CATEGORIES:Sunday
ATTACH;FMTTYPE=image/png:https://rfwm.org/wp-content/uploads/2026/02/RFWM-Services-Flyer-March-2026.png
END:VEVENT
BEGIN:VEVENT
DTSTART;TZID=UTC:20260527T190000
DTEND;TZID=UTC:20260527T210000
DTSTAMP:20260425T194713
CREATED:20260328T125124Z
LAST-MODIFIED:20260330T041258Z
UID:13406-1779908400-1779915600@rfwm.org
SUMMARY:Dynamic Marriage Seminar
DESCRIPTION:REGISTER USING LINK: PAYMENT LINK \n3-Nights: May 27th-29th from 7-9 pm \n6pm Nightly Marital Prayer \nCost: $150 – Register and Pay: PAYMENT LINK \nNo Child Care Provided \nRegister and pay \n  \n\n           Download QR
URL:https://rfwm.org/event/dynamic-marriage-seminar/2026-05-27/
ATTACH;FMTTYPE=image/png:https://rfwm.org/wp-content/uploads/2026/03/Marriage-Seminar-2026.png
END:VEVENT
BEGIN:VEVENT
DTSTART;TZID=UTC:20260528T190000
DTEND;TZID=UTC:20260528T210000
DTSTAMP:20260425T194713
CREATED:20260328T125124Z
LAST-MODIFIED:20260330T041258Z
UID:13412-1779994800-1780002000@rfwm.org
SUMMARY:Dynamic Marriage Seminar
DESCRIPTION:REGISTER USING LINK: PAYMENT LINK \n3-Nights: May 27th-29th from 7-9 pm \n6pm Nightly Marital Prayer \nCost: $150 – Register and Pay: PAYMENT LINK \nNo Child Care Provided \nRegister and pay \n  \n\n           Download QR
URL:https://rfwm.org/event/dynamic-marriage-seminar/2026-05-28/
ATTACH;FMTTYPE=image/png:https://rfwm.org/wp-content/uploads/2026/03/Marriage-Seminar-2026.png
END:VEVENT
BEGIN:VEVENT
DTSTART;TZID=UTC:20260529T190000
DTEND;TZID=UTC:20260529T210000
DTSTAMP:20260425T194713
CREATED:20260328T125124Z
LAST-MODIFIED:20260330T041258Z
UID:13413-1780081200-1780088400@rfwm.org
SUMMARY:Dynamic Marriage Seminar
DESCRIPTION:REGISTER USING LINK: PAYMENT LINK \n3-Nights: May 27th-29th from 7-9 pm \n6pm Nightly Marital Prayer \nCost: $150 – Register and Pay: PAYMENT LINK \nNo Child Care Provided \nRegister and pay \n  \n\n           Download QR
URL:https://rfwm.org/event/dynamic-marriage-seminar/2026-05-29/
ATTACH;FMTTYPE=image/png:https://rfwm.org/wp-content/uploads/2026/03/Marriage-Seminar-2026.png
END:VEVENT
BEGIN:VEVENT
DTSTART;TZID=UTC:20260530T080000
DTEND;TZID=UTC:20260530T170000
DTSTAMP:20260425T194713
CREATED:20260310T003039Z
LAST-MODIFIED:20260310T003039Z
UID:13229-1780128000-1780160400@rfwm.org
SUMMARY:Corporate Prayer
DESCRIPTION:Saturdays 10 am \n\n           Download QR
URL:https://rfwm.org/event/corporate-prayer-2/2026-05-30/
ATTACH;FMTTYPE=image/png:https://rfwm.org/wp-content/uploads/2026/02/Copy-of-IG-SERMON-Snippet.png
END:VEVENT
BEGIN:VEVENT
DTSTART;TZID=UTC:20260530T120000
DTEND;TZID=UTC:20260530T160000
DTSTAMP:20260425T194713
CREATED:20260419T125453Z
LAST-MODIFIED:20260419T125453Z
UID:13424-1780142400-1780156800@rfwm.org
SUMMARY:Tater Daze
DESCRIPTION:RFWM will participate in Tater Daze bringing the Word of Faith and Jesus to our community. \nRFWM will host a booth – more details and location to be shared within the coming week. \nMore details about the event: Tater Daze Parade and Community Gathering – Brooklyn Park \n\n           Download QR
URL:https://rfwm.org/event/tater-daze/
END:VEVENT
BEGIN:VEVENT
DTSTART;TZID=UTC:20260531T100000
DTEND;TZID=UTC:20260531T130000
DTSTAMP:20260425T194713
CREATED:20260215T003538Z
LAST-MODIFIED:20260311T130841Z
UID:12687-1780221600-1780232400@rfwm.org
SUMMARY:Sunday Service
DESCRIPTION:10 am Prayer \n11 am Service \nChild Care Provided \nChildren’s Church Immediately following Praise and Worship \n\n           Download QR
URL:https://rfwm.org/event/sunday-service-5/2026-05-31/
CATEGORIES:Sunday
ATTACH;FMTTYPE=image/png:https://rfwm.org/wp-content/uploads/2026/02/RFWM-Services-Flyer-March-2026.png
END:VEVENT
BEGIN:VEVENT
DTSTART;TZID=UTC:20260603T080000
DTEND;TZID=UTC:20260603T170000
DTSTAMP:20260425T194713
CREATED:20260216T002814Z
LAST-MODIFIED:20260216T003033Z
UID:12933-1780473600-1780506000@rfwm.org
SUMMARY:Midweek Service
DESCRIPTION:Wednesdays \n6pm Prayer & 7pm Bible Study \n\n           Download QR
URL:https://rfwm.org/event/n-midweek-service/2026-06-03/
ATTACH;FMTTYPE=image/png:https://rfwm.org/wp-content/uploads/2026/02/Screenshot-2026-02-15-182509.png
END:VEVENT
BEGIN:VEVENT
DTSTART;TZID=UTC:20260605T183000
DTEND;TZID=UTC:20260605T200000
DTSTAMP:20260425T194713
CREATED:20260310T002726Z
LAST-MODIFIED:20260311T125754Z
UID:13187-1780684200-1780689600@rfwm.org
SUMMARY:Freedom Gathering
DESCRIPTION:Fridays 6:30 pm \n\n           Download QR
URL:https://rfwm.org/event/freedom-gathering-2/2026-06-05/
ATTACH;FMTTYPE=image/png:https://rfwm.org/wp-content/uploads/2026/03/Freedom-Gathering-Group-Flyer-2-8.5-x-11-in-1.png
END:VEVENT
BEGIN:VEVENT
DTSTART;TZID=UTC:20260606T080000
DTEND;TZID=UTC:20260606T170000
DTSTAMP:20260425T194713
CREATED:20260310T003039Z
LAST-MODIFIED:20260310T003039Z
UID:13230-1780732800-1780765200@rfwm.org
SUMMARY:Corporate Prayer
DESCRIPTION:Saturdays 10 am \n\n           Download QR
URL:https://rfwm.org/event/corporate-prayer-2/2026-06-06/
ATTACH;FMTTYPE=image/png:https://rfwm.org/wp-content/uploads/2026/02/Copy-of-IG-SERMON-Snippet.png
END:VEVENT
BEGIN:VEVENT
DTSTART;TZID=UTC:20260607T100000
DTEND;TZID=UTC:20260607T130000
DTSTAMP:20260425T194713
CREATED:20260215T003538Z
LAST-MODIFIED:20260311T130841Z
UID:12688-1780826400-1780837200@rfwm.org
SUMMARY:Sunday Service
DESCRIPTION:10 am Prayer \n11 am Service \nChild Care Provided \nChildren’s Church Immediately following Praise and Worship \n\n           Download QR
URL:https://rfwm.org/event/sunday-service-5/2026-06-07/
CATEGORIES:Sunday
ATTACH;FMTTYPE=image/png:https://rfwm.org/wp-content/uploads/2026/02/RFWM-Services-Flyer-March-2026.png
END:VEVENT
BEGIN:VEVENT
DTSTART;TZID=UTC:20260610T080000
DTEND;TZID=UTC:20260610T170000
DTSTAMP:20260425T194713
CREATED:20260216T002814Z
LAST-MODIFIED:20260216T003033Z
UID:12934-1781078400-1781110800@rfwm.org
SUMMARY:Midweek Service
DESCRIPTION:Wednesdays \n6pm Prayer & 7pm Bible Study \n\n           Download QR
URL:https://rfwm.org/event/n-midweek-service/2026-06-10/
ATTACH;FMTTYPE=image/png:https://rfwm.org/wp-content/uploads/2026/02/Screenshot-2026-02-15-182509.png
END:VEVENT
BEGIN:VEVENT
DTSTART;TZID=UTC:20260612T183000
DTEND;TZID=UTC:20260612T200000
DTSTAMP:20260425T194713
CREATED:20260310T002726Z
LAST-MODIFIED:20260311T125755Z
UID:13188-1781289000-1781294400@rfwm.org
SUMMARY:Freedom Gathering
DESCRIPTION:Fridays 6:30 pm \n\n           Download QR
URL:https://rfwm.org/event/freedom-gathering-2/2026-06-12/
ATTACH;FMTTYPE=image/png:https://rfwm.org/wp-content/uploads/2026/03/Freedom-Gathering-Group-Flyer-2-8.5-x-11-in-1.png
END:VEVENT
BEGIN:VEVENT
DTSTART;TZID=UTC:20260613T080000
DTEND;TZID=UTC:20260613T170000
DTSTAMP:20260425T194713
CREATED:20260310T003039Z
LAST-MODIFIED:20260310T003039Z
UID:13231-1781337600-1781370000@rfwm.org
SUMMARY:Corporate Prayer
DESCRIPTION:Saturdays 10 am \n\n           Download QR
URL:https://rfwm.org/event/corporate-prayer-2/2026-06-13/
ATTACH;FMTTYPE=image/png:https://rfwm.org/wp-content/uploads/2026/02/Copy-of-IG-SERMON-Snippet.png
END:VEVENT
BEGIN:VEVENT
DTSTART;TZID=UTC:20260614T100000
DTEND;TZID=UTC:20260614T130000
DTSTAMP:20260425T194713
CREATED:20260215T003538Z
LAST-MODIFIED:20260311T130842Z
UID:12689-1781431200-1781442000@rfwm.org
SUMMARY:Sunday Service
DESCRIPTION:10 am Prayer \n11 am Service \nChild Care Provided \nChildren’s Church Immediately following Praise and Worship \n\n           Download QR
URL:https://rfwm.org/event/sunday-service-5/2026-06-14/
CATEGORIES:Sunday
ATTACH;FMTTYPE=image/png:https://rfwm.org/wp-content/uploads/2026/02/RFWM-Services-Flyer-March-2026.png
END:VEVENT
BEGIN:VEVENT
DTSTART;TZID=UTC:20260617T080000
DTEND;TZID=UTC:20260617T170000
DTSTAMP:20260425T194713
CREATED:20260216T002814Z
LAST-MODIFIED:20260216T003033Z
UID:12935-1781683200-1781715600@rfwm.org
SUMMARY:Midweek Service
DESCRIPTION:Wednesdays \n6pm Prayer & 7pm Bible Study \n\n           Download QR
URL:https://rfwm.org/event/n-midweek-service/2026-06-17/
ATTACH;FMTTYPE=image/png:https://rfwm.org/wp-content/uploads/2026/02/Screenshot-2026-02-15-182509.png
END:VEVENT
BEGIN:VEVENT
DTSTART;TZID=UTC:20260619T183000
DTEND;TZID=UTC:20260619T200000
DTSTAMP:20260425T194713
CREATED:20260310T002726Z
LAST-MODIFIED:20260311T125755Z
UID:13189-1781893800-1781899200@rfwm.org
SUMMARY:Freedom Gathering
DESCRIPTION:Fridays 6:30 pm \n\n           Download QR
URL:https://rfwm.org/event/freedom-gathering-2/2026-06-19/
ATTACH;FMTTYPE=image/png:https://rfwm.org/wp-content/uploads/2026/03/Freedom-Gathering-Group-Flyer-2-8.5-x-11-in-1.png
END:VEVENT
BEGIN:VEVENT
DTSTART;TZID=UTC:20260620T080000
DTEND;TZID=UTC:20260620T170000
DTSTAMP:20260425T194713
CREATED:20260310T003039Z
LAST-MODIFIED:20260310T003039Z
UID:13232-1781942400-1781974800@rfwm.org
SUMMARY:Corporate Prayer
DESCRIPTION:Saturdays 10 am \n\n           Download QR
URL:https://rfwm.org/event/corporate-prayer-2/2026-06-20/
ATTACH;FMTTYPE=image/png:https://rfwm.org/wp-content/uploads/2026/02/Copy-of-IG-SERMON-Snippet.png
END:VEVENT
BEGIN:VEVENT
DTSTART;TZID=UTC:20260621T100000
DTEND;TZID=UTC:20260621T130000
DTSTAMP:20260425T194713
CREATED:20260215T003538Z
LAST-MODIFIED:20260311T130842Z
UID:12690-1782036000-1782046800@rfwm.org
SUMMARY:Sunday Service
DESCRIPTION:10 am Prayer \n11 am Service \nChild Care Provided \nChildren’s Church Immediately following Praise and Worship \n\n           Download QR
URL:https://rfwm.org/event/sunday-service-5/2026-06-21/
CATEGORIES:Sunday
ATTACH;FMTTYPE=image/png:https://rfwm.org/wp-content/uploads/2026/02/RFWM-Services-Flyer-March-2026.png
END:VEVENT
BEGIN:VEVENT
DTSTART;TZID=UTC:20260624T080000
DTEND;TZID=UTC:20260624T170000
DTSTAMP:20260425T194713
CREATED:20260216T002814Z
LAST-MODIFIED:20260216T003034Z
UID:12936-1782288000-1782320400@rfwm.org
SUMMARY:Midweek Service
DESCRIPTION:Wednesdays \n6pm Prayer & 7pm Bible Study \n\n           Download QR
URL:https://rfwm.org/event/n-midweek-service/2026-06-24/
ATTACH;FMTTYPE=image/png:https://rfwm.org/wp-content/uploads/2026/02/Screenshot-2026-02-15-182509.png
END:VEVENT
BEGIN:VEVENT
DTSTART;TZID=UTC:20260626T183000
DTEND;TZID=UTC:20260626T200000
DTSTAMP:20260425T194713
CREATED:20260310T002726Z
LAST-MODIFIED:20260311T125755Z
UID:13190-1782498600-1782504000@rfwm.org
SUMMARY:Freedom Gathering
DESCRIPTION:Fridays 6:30 pm \n\n           Download QR
URL:https://rfwm.org/event/freedom-gathering-2/2026-06-26/
ATTACH;FMTTYPE=image/png:https://rfwm.org/wp-content/uploads/2026/03/Freedom-Gathering-Group-Flyer-2-8.5-x-11-in-1.png
END:VEVENT
BEGIN:VEVENT
DTSTART;TZID=UTC:20260627T080000
DTEND;TZID=UTC:20260627T170000
DTSTAMP:20260425T194713
CREATED:20260310T003039Z
LAST-MODIFIED:20260310T003039Z
UID:13233-1782547200-1782579600@rfwm.org
SUMMARY:Corporate Prayer
DESCRIPTION:Saturdays 10 am \n\n           Download QR
URL:https://rfwm.org/event/corporate-prayer-2/2026-06-27/
ATTACH;FMTTYPE=image/png:https://rfwm.org/wp-content/uploads/2026/02/Copy-of-IG-SERMON-Snippet.png
END:VEVENT
BEGIN:VEVENT
DTSTART;TZID=UTC:20260628T100000
DTEND;TZID=UTC:20260628T130000
DTSTAMP:20260425T194713
CREATED:20260215T003538Z
LAST-MODIFIED:20260311T130843Z
UID:12691-1782640800-1782651600@rfwm.org
SUMMARY:Sunday Service
DESCRIPTION:10 am Prayer \n11 am Service \nChild Care Provided \nChildren’s Church Immediately following Praise and Worship \n\n           Download QR
URL:https://rfwm.org/event/sunday-service-5/2026-06-28/
CATEGORIES:Sunday
ATTACH;FMTTYPE=image/png:https://rfwm.org/wp-content/uploads/2026/02/RFWM-Services-Flyer-March-2026.png
END:VEVENT
BEGIN:VEVENT
DTSTART;TZID=UTC:20260701T080000
DTEND;TZID=UTC:20260701T170000
DTSTAMP:20260425T194713
CREATED:20260216T002814Z
LAST-MODIFIED:20260216T003034Z
UID:12937-1782892800-1782925200@rfwm.org
SUMMARY:Midweek Service
DESCRIPTION:Wednesdays \n6pm Prayer & 7pm Bible Study \n\n           Download QR
URL:https://rfwm.org/event/n-midweek-service/2026-07-01/
ATTACH;FMTTYPE=image/png:https://rfwm.org/wp-content/uploads/2026/02/Screenshot-2026-02-15-182509.png
END:VEVENT
BEGIN:VEVENT
DTSTART;TZID=UTC:20260703T183000
DTEND;TZID=UTC:20260703T200000
DTSTAMP:20260425T194713
CREATED:20260310T002726Z
LAST-MODIFIED:20260311T125756Z
UID:13191-1783103400-1783108800@rfwm.org
SUMMARY:Freedom Gathering
DESCRIPTION:Fridays 6:30 pm \n\n           Download QR
URL:https://rfwm.org/event/freedom-gathering-2/2026-07-03/
ATTACH;FMTTYPE=image/png:https://rfwm.org/wp-content/uploads/2026/03/Freedom-Gathering-Group-Flyer-2-8.5-x-11-in-1.png
END:VEVENT
BEGIN:VEVENT
DTSTART;TZID=UTC:20260704T080000
DTEND;TZID=UTC:20260704T170000
DTSTAMP:20260425T194713
CREATED:20260310T003039Z
LAST-MODIFIED:20260310T003039Z
UID:13234-1783152000-1783184400@rfwm.org
SUMMARY:Corporate Prayer
DESCRIPTION:Saturdays 10 am \n\n           Download QR
URL:https://rfwm.org/event/corporate-prayer-2/2026-07-04/
ATTACH;FMTTYPE=image/png:https://rfwm.org/wp-content/uploads/2026/02/Copy-of-IG-SERMON-Snippet.png
END:VEVENT
BEGIN:VEVENT
DTSTART;TZID=UTC:20260705T100000
DTEND;TZID=UTC:20260705T130000
DTSTAMP:20260425T194713
CREATED:20260215T003538Z
LAST-MODIFIED:20260311T130843Z
UID:12692-1783245600-1783256400@rfwm.org
SUMMARY:Sunday Service
DESCRIPTION:10 am Prayer \n11 am Service \nChild Care Provided \nChildren’s Church Immediately following Praise and Worship \n\n           Download QR
URL:https://rfwm.org/event/sunday-service-5/2026-07-05/
CATEGORIES:Sunday
ATTACH;FMTTYPE=image/png:https://rfwm.org/wp-content/uploads/2026/02/RFWM-Services-Flyer-March-2026.png
END:VEVENT
END:VCALENDAR