BEGIN:VCALENDAR
VERSION:2.0
PRODID:-//RFWM - ECPv6.15.20//NONSGML v1.0//EN
CALSCALE:GREGORIAN
METHOD:PUBLISH
X-ORIGINAL-URL:https://rfwm.org
X-WR-CALDESC:Events for RFWM
REFRESH-INTERVAL;VALUE=DURATION:PT1H
X-Robots-Tag:noindex
X-PUBLISHED-TTL:PT1H
BEGIN:VTIMEZONE
TZID:UTC
BEGIN:STANDARD
TZOFFSETFROM:+0000
TZOFFSETTO:+0000
TZNAME:UTC
DTSTART:20240101T000000
END:STANDARD
END:VTIMEZONE
BEGIN:VEVENT
DTSTART;TZID=UTC:20250312T183000
DTEND;TZID=UTC:20250312T203000
DTSTAMP:20260421T220500
CREATED:20240923T143534Z
LAST-MODIFIED:20240923T143534Z
UID:10301-1741804200-1741811400@rfwm.org
SUMMARY:Bible Study
DESCRIPTION:Join us for BIble Study on Wednesdays at Norwood Park 8100 Newton Avenue N\, Brooklyn Park \nPrayer – 6:30 pm \nBible Study – 7 pm \nChildcare NOT provided \n\n           Download QR
URL:https://rfwm.org/event/bible-study-3/2025-03-12/
CATEGORIES:Wednesday
ATTACH;FMTTYPE=image/png:https://rfwm.org/wp-content/uploads/2024/09/Bible-Study-Flyer-2-Updated.png
END:VEVENT
BEGIN:VEVENT
DTSTART;TZID=UTC:20250319T183000
DTEND;TZID=UTC:20250319T203000
DTSTAMP:20260421T220500
CREATED:20240923T143534Z
LAST-MODIFIED:20240923T143534Z
UID:10302-1742409000-1742416200@rfwm.org
SUMMARY:Bible Study
DESCRIPTION:Join us for BIble Study on Wednesdays at Norwood Park 8100 Newton Avenue N\, Brooklyn Park \nPrayer – 6:30 pm \nBible Study – 7 pm \nChildcare NOT provided \n\n           Download QR
URL:https://rfwm.org/event/bible-study-3/2025-03-19/
CATEGORIES:Wednesday
ATTACH;FMTTYPE=image/png:https://rfwm.org/wp-content/uploads/2024/09/Bible-Study-Flyer-2-Updated.png
END:VEVENT
BEGIN:VEVENT
DTSTART;TZID=UTC:20250326T183000
DTEND;TZID=UTC:20250326T203000
DTSTAMP:20260421T220500
CREATED:20240923T143534Z
LAST-MODIFIED:20240923T143534Z
UID:10303-1743013800-1743021000@rfwm.org
SUMMARY:Bible Study
DESCRIPTION:Join us for BIble Study on Wednesdays at Norwood Park 8100 Newton Avenue N\, Brooklyn Park \nPrayer – 6:30 pm \nBible Study – 7 pm \nChildcare NOT provided \n\n           Download QR
URL:https://rfwm.org/event/bible-study-3/2025-03-26/
CATEGORIES:Wednesday
ATTACH;FMTTYPE=image/png:https://rfwm.org/wp-content/uploads/2024/09/Bible-Study-Flyer-2-Updated.png
END:VEVENT
BEGIN:VEVENT
DTSTART;TZID=UTC:20250402T183000
DTEND;TZID=UTC:20250402T203000
DTSTAMP:20260421T220500
CREATED:20240923T143534Z
LAST-MODIFIED:20240923T143534Z
UID:10304-1743618600-1743625800@rfwm.org
SUMMARY:Bible Study
DESCRIPTION:Join us for BIble Study on Wednesdays at Norwood Park 8100 Newton Avenue N\, Brooklyn Park \nPrayer – 6:30 pm \nBible Study – 7 pm \nChildcare NOT provided \n\n           Download QR
URL:https://rfwm.org/event/bible-study-3/2025-04-02/
CATEGORIES:Wednesday
ATTACH;FMTTYPE=image/png:https://rfwm.org/wp-content/uploads/2024/09/Bible-Study-Flyer-2-Updated.png
END:VEVENT
BEGIN:VEVENT
DTSTART;TZID=UTC:20250409T183000
DTEND;TZID=UTC:20250409T203000
DTSTAMP:20260421T220500
CREATED:20240923T143534Z
LAST-MODIFIED:20240923T143534Z
UID:10305-1744223400-1744230600@rfwm.org
SUMMARY:Bible Study
DESCRIPTION:Join us for BIble Study on Wednesdays at Norwood Park 8100 Newton Avenue N\, Brooklyn Park \nPrayer – 6:30 pm \nBible Study – 7 pm \nChildcare NOT provided \n\n           Download QR
URL:https://rfwm.org/event/bible-study-3/2025-04-09/
CATEGORIES:Wednesday
ATTACH;FMTTYPE=image/png:https://rfwm.org/wp-content/uploads/2024/09/Bible-Study-Flyer-2-Updated.png
END:VEVENT
BEGIN:VEVENT
DTSTART;TZID=UTC:20250416T183000
DTEND;TZID=UTC:20250416T203000
DTSTAMP:20260421T220500
CREATED:20240923T143534Z
LAST-MODIFIED:20240923T143534Z
UID:10306-1744828200-1744835400@rfwm.org
SUMMARY:Bible Study
DESCRIPTION:Join us for BIble Study on Wednesdays at Norwood Park 8100 Newton Avenue N\, Brooklyn Park \nPrayer – 6:30 pm \nBible Study – 7 pm \nChildcare NOT provided \n\n           Download QR
URL:https://rfwm.org/event/bible-study-3/2025-04-16/
CATEGORIES:Wednesday
ATTACH;FMTTYPE=image/png:https://rfwm.org/wp-content/uploads/2024/09/Bible-Study-Flyer-2-Updated.png
END:VEVENT
BEGIN:VEVENT
DTSTART;TZID=UTC:20250423T183000
DTEND;TZID=UTC:20250423T203000
DTSTAMP:20260421T220500
CREATED:20240923T143534Z
LAST-MODIFIED:20240923T143534Z
UID:10307-1745433000-1745440200@rfwm.org
SUMMARY:Bible Study
DESCRIPTION:Join us for BIble Study on Wednesdays at Norwood Park 8100 Newton Avenue N\, Brooklyn Park \nPrayer – 6:30 pm \nBible Study – 7 pm \nChildcare NOT provided \n\n           Download QR
URL:https://rfwm.org/event/bible-study-3/2025-04-23/
CATEGORIES:Wednesday
ATTACH;FMTTYPE=image/png:https://rfwm.org/wp-content/uploads/2024/09/Bible-Study-Flyer-2-Updated.png
END:VEVENT
BEGIN:VEVENT
DTSTART;TZID=UTC:20250430T183000
DTEND;TZID=UTC:20250430T203000
DTSTAMP:20260421T220500
CREATED:20240923T143534Z
LAST-MODIFIED:20240923T143534Z
UID:10308-1746037800-1746045000@rfwm.org
SUMMARY:Bible Study
DESCRIPTION:Join us for BIble Study on Wednesdays at Norwood Park 8100 Newton Avenue N\, Brooklyn Park \nPrayer – 6:30 pm \nBible Study – 7 pm \nChildcare NOT provided \n\n           Download QR
URL:https://rfwm.org/event/bible-study-3/2025-04-30/
CATEGORIES:Wednesday
ATTACH;FMTTYPE=image/png:https://rfwm.org/wp-content/uploads/2024/09/Bible-Study-Flyer-2-Updated.png
END:VEVENT
BEGIN:VEVENT
DTSTART;TZID=UTC:20250507T183000
DTEND;TZID=UTC:20250507T203000
DTSTAMP:20260421T220500
CREATED:20240923T143534Z
LAST-MODIFIED:20240923T143534Z
UID:10309-1746642600-1746649800@rfwm.org
SUMMARY:Bible Study
DESCRIPTION:Join us for BIble Study on Wednesdays at Norwood Park 8100 Newton Avenue N\, Brooklyn Park \nPrayer – 6:30 pm \nBible Study – 7 pm \nChildcare NOT provided \n\n           Download QR
URL:https://rfwm.org/event/bible-study-3/2025-05-07/
CATEGORIES:Wednesday
ATTACH;FMTTYPE=image/png:https://rfwm.org/wp-content/uploads/2024/09/Bible-Study-Flyer-2-Updated.png
END:VEVENT
BEGIN:VEVENT
DTSTART;TZID=UTC:20250514T183000
DTEND;TZID=UTC:20250514T203000
DTSTAMP:20260421T220500
CREATED:20240923T143534Z
LAST-MODIFIED:20240923T143534Z
UID:10310-1747247400-1747254600@rfwm.org
SUMMARY:Bible Study
DESCRIPTION:Join us for BIble Study on Wednesdays at Norwood Park 8100 Newton Avenue N\, Brooklyn Park \nPrayer – 6:30 pm \nBible Study – 7 pm \nChildcare NOT provided \n\n           Download QR
URL:https://rfwm.org/event/bible-study-3/2025-05-14/
CATEGORIES:Wednesday
ATTACH;FMTTYPE=image/png:https://rfwm.org/wp-content/uploads/2024/09/Bible-Study-Flyer-2-Updated.png
END:VEVENT
BEGIN:VEVENT
DTSTART;TZID=UTC:20250820T183000
DTEND;TZID=UTC:20250820T200000
DTSTAMP:20260421T220500
CREATED:20250820T195905Z
LAST-MODIFIED:20250820T195905Z
UID:12135-1755714600-1755720000@rfwm.org
SUMMARY:Bible Study
DESCRIPTION:Jewel Park \n1401 89th Avenue Brooklyn Park \n6:30 pm \n\n           Download QR
URL:https://rfwm.org/event/bible-study-6/
CATEGORIES:Wednesday
END:VEVENT
BEGIN:VEVENT
DTSTART;TZID=UTC:20250827T183000
DTEND;TZID=UTC:20250827T200000
DTSTAMP:20260421T220500
CREATED:20250820T200202Z
LAST-MODIFIED:20250820T200202Z
UID:12137-1756319400-1756324800@rfwm.org
SUMMARY:Bible Study
DESCRIPTION:Brooklyn Park Library \n8500 W Broadway\, Brooklyn Park \n6:30 pm – 8 pm \n\n           Download QR
URL:https://rfwm.org/event/bible-study-7/
CATEGORIES:Wednesday
END:VEVENT
BEGIN:VEVENT
DTSTART;TZID=UTC:20250924T180000
DTEND;TZID=UTC:20250924T203000
DTSTAMP:20260421T220500
CREATED:20250918T230253Z
LAST-MODIFIED:20250918T230253Z
UID:12144-1758736800-1758745800@rfwm.org
SUMMARY:Bible Study
DESCRIPTION:6 pm Prayer \n7 pm Bible Study \nNorwood Park \n8100 Newton Avenue N\, Brooklyn Park \n\n           Download QR
URL:https://rfwm.org/event/bible-study-8/2025-09-24/
CATEGORIES:Wednesday
END:VEVENT
BEGIN:VEVENT
DTSTART;TZID=UTC:20251001T180000
DTEND;TZID=UTC:20251001T203000
DTSTAMP:20260421T220500
CREATED:20250918T230253Z
LAST-MODIFIED:20250918T230253Z
UID:12145-1759341600-1759350600@rfwm.org
SUMMARY:Bible Study
DESCRIPTION:6 pm Prayer \n7 pm Bible Study \nNorwood Park \n8100 Newton Avenue N\, Brooklyn Park \n\n           Download QR
URL:https://rfwm.org/event/bible-study-8/2025-10-01/
CATEGORIES:Wednesday
END:VEVENT
BEGIN:VEVENT
DTSTART;TZID=UTC:20251008T180000
DTEND;TZID=UTC:20251008T203000
DTSTAMP:20260421T220500
CREATED:20250918T230253Z
LAST-MODIFIED:20250918T230253Z
UID:12146-1759946400-1759955400@rfwm.org
SUMMARY:Bible Study
DESCRIPTION:6 pm Prayer \n7 pm Bible Study \nNorwood Park \n8100 Newton Avenue N\, Brooklyn Park \n\n           Download QR
URL:https://rfwm.org/event/bible-study-8/2025-10-08/
CATEGORIES:Wednesday
END:VEVENT
BEGIN:VEVENT
DTSTART;TZID=UTC:20251015T180000
DTEND;TZID=UTC:20251015T203000
DTSTAMP:20260421T220500
CREATED:20250918T230253Z
LAST-MODIFIED:20250918T230253Z
UID:12147-1760551200-1760560200@rfwm.org
SUMMARY:Bible Study
DESCRIPTION:6 pm Prayer \n7 pm Bible Study \nNorwood Park \n8100 Newton Avenue N\, Brooklyn Park \n\n           Download QR
URL:https://rfwm.org/event/bible-study-8/2025-10-15/
CATEGORIES:Wednesday
END:VEVENT
BEGIN:VEVENT
DTSTART;TZID=UTC:20251022T180000
DTEND;TZID=UTC:20251022T203000
DTSTAMP:20260421T220500
CREATED:20250918T230253Z
LAST-MODIFIED:20250918T230253Z
UID:12148-1761156000-1761165000@rfwm.org
SUMMARY:Bible Study
DESCRIPTION:6 pm Prayer \n7 pm Bible Study \nNorwood Park \n8100 Newton Avenue N\, Brooklyn Park \n\n           Download QR
URL:https://rfwm.org/event/bible-study-8/2025-10-22/
CATEGORIES:Wednesday
END:VEVENT
BEGIN:VEVENT
DTSTART;TZID=UTC:20251029T180000
DTEND;TZID=UTC:20251029T203000
DTSTAMP:20260421T220500
CREATED:20250918T230253Z
LAST-MODIFIED:20250918T230253Z
UID:12149-1761760800-1761769800@rfwm.org
SUMMARY:Bible Study
DESCRIPTION:6 pm Prayer \n7 pm Bible Study \nNorwood Park \n8100 Newton Avenue N\, Brooklyn Park \n\n           Download QR
URL:https://rfwm.org/event/bible-study-8/2025-10-29/
CATEGORIES:Wednesday
END:VEVENT
BEGIN:VEVENT
DTSTART;TZID=UTC:20251105T180000
DTEND;TZID=UTC:20251105T203000
DTSTAMP:20260421T220500
CREATED:20250918T230253Z
LAST-MODIFIED:20250918T230253Z
UID:12150-1762365600-1762374600@rfwm.org
SUMMARY:Bible Study
DESCRIPTION:6 pm Prayer \n7 pm Bible Study \nNorwood Park \n8100 Newton Avenue N\, Brooklyn Park \n\n           Download QR
URL:https://rfwm.org/event/bible-study-8/2025-11-05/
CATEGORIES:Wednesday
END:VEVENT
BEGIN:VEVENT
DTSTART;TZID=UTC:20251112T180000
DTEND;TZID=UTC:20251112T203000
DTSTAMP:20260421T220500
CREATED:20250918T230253Z
LAST-MODIFIED:20250918T230253Z
UID:12151-1762970400-1762979400@rfwm.org
SUMMARY:Bible Study
DESCRIPTION:6 pm Prayer \n7 pm Bible Study \nNorwood Park \n8100 Newton Avenue N\, Brooklyn Park \n\n           Download QR
URL:https://rfwm.org/event/bible-study-8/2025-11-12/
CATEGORIES:Wednesday
END:VEVENT
BEGIN:VEVENT
DTSTART;TZID=UTC:20251119T180000
DTEND;TZID=UTC:20251119T203000
DTSTAMP:20260421T220500
CREATED:20250918T230253Z
LAST-MODIFIED:20250918T230253Z
UID:12152-1763575200-1763584200@rfwm.org
SUMMARY:Bible Study
DESCRIPTION:6 pm Prayer \n7 pm Bible Study \nNorwood Park \n8100 Newton Avenue N\, Brooklyn Park \n\n           Download QR
URL:https://rfwm.org/event/bible-study-8/2025-11-19/
CATEGORIES:Wednesday
END:VEVENT
BEGIN:VEVENT
DTSTART;TZID=UTC:20251126T180000
DTEND;TZID=UTC:20251126T203000
DTSTAMP:20260421T220500
CREATED:20250918T230253Z
LAST-MODIFIED:20250918T230253Z
UID:12153-1764180000-1764189000@rfwm.org
SUMMARY:Bible Study
DESCRIPTION:6 pm Prayer \n7 pm Bible Study \nNorwood Park \n8100 Newton Avenue N\, Brooklyn Park \n\n           Download QR
URL:https://rfwm.org/event/bible-study-8/2025-11-26/
CATEGORIES:Wednesday
END:VEVENT
BEGIN:VEVENT
DTSTART;TZID=UTC:20251203T180000
DTEND;TZID=UTC:20251203T203000
DTSTAMP:20260421T220500
CREATED:20250918T230253Z
LAST-MODIFIED:20250918T230253Z
UID:12154-1764784800-1764793800@rfwm.org
SUMMARY:Bible Study
DESCRIPTION:6 pm Prayer \n7 pm Bible Study \nNorwood Park \n8100 Newton Avenue N\, Brooklyn Park \n\n           Download QR
URL:https://rfwm.org/event/bible-study-8/2025-12-03/
CATEGORIES:Wednesday
END:VEVENT
BEGIN:VEVENT
DTSTART;TZID=UTC:20251210T180000
DTEND;TZID=UTC:20251210T203000
DTSTAMP:20260421T220500
CREATED:20250918T230253Z
LAST-MODIFIED:20250918T230253Z
UID:12156-1765389600-1765398600@rfwm.org
SUMMARY:Bible Study
DESCRIPTION:6 pm Prayer \n7 pm Bible Study \nNorwood Park \n8100 Newton Avenue N\, Brooklyn Park \n\n           Download QR
URL:https://rfwm.org/event/bible-study-8/2025-12-10/
CATEGORIES:Wednesday
END:VEVENT
BEGIN:VEVENT
DTSTART;TZID=UTC:20251217T180000
DTEND;TZID=UTC:20251217T203000
DTSTAMP:20260421T220500
CREATED:20250918T230253Z
LAST-MODIFIED:20250918T230253Z
UID:12157-1765994400-1766003400@rfwm.org
SUMMARY:Bible Study
DESCRIPTION:6 pm Prayer \n7 pm Bible Study \nNorwood Park \n8100 Newton Avenue N\, Brooklyn Park \n\n           Download QR
URL:https://rfwm.org/event/bible-study-8/2025-12-17/
CATEGORIES:Wednesday
END:VEVENT
BEGIN:VEVENT
DTSTART;TZID=UTC:20251224T180000
DTEND;TZID=UTC:20251224T203000
DTSTAMP:20260421T220500
CREATED:20250918T230253Z
LAST-MODIFIED:20250918T230253Z
UID:12158-1766599200-1766608200@rfwm.org
SUMMARY:Bible Study
DESCRIPTION:6 pm Prayer \n7 pm Bible Study \nNorwood Park \n8100 Newton Avenue N\, Brooklyn Park \n\n           Download QR
URL:https://rfwm.org/event/bible-study-8/2025-12-24/
CATEGORIES:Wednesday
END:VEVENT
BEGIN:VEVENT
DTSTART;TZID=UTC:20251231T180000
DTEND;TZID=UTC:20251231T203000
DTSTAMP:20260421T220500
CREATED:20250918T230253Z
LAST-MODIFIED:20250918T230253Z
UID:12159-1767204000-1767213000@rfwm.org
SUMMARY:Bible Study
DESCRIPTION:6 pm Prayer \n7 pm Bible Study \nNorwood Park \n8100 Newton Avenue N\, Brooklyn Park \n\n           Download QR
URL:https://rfwm.org/event/bible-study-8/2025-12-31/
CATEGORIES:Wednesday
END:VEVENT
END:VCALENDAR