BEGIN:VCALENDAR
VERSION:2.0
PRODID:-//RFWM - ECPv6.15.20//NONSGML v1.0//EN
CALSCALE:GREGORIAN
METHOD:PUBLISH
X-ORIGINAL-URL:https://rfwm.org
X-WR-CALDESC:Events for RFWM
REFRESH-INTERVAL;VALUE=DURATION:PT1H
X-Robots-Tag:noindex
X-PUBLISHED-TTL:PT1H
BEGIN:VTIMEZONE
TZID:UTC
BEGIN:STANDARD
TZOFFSETFROM:+0000
TZOFFSETTO:+0000
TZNAME:UTC
DTSTART:20230101T000000
END:STANDARD
END:VTIMEZONE
BEGIN:VEVENT
DTSTART;TZID=UTC:20240911T183000
DTEND;TZID=UTC:20240911T200000
DTSTAMP:20260422T214923
CREATED:20240903T130841Z
LAST-MODIFIED:20240923T142925Z
UID:9231-1726079400-1726084800@rfwm.org
SUMMARY:Men's Bible Study
DESCRIPTION:Join the men of RFWM on Wednesdays at 6:30 pm at the RFWM office. \n8525 Edinbrook Crossing\, Brooklyn Park \n\n           Download QR
URL:https://rfwm.org/event/mens-bible-study-2/2024-09-11/
CATEGORIES:Wednesday
END:VEVENT
BEGIN:VEVENT
DTSTART;TZID=UTC:20240918T183000
DTEND;TZID=UTC:20240918T200000
DTSTAMP:20260422T214923
CREATED:20240903T130324Z
LAST-MODIFIED:20240923T142719Z
UID:9226-1726684200-1726689600@rfwm.org
SUMMARY:Women's Bible Study
DESCRIPTION:Join Us on Sundays and Wednesdays in September for teaching from the women of RFWM! \nSunday\, September 1 – Wednesday\, October 2\, 2024 \nSundays – Northport Elementary\, 5421 Brooklyn Blvd\, Brooklyn Center (11 am) \nWednesdays – Norwood Park\, 8100 Newton Avenue N\, Brooklyn Park (6:30 pm – 8 pm) \n\n           Download QR
URL:https://rfwm.org/event/womens-bible-study/2024-09-18/
CATEGORIES:Sunday,Wednesday
ATTACH;FMTTYPE=image/jpeg:https://rfwm.org/wp-content/uploads/2024/09/Womens-Celebration-Month-Sept-2024.jpeg
END:VEVENT
BEGIN:VEVENT
DTSTART;TZID=UTC:20240918T183000
DTEND;TZID=UTC:20240918T200000
DTSTAMP:20260422T214923
CREATED:20240903T130841Z
LAST-MODIFIED:20240923T142927Z
UID:9232-1726684200-1726689600@rfwm.org
SUMMARY:Men's Bible Study
DESCRIPTION:Join the men of RFWM on Wednesdays at 6:30 pm at the RFWM office. \n8525 Edinbrook Crossing\, Brooklyn Park \n\n           Download QR
URL:https://rfwm.org/event/mens-bible-study-2/2024-09-18/
CATEGORIES:Wednesday
END:VEVENT
BEGIN:VEVENT
DTSTART;TZID=UTC:20240925T183000
DTEND;TZID=UTC:20240925T200000
DTSTAMP:20260422T214923
CREATED:20240903T130324Z
LAST-MODIFIED:20240923T142722Z
UID:9227-1727289000-1727294400@rfwm.org
SUMMARY:Women's Bible Study
DESCRIPTION:Join Us on Sundays and Wednesdays in September for teaching from the women of RFWM! \nSunday\, September 1 – Wednesday\, October 2\, 2024 \nSundays – Northport Elementary\, 5421 Brooklyn Blvd\, Brooklyn Center (11 am) \nWednesdays – Norwood Park\, 8100 Newton Avenue N\, Brooklyn Park (6:30 pm – 8 pm) \n\n           Download QR
URL:https://rfwm.org/event/womens-bible-study/2024-09-25/
CATEGORIES:Sunday,Wednesday
ATTACH;FMTTYPE=image/jpeg:https://rfwm.org/wp-content/uploads/2024/09/Womens-Celebration-Month-Sept-2024.jpeg
END:VEVENT
BEGIN:VEVENT
DTSTART;TZID=UTC:20240925T183000
DTEND;TZID=UTC:20240925T200000
DTSTAMP:20260422T214923
CREATED:20240903T130841Z
LAST-MODIFIED:20240923T142930Z
UID:9233-1727289000-1727294400@rfwm.org
SUMMARY:Men's Bible Study
DESCRIPTION:Join the men of RFWM on Wednesdays at 6:30 pm at the RFWM office. \n8525 Edinbrook Crossing\, Brooklyn Park \n\n           Download QR
URL:https://rfwm.org/event/mens-bible-study-2/2024-09-25/
CATEGORIES:Wednesday
END:VEVENT
BEGIN:VEVENT
DTSTART;TZID=UTC:20241002T183000
DTEND;TZID=UTC:20241002T203000
DTSTAMP:20260422T214923
CREATED:20240923T143534Z
LAST-MODIFIED:20250102T220234Z
UID:9288-1727893800-1727901000@rfwm.org
SUMMARY:Bible Study
DESCRIPTION:Join us for BIble Study on Wednesdays at Norwood Park 8100 Newton Avenue N\, Brooklyn Park \nPrayer – 6:30 pm \nBible Study – 7 pm \nChildcare NOT provided \n\n           Download QR
URL:https://rfwm.org/event/bible-study-3/2024-10-02/
CATEGORIES:Wednesday
ATTACH;FMTTYPE=image/png:https://rfwm.org/wp-content/uploads/2024/09/Bible-Study-Flyer-2-Updated.png
END:VEVENT
BEGIN:VEVENT
DTSTART;TZID=UTC:20241009T183000
DTEND;TZID=UTC:20241009T203000
DTSTAMP:20260422T214923
CREATED:20240923T143534Z
LAST-MODIFIED:20240923T204215Z
UID:9289-1728498600-1728505800@rfwm.org
SUMMARY:Bible Study
DESCRIPTION:Join us for BIble Study on Wednesdays at Norwood Park 8100 Newton Avenue N\, Brooklyn Park \nPrayer – 6:30 pm \nBible Study – 7 pm \nChildcare NOT provided \n\n           Download QR
URL:https://rfwm.org/event/bible-study-3/2024-10-09/
CATEGORIES:Wednesday
ATTACH;FMTTYPE=image/png:https://rfwm.org/wp-content/uploads/2024/09/Bible-Study-Flyer-2-Updated.png
END:VEVENT
BEGIN:VEVENT
DTSTART;TZID=UTC:20241016T183000
DTEND;TZID=UTC:20241016T203000
DTSTAMP:20260422T214923
CREATED:20240923T143534Z
LAST-MODIFIED:20240923T204218Z
UID:9290-1729103400-1729110600@rfwm.org
SUMMARY:Bible Study
DESCRIPTION:Join us for BIble Study on Wednesdays at Norwood Park 8100 Newton Avenue N\, Brooklyn Park \nPrayer – 6:30 pm \nBible Study – 7 pm \nChildcare NOT provided \n\n           Download QR
URL:https://rfwm.org/event/bible-study-3/2024-10-16/
CATEGORIES:Wednesday
ATTACH;FMTTYPE=image/png:https://rfwm.org/wp-content/uploads/2024/09/Bible-Study-Flyer-2-Updated.png
END:VEVENT
BEGIN:VEVENT
DTSTART;TZID=UTC:20241023T183000
DTEND;TZID=UTC:20241023T203000
DTSTAMP:20260422T214923
CREATED:20240923T143534Z
LAST-MODIFIED:20240923T204221Z
UID:9291-1729708200-1729715400@rfwm.org
SUMMARY:Bible Study
DESCRIPTION:Join us for BIble Study on Wednesdays at Norwood Park 8100 Newton Avenue N\, Brooklyn Park \nPrayer – 6:30 pm \nBible Study – 7 pm \nChildcare NOT provided \n\n           Download QR
URL:https://rfwm.org/event/bible-study-3/2024-10-23/
CATEGORIES:Wednesday
ATTACH;FMTTYPE=image/png:https://rfwm.org/wp-content/uploads/2024/09/Bible-Study-Flyer-2-Updated.png
END:VEVENT
BEGIN:VEVENT
DTSTART;TZID=UTC:20241030T183000
DTEND;TZID=UTC:20241030T203000
DTSTAMP:20260422T214923
CREATED:20240923T143534Z
LAST-MODIFIED:20240923T204224Z
UID:9292-1730313000-1730320200@rfwm.org
SUMMARY:Bible Study
DESCRIPTION:Join us for BIble Study on Wednesdays at Norwood Park 8100 Newton Avenue N\, Brooklyn Park \nPrayer – 6:30 pm \nBible Study – 7 pm \nChildcare NOT provided \n\n           Download QR
URL:https://rfwm.org/event/bible-study-3/2024-10-30/
CATEGORIES:Wednesday
ATTACH;FMTTYPE=image/png:https://rfwm.org/wp-content/uploads/2024/09/Bible-Study-Flyer-2-Updated.png
END:VEVENT
BEGIN:VEVENT
DTSTART;TZID=UTC:20241106T183000
DTEND;TZID=UTC:20241106T203000
DTSTAMP:20260422T214923
CREATED:20240923T143534Z
LAST-MODIFIED:20240923T204227Z
UID:9293-1730917800-1730925000@rfwm.org
SUMMARY:Bible Study
DESCRIPTION:Join us for BIble Study on Wednesdays at Norwood Park 8100 Newton Avenue N\, Brooklyn Park \nPrayer – 6:30 pm \nBible Study – 7 pm \nChildcare NOT provided \n\n           Download QR
URL:https://rfwm.org/event/bible-study-3/2024-11-06/
CATEGORIES:Wednesday
ATTACH;FMTTYPE=image/png:https://rfwm.org/wp-content/uploads/2024/09/Bible-Study-Flyer-2-Updated.png
END:VEVENT
BEGIN:VEVENT
DTSTART;TZID=UTC:20241113T183000
DTEND;TZID=UTC:20241113T203000
DTSTAMP:20260422T214923
CREATED:20240923T143534Z
LAST-MODIFIED:20240923T204230Z
UID:9294-1731522600-1731529800@rfwm.org
SUMMARY:Bible Study
DESCRIPTION:Join us for BIble Study on Wednesdays at Norwood Park 8100 Newton Avenue N\, Brooklyn Park \nPrayer – 6:30 pm \nBible Study – 7 pm \nChildcare NOT provided \n\n           Download QR
URL:https://rfwm.org/event/bible-study-3/2024-11-13/
CATEGORIES:Wednesday
ATTACH;FMTTYPE=image/png:https://rfwm.org/wp-content/uploads/2024/09/Bible-Study-Flyer-2-Updated.png
END:VEVENT
BEGIN:VEVENT
DTSTART;TZID=UTC:20241120T183000
DTEND;TZID=UTC:20241120T203000
DTSTAMP:20260422T214923
CREATED:20240923T143534Z
LAST-MODIFIED:20240923T204234Z
UID:9295-1732127400-1732134600@rfwm.org
SUMMARY:Bible Study
DESCRIPTION:Join us for BIble Study on Wednesdays at Norwood Park 8100 Newton Avenue N\, Brooklyn Park \nPrayer – 6:30 pm \nBible Study – 7 pm \nChildcare NOT provided \n\n           Download QR
URL:https://rfwm.org/event/bible-study-3/2024-11-20/
CATEGORIES:Wednesday
ATTACH;FMTTYPE=image/png:https://rfwm.org/wp-content/uploads/2024/09/Bible-Study-Flyer-2-Updated.png
END:VEVENT
BEGIN:VEVENT
DTSTART;TZID=UTC:20241127T183000
DTEND;TZID=UTC:20241127T203000
DTSTAMP:20260422T214923
CREATED:20240923T143534Z
LAST-MODIFIED:20240923T204239Z
UID:9296-1732732200-1732739400@rfwm.org
SUMMARY:Bible Study
DESCRIPTION:Join us for BIble Study on Wednesdays at Norwood Park 8100 Newton Avenue N\, Brooklyn Park \nPrayer – 6:30 pm \nBible Study – 7 pm \nChildcare NOT provided \n\n           Download QR
URL:https://rfwm.org/event/bible-study-3/2024-11-27/
CATEGORIES:Wednesday
ATTACH;FMTTYPE=image/png:https://rfwm.org/wp-content/uploads/2024/09/Bible-Study-Flyer-2-Updated.png
END:VEVENT
BEGIN:VEVENT
DTSTART;TZID=UTC:20241204T183000
DTEND;TZID=UTC:20241204T203000
DTSTAMP:20260422T214923
CREATED:20240923T143534Z
LAST-MODIFIED:20240923T204242Z
UID:9297-1733337000-1733344200@rfwm.org
SUMMARY:Bible Study
DESCRIPTION:Join us for BIble Study on Wednesdays at Norwood Park 8100 Newton Avenue N\, Brooklyn Park \nPrayer – 6:30 pm \nBible Study – 7 pm \nChildcare NOT provided \n\n           Download QR
URL:https://rfwm.org/event/bible-study-3/2024-12-04/
CATEGORIES:Wednesday
ATTACH;FMTTYPE=image/png:https://rfwm.org/wp-content/uploads/2024/09/Bible-Study-Flyer-2-Updated.png
END:VEVENT
BEGIN:VEVENT
DTSTART;TZID=UTC:20241211T183000
DTEND;TZID=UTC:20241211T203000
DTSTAMP:20260422T214923
CREATED:20240923T143534Z
LAST-MODIFIED:20240923T204246Z
UID:9298-1733941800-1733949000@rfwm.org
SUMMARY:Bible Study
DESCRIPTION:Join us for BIble Study on Wednesdays at Norwood Park 8100 Newton Avenue N\, Brooklyn Park \nPrayer – 6:30 pm \nBible Study – 7 pm \nChildcare NOT provided \n\n           Download QR
URL:https://rfwm.org/event/bible-study-3/2024-12-11/
CATEGORIES:Wednesday
ATTACH;FMTTYPE=image/png:https://rfwm.org/wp-content/uploads/2024/09/Bible-Study-Flyer-2-Updated.png
END:VEVENT
BEGIN:VEVENT
DTSTART;TZID=UTC:20241218T183000
DTEND;TZID=UTC:20241218T203000
DTSTAMP:20260422T214923
CREATED:20240923T143534Z
LAST-MODIFIED:20240923T204255Z
UID:9300-1734546600-1734553800@rfwm.org
SUMMARY:Bible Study
DESCRIPTION:Join us for BIble Study on Wednesdays at Norwood Park 8100 Newton Avenue N\, Brooklyn Park \nPrayer – 6:30 pm \nBible Study – 7 pm \nChildcare NOT provided \n\n           Download QR
URL:https://rfwm.org/event/bible-study-3/2024-12-18/
CATEGORIES:Wednesday
ATTACH;FMTTYPE=image/png:https://rfwm.org/wp-content/uploads/2024/09/Bible-Study-Flyer-2-Updated.png
END:VEVENT
BEGIN:VEVENT
DTSTART;TZID=UTC:20250108T183000
DTEND;TZID=UTC:20250108T203000
DTSTAMP:20260422T214923
CREATED:20240923T143534Z
LAST-MODIFIED:20240923T143534Z
UID:10292-1736361000-1736368200@rfwm.org
SUMMARY:Bible Study
DESCRIPTION:Join us for BIble Study on Wednesdays at Norwood Park 8100 Newton Avenue N\, Brooklyn Park \nPrayer – 6:30 pm \nBible Study – 7 pm \nChildcare NOT provided \n\n           Download QR
URL:https://rfwm.org/event/bible-study-3/2025-01-08/
CATEGORIES:Wednesday
ATTACH;FMTTYPE=image/png:https://rfwm.org/wp-content/uploads/2024/09/Bible-Study-Flyer-2-Updated.png
END:VEVENT
BEGIN:VEVENT
DTSTART;TZID=UTC:20250115T183000
DTEND;TZID=UTC:20250115T203000
DTSTAMP:20260422T214923
CREATED:20240923T143534Z
LAST-MODIFIED:20240923T143534Z
UID:10293-1736965800-1736973000@rfwm.org
SUMMARY:Bible Study
DESCRIPTION:Join us for BIble Study on Wednesdays at Norwood Park 8100 Newton Avenue N\, Brooklyn Park \nPrayer – 6:30 pm \nBible Study – 7 pm \nChildcare NOT provided \n\n           Download QR
URL:https://rfwm.org/event/bible-study-3/2025-01-15/
CATEGORIES:Wednesday
ATTACH;FMTTYPE=image/png:https://rfwm.org/wp-content/uploads/2024/09/Bible-Study-Flyer-2-Updated.png
END:VEVENT
BEGIN:VEVENT
DTSTART;TZID=UTC:20250122T183000
DTEND;TZID=UTC:20250122T203000
DTSTAMP:20260422T214923
CREATED:20240923T143534Z
LAST-MODIFIED:20240923T143534Z
UID:10294-1737570600-1737577800@rfwm.org
SUMMARY:Bible Study
DESCRIPTION:Join us for BIble Study on Wednesdays at Norwood Park 8100 Newton Avenue N\, Brooklyn Park \nPrayer – 6:30 pm \nBible Study – 7 pm \nChildcare NOT provided \n\n           Download QR
URL:https://rfwm.org/event/bible-study-3/2025-01-22/
CATEGORIES:Wednesday
ATTACH;FMTTYPE=image/png:https://rfwm.org/wp-content/uploads/2024/09/Bible-Study-Flyer-2-Updated.png
END:VEVENT
BEGIN:VEVENT
DTSTART;TZID=UTC:20250129T183000
DTEND;TZID=UTC:20250129T203000
DTSTAMP:20260422T214923
CREATED:20240923T143534Z
LAST-MODIFIED:20240923T143534Z
UID:10295-1738175400-1738182600@rfwm.org
SUMMARY:Bible Study
DESCRIPTION:Join us for BIble Study on Wednesdays at Norwood Park 8100 Newton Avenue N\, Brooklyn Park \nPrayer – 6:30 pm \nBible Study – 7 pm \nChildcare NOT provided \n\n           Download QR
URL:https://rfwm.org/event/bible-study-3/2025-01-29/
CATEGORIES:Wednesday
ATTACH;FMTTYPE=image/png:https://rfwm.org/wp-content/uploads/2024/09/Bible-Study-Flyer-2-Updated.png
END:VEVENT
BEGIN:VEVENT
DTSTART;TZID=UTC:20250205T183000
DTEND;TZID=UTC:20250205T203000
DTSTAMP:20260422T214923
CREATED:20240923T143534Z
LAST-MODIFIED:20240923T143534Z
UID:10296-1738780200-1738787400@rfwm.org
SUMMARY:Bible Study
DESCRIPTION:Join us for BIble Study on Wednesdays at Norwood Park 8100 Newton Avenue N\, Brooklyn Park \nPrayer – 6:30 pm \nBible Study – 7 pm \nChildcare NOT provided \n\n           Download QR
URL:https://rfwm.org/event/bible-study-3/2025-02-05/
CATEGORIES:Wednesday
ATTACH;FMTTYPE=image/png:https://rfwm.org/wp-content/uploads/2024/09/Bible-Study-Flyer-2-Updated.png
END:VEVENT
BEGIN:VEVENT
DTSTART;TZID=UTC:20250212T183000
DTEND;TZID=UTC:20250212T203000
DTSTAMP:20260422T214923
CREATED:20240923T143534Z
LAST-MODIFIED:20240923T143534Z
UID:10297-1739385000-1739392200@rfwm.org
SUMMARY:Bible Study
DESCRIPTION:Join us for BIble Study on Wednesdays at Norwood Park 8100 Newton Avenue N\, Brooklyn Park \nPrayer – 6:30 pm \nBible Study – 7 pm \nChildcare NOT provided \n\n           Download QR
URL:https://rfwm.org/event/bible-study-3/2025-02-12/
CATEGORIES:Wednesday
ATTACH;FMTTYPE=image/png:https://rfwm.org/wp-content/uploads/2024/09/Bible-Study-Flyer-2-Updated.png
END:VEVENT
BEGIN:VEVENT
DTSTART;TZID=UTC:20250219T183000
DTEND;TZID=UTC:20250219T203000
DTSTAMP:20260422T214923
CREATED:20240923T143534Z
LAST-MODIFIED:20240923T143534Z
UID:10298-1739989800-1739997000@rfwm.org
SUMMARY:Bible Study
DESCRIPTION:Join us for BIble Study on Wednesdays at Norwood Park 8100 Newton Avenue N\, Brooklyn Park \nPrayer – 6:30 pm \nBible Study – 7 pm \nChildcare NOT provided \n\n           Download QR
URL:https://rfwm.org/event/bible-study-3/2025-02-19/
CATEGORIES:Wednesday
ATTACH;FMTTYPE=image/png:https://rfwm.org/wp-content/uploads/2024/09/Bible-Study-Flyer-2-Updated.png
END:VEVENT
BEGIN:VEVENT
DTSTART;TZID=UTC:20250226T183000
DTEND;TZID=UTC:20250226T203000
DTSTAMP:20260422T214923
CREATED:20240923T143534Z
LAST-MODIFIED:20240923T143534Z
UID:10299-1740594600-1740601800@rfwm.org
SUMMARY:Bible Study
DESCRIPTION:Join us for BIble Study on Wednesdays at Norwood Park 8100 Newton Avenue N\, Brooklyn Park \nPrayer – 6:30 pm \nBible Study – 7 pm \nChildcare NOT provided \n\n           Download QR
URL:https://rfwm.org/event/bible-study-3/2025-02-26/
CATEGORIES:Wednesday
ATTACH;FMTTYPE=image/png:https://rfwm.org/wp-content/uploads/2024/09/Bible-Study-Flyer-2-Updated.png
END:VEVENT
BEGIN:VEVENT
DTSTART;TZID=UTC:20250305T183000
DTEND;TZID=UTC:20250305T203000
DTSTAMP:20260422T214923
CREATED:20240923T143534Z
LAST-MODIFIED:20240923T143534Z
UID:10300-1741199400-1741206600@rfwm.org
SUMMARY:Bible Study
DESCRIPTION:Join us for BIble Study on Wednesdays at Norwood Park 8100 Newton Avenue N\, Brooklyn Park \nPrayer – 6:30 pm \nBible Study – 7 pm \nChildcare NOT provided \n\n           Download QR
URL:https://rfwm.org/event/bible-study-3/2025-03-05/
CATEGORIES:Wednesday
ATTACH;FMTTYPE=image/png:https://rfwm.org/wp-content/uploads/2024/09/Bible-Study-Flyer-2-Updated.png
END:VEVENT
BEGIN:VEVENT
DTSTART;TZID=UTC:20250312T183000
DTEND;TZID=UTC:20250312T203000
DTSTAMP:20260422T214923
CREATED:20240923T143534Z
LAST-MODIFIED:20240923T143534Z
UID:10301-1741804200-1741811400@rfwm.org
SUMMARY:Bible Study
DESCRIPTION:Join us for BIble Study on Wednesdays at Norwood Park 8100 Newton Avenue N\, Brooklyn Park \nPrayer – 6:30 pm \nBible Study – 7 pm \nChildcare NOT provided \n\n           Download QR
URL:https://rfwm.org/event/bible-study-3/2025-03-12/
CATEGORIES:Wednesday
ATTACH;FMTTYPE=image/png:https://rfwm.org/wp-content/uploads/2024/09/Bible-Study-Flyer-2-Updated.png
END:VEVENT
BEGIN:VEVENT
DTSTART;TZID=UTC:20250319T183000
DTEND;TZID=UTC:20250319T203000
DTSTAMP:20260422T214923
CREATED:20240923T143534Z
LAST-MODIFIED:20240923T143534Z
UID:10302-1742409000-1742416200@rfwm.org
SUMMARY:Bible Study
DESCRIPTION:Join us for BIble Study on Wednesdays at Norwood Park 8100 Newton Avenue N\, Brooklyn Park \nPrayer – 6:30 pm \nBible Study – 7 pm \nChildcare NOT provided \n\n           Download QR
URL:https://rfwm.org/event/bible-study-3/2025-03-19/
CATEGORIES:Wednesday
ATTACH;FMTTYPE=image/png:https://rfwm.org/wp-content/uploads/2024/09/Bible-Study-Flyer-2-Updated.png
END:VEVENT
BEGIN:VEVENT
DTSTART;TZID=UTC:20250326T183000
DTEND;TZID=UTC:20250326T203000
DTSTAMP:20260422T214923
CREATED:20240923T143534Z
LAST-MODIFIED:20240923T143534Z
UID:10303-1743013800-1743021000@rfwm.org
SUMMARY:Bible Study
DESCRIPTION:Join us for BIble Study on Wednesdays at Norwood Park 8100 Newton Avenue N\, Brooklyn Park \nPrayer – 6:30 pm \nBible Study – 7 pm \nChildcare NOT provided \n\n           Download QR
URL:https://rfwm.org/event/bible-study-3/2025-03-26/
CATEGORIES:Wednesday
ATTACH;FMTTYPE=image/png:https://rfwm.org/wp-content/uploads/2024/09/Bible-Study-Flyer-2-Updated.png
END:VEVENT
BEGIN:VEVENT
DTSTART;TZID=UTC:20250402T183000
DTEND;TZID=UTC:20250402T203000
DTSTAMP:20260422T214923
CREATED:20240923T143534Z
LAST-MODIFIED:20240923T143534Z
UID:10304-1743618600-1743625800@rfwm.org
SUMMARY:Bible Study
DESCRIPTION:Join us for BIble Study on Wednesdays at Norwood Park 8100 Newton Avenue N\, Brooklyn Park \nPrayer – 6:30 pm \nBible Study – 7 pm \nChildcare NOT provided \n\n           Download QR
URL:https://rfwm.org/event/bible-study-3/2025-04-02/
CATEGORIES:Wednesday
ATTACH;FMTTYPE=image/png:https://rfwm.org/wp-content/uploads/2024/09/Bible-Study-Flyer-2-Updated.png
END:VEVENT
END:VCALENDAR