BEGIN:VCALENDAR
VERSION:2.0
PRODID:-//RFWM - ECPv6.15.20//NONSGML v1.0//EN
CALSCALE:GREGORIAN
METHOD:PUBLISH
X-ORIGINAL-URL:https://rfwm.org
X-WR-CALDESC:Events for RFWM
REFRESH-INTERVAL;VALUE=DURATION:PT1H
X-Robots-Tag:noindex
X-PUBLISHED-TTL:PT1H
BEGIN:VTIMEZONE
TZID:UTC
BEGIN:STANDARD
TZOFFSETFROM:+0000
TZOFFSETTO:+0000
TZNAME:UTC
DTSTART:20230101T000000
END:STANDARD
END:VTIMEZONE
BEGIN:VEVENT
DTSTART;TZID=UTC:20240529T183000
DTEND;TZID=UTC:20240529T200000
DTSTAMP:20260421T222455
CREATED:20230918T194022Z
LAST-MODIFIED:20230918T194022Z
UID:8891-1717007400-1717012800@rfwm.org
SUMMARY:Women's Wednesdays - Bible Study
DESCRIPTION:Wednesday Bible Study \n6:30 – 8 pm \nNorwood Park \n8099 Newton Avenue N\, Brooklyn Park \n\n           Download QR
URL:https://rfwm.org/event/bible-study/2024-05-29/
CATEGORIES:Wednesday
ATTACH;FMTTYPE=image/jpeg:https://rfwm.org/wp-content/uploads/2023/09/Maroon-Photo-Church-Anniversary-Flyer-2.jpg
END:VEVENT
BEGIN:VEVENT
DTSTART;TZID=UTC:20240529T190000
DTEND;TZID=UTC:20240529T203000
DTSTAMP:20260421T222455
CREATED:20240521T164350Z
LAST-MODIFIED:20240521T164350Z
UID:9100-1717009200-1717014600@rfwm.org
SUMMARY:Men's Bible Study
DESCRIPTION:Wednesdays 7 pm \nRFWM Offices – Main Floor Conference Room \n\n           Download QR
URL:https://rfwm.org/event/mens-bible-study/2024-05-29/
CATEGORIES:Wednesday
END:VEVENT
END:VCALENDAR