BEGIN:VCALENDAR
VERSION:2.0
PRODID:-//RFWM - ECPv6.15.20//NONSGML v1.0//EN
CALSCALE:GREGORIAN
METHOD:PUBLISH
X-WR-CALNAME:RFWM
X-ORIGINAL-URL:https://rfwm.org
X-WR-CALDESC:Events for RFWM
REFRESH-INTERVAL;VALUE=DURATION:PT1H
X-Robots-Tag:noindex
X-PUBLISHED-TTL:PT1H
BEGIN:VTIMEZONE
TZID:UTC
BEGIN:STANDARD
TZOFFSETFROM:+0000
TZOFFSETTO:+0000
TZNAME:UTC
DTSTART:20240101T000000
END:STANDARD
END:VTIMEZONE
BEGIN:VEVENT
DTSTART;TZID=UTC:20251001T180000
DTEND;TZID=UTC:20251001T203000
DTSTAMP:20260420T190920
CREATED:20250918T230253Z
LAST-MODIFIED:20250918T230253Z
UID:12145-1759341600-1759350600@rfwm.org
SUMMARY:Bible Study
DESCRIPTION:6 pm Prayer \n7 pm Bible Study \nNorwood Park \n8100 Newton Avenue N\, Brooklyn Park \n\n           Download QR
URL:https://rfwm.org/event/bible-study-8/2025-10-01/
CATEGORIES:Wednesday
END:VEVENT
BEGIN:VEVENT
DTSTART;TZID=UTC:20251008T180000
DTEND;TZID=UTC:20251008T203000
DTSTAMP:20260420T190920
CREATED:20250918T230253Z
LAST-MODIFIED:20250918T230253Z
UID:12146-1759946400-1759955400@rfwm.org
SUMMARY:Bible Study
DESCRIPTION:6 pm Prayer \n7 pm Bible Study \nNorwood Park \n8100 Newton Avenue N\, Brooklyn Park \n\n           Download QR
URL:https://rfwm.org/event/bible-study-8/2025-10-08/
CATEGORIES:Wednesday
END:VEVENT
BEGIN:VEVENT
DTSTART;TZID=UTC:20251015T180000
DTEND;TZID=UTC:20251015T203000
DTSTAMP:20260420T190920
CREATED:20250918T230253Z
LAST-MODIFIED:20250918T230253Z
UID:12147-1760551200-1760560200@rfwm.org
SUMMARY:Bible Study
DESCRIPTION:6 pm Prayer \n7 pm Bible Study \nNorwood Park \n8100 Newton Avenue N\, Brooklyn Park \n\n           Download QR
URL:https://rfwm.org/event/bible-study-8/2025-10-15/
CATEGORIES:Wednesday
END:VEVENT
BEGIN:VEVENT
DTSTART;TZID=UTC:20251022T180000
DTEND;TZID=UTC:20251022T203000
DTSTAMP:20260420T190920
CREATED:20250918T230253Z
LAST-MODIFIED:20250918T230253Z
UID:12148-1761156000-1761165000@rfwm.org
SUMMARY:Bible Study
DESCRIPTION:6 pm Prayer \n7 pm Bible Study \nNorwood Park \n8100 Newton Avenue N\, Brooklyn Park \n\n           Download QR
URL:https://rfwm.org/event/bible-study-8/2025-10-22/
CATEGORIES:Wednesday
END:VEVENT
BEGIN:VEVENT
DTSTART;TZID=UTC:20251029T180000
DTEND;TZID=UTC:20251029T203000
DTSTAMP:20260420T190920
CREATED:20250918T230253Z
LAST-MODIFIED:20250918T230253Z
UID:12149-1761760800-1761769800@rfwm.org
SUMMARY:Bible Study
DESCRIPTION:6 pm Prayer \n7 pm Bible Study \nNorwood Park \n8100 Newton Avenue N\, Brooklyn Park \n\n           Download QR
URL:https://rfwm.org/event/bible-study-8/2025-10-29/
CATEGORIES:Wednesday
END:VEVENT
END:VCALENDAR