BEGIN:VCALENDAR
VERSION:2.0
PRODID:-//RFWM - ECPv6.15.20//NONSGML v1.0//EN
CALSCALE:GREGORIAN
METHOD:PUBLISH
X-WR-CALNAME:RFWM
X-ORIGINAL-URL:https://rfwm.org
X-WR-CALDESC:Events for RFWM
REFRESH-INTERVAL;VALUE=DURATION:PT1H
X-Robots-Tag:noindex
X-PUBLISHED-TTL:PT1H
BEGIN:VTIMEZONE
TZID:UTC
BEGIN:STANDARD
TZOFFSETFROM:+0000
TZOFFSETTO:+0000
TZNAME:UTC
DTSTART:20230101T000000
END:STANDARD
END:VTIMEZONE
BEGIN:VEVENT
DTSTART;TZID=UTC:20240424T183000
DTEND;TZID=UTC:20240424T200000
DTSTAMP:20260421T234228
CREATED:20230918T194022Z
LAST-MODIFIED:20240306T161606Z
UID:8886-1713983400-1713988800@rfwm.org
SUMMARY:Women's Wednesdays  Bible Study
DESCRIPTION:Wednesday Bible Study \n6:30 – 8 pm \nNorwood Park \n8099 Newton Avenue N\, Brooklyn Park \n\n           Download QR
URL:https://rfwm.org/event/bible-study/2024-04-24/
CATEGORIES:Wednesday
ATTACH;FMTTYPE=image/jpeg:https://rfwm.org/wp-content/uploads/2023/09/Maroon-Photo-Church-Anniversary-Flyer-2.jpg
END:VEVENT
END:VCALENDAR