BEGIN:VCALENDAR
VERSION:2.0
PRODID:-//RFWM - ECPv6.15.20//NONSGML v1.0//EN
CALSCALE:GREGORIAN
METHOD:PUBLISH
X-WR-CALNAME:RFWM
X-ORIGINAL-URL:https://rfwm.org
X-WR-CALDESC:Events for RFWM
REFRESH-INTERVAL;VALUE=DURATION:PT1H
X-Robots-Tag:noindex
X-PUBLISHED-TTL:PT1H
BEGIN:VTIMEZONE
TZID:UTC
BEGIN:STANDARD
TZOFFSETFROM:+0000
TZOFFSETTO:+0000
TZNAME:UTC
DTSTART:20240101T000000
END:STANDARD
END:VTIMEZONE
BEGIN:VEVENT
DTSTART;TZID=UTC:20250202T100000
DTEND;TZID=UTC:20250202T130000
DTSTAMP:20260421T182719
CREATED:20240903T132041Z
LAST-MODIFIED:20240903T132041Z
UID:10244-1738490400-1738501200@rfwm.org
SUMMARY:Sunday Worship Service
DESCRIPTION:Sunday Worship Service \n10 am Prayer \n11 am Worship \nLocation: Northport Elementary School 5421 Brooklyn Blvd\, Brooklyn Center \n\n           Download QR
URL:https://rfwm.org/event/sunday-worship-service-2/2025-02-02/
CATEGORIES:Sunday
ATTACH;FMTTYPE=image/png:https://rfwm.org/wp-content/uploads/2023/12/rfwm-flyer.png
END:VEVENT
BEGIN:VEVENT
DTSTART;TZID=UTC:20250209T100000
DTEND;TZID=UTC:20250209T130000
DTSTAMP:20260421T182719
CREATED:20240903T132041Z
LAST-MODIFIED:20240903T132041Z
UID:10245-1739095200-1739106000@rfwm.org
SUMMARY:Sunday Worship Service
DESCRIPTION:Sunday Worship Service \n10 am Prayer \n11 am Worship \nLocation: Northport Elementary School 5421 Brooklyn Blvd\, Brooklyn Center \n\n           Download QR
URL:https://rfwm.org/event/sunday-worship-service-2/2025-02-09/
CATEGORIES:Sunday
ATTACH;FMTTYPE=image/png:https://rfwm.org/wp-content/uploads/2023/12/rfwm-flyer.png
END:VEVENT
BEGIN:VEVENT
DTSTART;TZID=UTC:20250216T100000
DTEND;TZID=UTC:20250216T130000
DTSTAMP:20260421T182719
CREATED:20240903T132041Z
LAST-MODIFIED:20240903T132041Z
UID:10246-1739700000-1739710800@rfwm.org
SUMMARY:Sunday Worship Service
DESCRIPTION:Sunday Worship Service \n10 am Prayer \n11 am Worship \nLocation: Northport Elementary School 5421 Brooklyn Blvd\, Brooklyn Center \n\n           Download QR
URL:https://rfwm.org/event/sunday-worship-service-2/2025-02-16/
CATEGORIES:Sunday
ATTACH;FMTTYPE=image/png:https://rfwm.org/wp-content/uploads/2023/12/rfwm-flyer.png
END:VEVENT
BEGIN:VEVENT
DTSTART;TZID=UTC:20250223T100000
DTEND;TZID=UTC:20250223T130000
DTSTAMP:20260421T182719
CREATED:20240903T132041Z
LAST-MODIFIED:20240903T132041Z
UID:10247-1740304800-1740315600@rfwm.org
SUMMARY:Sunday Worship Service
DESCRIPTION:Sunday Worship Service \n10 am Prayer \n11 am Worship \nLocation: Northport Elementary School 5421 Brooklyn Blvd\, Brooklyn Center \n\n           Download QR
URL:https://rfwm.org/event/sunday-worship-service-2/2025-02-23/
CATEGORIES:Sunday
ATTACH;FMTTYPE=image/png:https://rfwm.org/wp-content/uploads/2023/12/rfwm-flyer.png
END:VEVENT
BEGIN:VEVENT
DTSTART;TZID=UTC:20250302T100000
DTEND;TZID=UTC:20250302T130000
DTSTAMP:20260421T182719
CREATED:20240903T132041Z
LAST-MODIFIED:20240903T132041Z
UID:10248-1740909600-1740920400@rfwm.org
SUMMARY:Sunday Worship Service
DESCRIPTION:Sunday Worship Service \n10 am Prayer \n11 am Worship \nLocation: Northport Elementary School 5421 Brooklyn Blvd\, Brooklyn Center \n\n           Download QR
URL:https://rfwm.org/event/sunday-worship-service-2/2025-03-02/
CATEGORIES:Sunday
ATTACH;FMTTYPE=image/png:https://rfwm.org/wp-content/uploads/2023/12/rfwm-flyer.png
END:VEVENT
BEGIN:VEVENT
DTSTART;TZID=UTC:20250309T100000
DTEND;TZID=UTC:20250309T130000
DTSTAMP:20260421T182719
CREATED:20240903T132041Z
LAST-MODIFIED:20240903T132041Z
UID:10249-1741514400-1741525200@rfwm.org
SUMMARY:Sunday Worship Service
DESCRIPTION:Sunday Worship Service \n10 am Prayer \n11 am Worship \nLocation: Northport Elementary School 5421 Brooklyn Blvd\, Brooklyn Center \n\n           Download QR
URL:https://rfwm.org/event/sunday-worship-service-2/2025-03-09/
CATEGORIES:Sunday
ATTACH;FMTTYPE=image/png:https://rfwm.org/wp-content/uploads/2023/12/rfwm-flyer.png
END:VEVENT
BEGIN:VEVENT
DTSTART;TZID=UTC:20250316T100000
DTEND;TZID=UTC:20250316T130000
DTSTAMP:20260421T182719
CREATED:20240903T132041Z
LAST-MODIFIED:20240903T132041Z
UID:10250-1742119200-1742130000@rfwm.org
SUMMARY:Sunday Worship Service
DESCRIPTION:Sunday Worship Service \n10 am Prayer \n11 am Worship \nLocation: Northport Elementary School 5421 Brooklyn Blvd\, Brooklyn Center \n\n           Download QR
URL:https://rfwm.org/event/sunday-worship-service-2/2025-03-16/
CATEGORIES:Sunday
ATTACH;FMTTYPE=image/png:https://rfwm.org/wp-content/uploads/2023/12/rfwm-flyer.png
END:VEVENT
BEGIN:VEVENT
DTSTART;TZID=UTC:20250323T100000
DTEND;TZID=UTC:20250323T130000
DTSTAMP:20260421T182719
CREATED:20240903T132041Z
LAST-MODIFIED:20240903T132041Z
UID:10251-1742724000-1742734800@rfwm.org
SUMMARY:Sunday Worship Service
DESCRIPTION:Sunday Worship Service \n10 am Prayer \n11 am Worship \nLocation: Northport Elementary School 5421 Brooklyn Blvd\, Brooklyn Center \n\n           Download QR
URL:https://rfwm.org/event/sunday-worship-service-2/2025-03-23/
CATEGORIES:Sunday
ATTACH;FMTTYPE=image/png:https://rfwm.org/wp-content/uploads/2023/12/rfwm-flyer.png
END:VEVENT
BEGIN:VEVENT
DTSTART;TZID=UTC:20250330T100000
DTEND;TZID=UTC:20250330T130000
DTSTAMP:20260421T182719
CREATED:20240903T132041Z
LAST-MODIFIED:20240903T132041Z
UID:10252-1743328800-1743339600@rfwm.org
SUMMARY:Sunday Worship Service
DESCRIPTION:Sunday Worship Service \n10 am Prayer \n11 am Worship \nLocation: Northport Elementary School 5421 Brooklyn Blvd\, Brooklyn Center \n\n           Download QR
URL:https://rfwm.org/event/sunday-worship-service-2/2025-03-30/
CATEGORIES:Sunday
ATTACH;FMTTYPE=image/png:https://rfwm.org/wp-content/uploads/2023/12/rfwm-flyer.png
END:VEVENT
BEGIN:VEVENT
DTSTART;TZID=UTC:20250406T100000
DTEND;TZID=UTC:20250406T130000
DTSTAMP:20260421T182719
CREATED:20240903T132041Z
LAST-MODIFIED:20240903T132041Z
UID:10253-1743933600-1743944400@rfwm.org
SUMMARY:Sunday Worship Service
DESCRIPTION:Sunday Worship Service \n10 am Prayer \n11 am Worship \nLocation: Northport Elementary School 5421 Brooklyn Blvd\, Brooklyn Center \n\n           Download QR
URL:https://rfwm.org/event/sunday-worship-service-2/2025-04-06/
CATEGORIES:Sunday
ATTACH;FMTTYPE=image/png:https://rfwm.org/wp-content/uploads/2023/12/rfwm-flyer.png
END:VEVENT
BEGIN:VEVENT
DTSTART;TZID=UTC:20250413T100000
DTEND;TZID=UTC:20250413T130000
DTSTAMP:20260421T182719
CREATED:20240903T132041Z
LAST-MODIFIED:20240903T132041Z
UID:10254-1744538400-1744549200@rfwm.org
SUMMARY:Sunday Worship Service
DESCRIPTION:Sunday Worship Service \n10 am Prayer \n11 am Worship \nLocation: Northport Elementary School 5421 Brooklyn Blvd\, Brooklyn Center \n\n           Download QR
URL:https://rfwm.org/event/sunday-worship-service-2/2025-04-13/
CATEGORIES:Sunday
ATTACH;FMTTYPE=image/png:https://rfwm.org/wp-content/uploads/2023/12/rfwm-flyer.png
END:VEVENT
BEGIN:VEVENT
DTSTART;TZID=UTC:20250420T100000
DTEND;TZID=UTC:20250420T130000
DTSTAMP:20260421T182719
CREATED:20240903T132041Z
LAST-MODIFIED:20240903T132041Z
UID:10255-1745143200-1745154000@rfwm.org
SUMMARY:Sunday Worship Service
DESCRIPTION:Sunday Worship Service \n10 am Prayer \n11 am Worship \nLocation: Northport Elementary School 5421 Brooklyn Blvd\, Brooklyn Center \n\n           Download QR
URL:https://rfwm.org/event/sunday-worship-service-2/2025-04-20/
CATEGORIES:Sunday
ATTACH;FMTTYPE=image/png:https://rfwm.org/wp-content/uploads/2023/12/rfwm-flyer.png
END:VEVENT
BEGIN:VEVENT
DTSTART;TZID=UTC:20250427T100000
DTEND;TZID=UTC:20250427T130000
DTSTAMP:20260421T182719
CREATED:20240903T132041Z
LAST-MODIFIED:20240903T132041Z
UID:10256-1745748000-1745758800@rfwm.org
SUMMARY:Sunday Worship Service
DESCRIPTION:Sunday Worship Service \n10 am Prayer \n11 am Worship \nLocation: Northport Elementary School 5421 Brooklyn Blvd\, Brooklyn Center \n\n           Download QR
URL:https://rfwm.org/event/sunday-worship-service-2/2025-04-27/
CATEGORIES:Sunday
ATTACH;FMTTYPE=image/png:https://rfwm.org/wp-content/uploads/2023/12/rfwm-flyer.png
END:VEVENT
BEGIN:VEVENT
DTSTART;TZID=UTC:20250504T100000
DTEND;TZID=UTC:20250504T130000
DTSTAMP:20260421T182719
CREATED:20240903T132041Z
LAST-MODIFIED:20240903T132041Z
UID:10257-1746352800-1746363600@rfwm.org
SUMMARY:Sunday Worship Service
DESCRIPTION:Sunday Worship Service \n10 am Prayer \n11 am Worship \nLocation: Northport Elementary School 5421 Brooklyn Blvd\, Brooklyn Center \n\n           Download QR
URL:https://rfwm.org/event/sunday-worship-service-2/2025-05-04/
CATEGORIES:Sunday
ATTACH;FMTTYPE=image/png:https://rfwm.org/wp-content/uploads/2023/12/rfwm-flyer.png
END:VEVENT
BEGIN:VEVENT
DTSTART;TZID=UTC:20250511T100000
DTEND;TZID=UTC:20250511T130000
DTSTAMP:20260421T182719
CREATED:20240903T132041Z
LAST-MODIFIED:20240903T132041Z
UID:10258-1746957600-1746968400@rfwm.org
SUMMARY:Sunday Worship Service
DESCRIPTION:Sunday Worship Service \n10 am Prayer \n11 am Worship \nLocation: Northport Elementary School 5421 Brooklyn Blvd\, Brooklyn Center \n\n           Download QR
URL:https://rfwm.org/event/sunday-worship-service-2/2025-05-11/
CATEGORIES:Sunday
ATTACH;FMTTYPE=image/png:https://rfwm.org/wp-content/uploads/2023/12/rfwm-flyer.png
END:VEVENT
BEGIN:VEVENT
DTSTART;TZID=UTC:20250518T100000
DTEND;TZID=UTC:20250518T130000
DTSTAMP:20260421T182719
CREATED:20240903T132041Z
LAST-MODIFIED:20240903T132041Z
UID:10259-1747562400-1747573200@rfwm.org
SUMMARY:Sunday Worship Service
DESCRIPTION:Sunday Worship Service \n10 am Prayer \n11 am Worship \nLocation: Northport Elementary School 5421 Brooklyn Blvd\, Brooklyn Center \n\n           Download QR
URL:https://rfwm.org/event/sunday-worship-service-2/2025-05-18/
CATEGORIES:Sunday
ATTACH;FMTTYPE=image/png:https://rfwm.org/wp-content/uploads/2023/12/rfwm-flyer.png
END:VEVENT
BEGIN:VEVENT
DTSTART;TZID=UTC:20250525T100000
DTEND;TZID=UTC:20250525T130000
DTSTAMP:20260421T182719
CREATED:20240903T132041Z
LAST-MODIFIED:20240903T132041Z
UID:10260-1748167200-1748178000@rfwm.org
SUMMARY:Sunday Worship Service
DESCRIPTION:Sunday Worship Service \n10 am Prayer \n11 am Worship \nLocation: Northport Elementary School 5421 Brooklyn Blvd\, Brooklyn Center \n\n           Download QR
URL:https://rfwm.org/event/sunday-worship-service-2/2025-05-25/
CATEGORIES:Sunday
ATTACH;FMTTYPE=image/png:https://rfwm.org/wp-content/uploads/2023/12/rfwm-flyer.png
END:VEVENT
BEGIN:VEVENT
DTSTART;TZID=UTC:20250601T100000
DTEND;TZID=UTC:20250601T130000
DTSTAMP:20260421T182719
CREATED:20240903T132041Z
LAST-MODIFIED:20240903T132041Z
UID:10261-1748772000-1748782800@rfwm.org
SUMMARY:Sunday Worship Service
DESCRIPTION:Sunday Worship Service \n10 am Prayer \n11 am Worship \nLocation: Northport Elementary School 5421 Brooklyn Blvd\, Brooklyn Center \n\n           Download QR
URL:https://rfwm.org/event/sunday-worship-service-2/2025-06-01/
CATEGORIES:Sunday
ATTACH;FMTTYPE=image/png:https://rfwm.org/wp-content/uploads/2023/12/rfwm-flyer.png
END:VEVENT
BEGIN:VEVENT
DTSTART;TZID=UTC:20250608T100000
DTEND;TZID=UTC:20250608T130000
DTSTAMP:20260421T182719
CREATED:20240903T132041Z
LAST-MODIFIED:20240903T132041Z
UID:10262-1749376800-1749387600@rfwm.org
SUMMARY:Sunday Worship Service
DESCRIPTION:Sunday Worship Service \n10 am Prayer \n11 am Worship \nLocation: Northport Elementary School 5421 Brooklyn Blvd\, Brooklyn Center \n\n           Download QR
URL:https://rfwm.org/event/sunday-worship-service-2/2025-06-08/
CATEGORIES:Sunday
ATTACH;FMTTYPE=image/png:https://rfwm.org/wp-content/uploads/2023/12/rfwm-flyer.png
END:VEVENT
BEGIN:VEVENT
DTSTART;TZID=UTC:20250615T100000
DTEND;TZID=UTC:20250615T130000
DTSTAMP:20260421T182719
CREATED:20240903T132041Z
LAST-MODIFIED:20240903T132041Z
UID:10263-1749981600-1749992400@rfwm.org
SUMMARY:Sunday Worship Service
DESCRIPTION:Sunday Worship Service \n10 am Prayer \n11 am Worship \nLocation: Northport Elementary School 5421 Brooklyn Blvd\, Brooklyn Center \n\n           Download QR
URL:https://rfwm.org/event/sunday-worship-service-2/2025-06-15/
CATEGORIES:Sunday
ATTACH;FMTTYPE=image/png:https://rfwm.org/wp-content/uploads/2023/12/rfwm-flyer.png
END:VEVENT
BEGIN:VEVENT
DTSTART;TZID=UTC:20250622T100000
DTEND;TZID=UTC:20250622T130000
DTSTAMP:20260421T182719
CREATED:20240903T132041Z
LAST-MODIFIED:20240903T132041Z
UID:10264-1750586400-1750597200@rfwm.org
SUMMARY:Sunday Worship Service
DESCRIPTION:Sunday Worship Service \n10 am Prayer \n11 am Worship \nLocation: Northport Elementary School 5421 Brooklyn Blvd\, Brooklyn Center \n\n           Download QR
URL:https://rfwm.org/event/sunday-worship-service-2/2025-06-22/
CATEGORIES:Sunday
ATTACH;FMTTYPE=image/png:https://rfwm.org/wp-content/uploads/2023/12/rfwm-flyer.png
END:VEVENT
BEGIN:VEVENT
DTSTART;TZID=UTC:20250629T100000
DTEND;TZID=UTC:20250629T130000
DTSTAMP:20260421T182719
CREATED:20240903T132041Z
LAST-MODIFIED:20240903T132041Z
UID:10265-1751191200-1751202000@rfwm.org
SUMMARY:Sunday Worship Service
DESCRIPTION:Sunday Worship Service \n10 am Prayer \n11 am Worship \nLocation: Northport Elementary School 5421 Brooklyn Blvd\, Brooklyn Center \n\n           Download QR
URL:https://rfwm.org/event/sunday-worship-service-2/2025-06-29/
CATEGORIES:Sunday
ATTACH;FMTTYPE=image/png:https://rfwm.org/wp-content/uploads/2023/12/rfwm-flyer.png
END:VEVENT
BEGIN:VEVENT
DTSTART;TZID=UTC:20250706T100000
DTEND;TZID=UTC:20250706T130000
DTSTAMP:20260421T182719
CREATED:20240903T132041Z
LAST-MODIFIED:20240903T132041Z
UID:10266-1751796000-1751806800@rfwm.org
SUMMARY:Sunday Worship Service
DESCRIPTION:Sunday Worship Service \n10 am Prayer \n11 am Worship \nLocation: Northport Elementary School 5421 Brooklyn Blvd\, Brooklyn Center \n\n           Download QR
URL:https://rfwm.org/event/sunday-worship-service-2/2025-07-06/
CATEGORIES:Sunday
ATTACH;FMTTYPE=image/png:https://rfwm.org/wp-content/uploads/2023/12/rfwm-flyer.png
END:VEVENT
BEGIN:VEVENT
DTSTART;TZID=UTC:20250713T100000
DTEND;TZID=UTC:20250713T130000
DTSTAMP:20260421T182719
CREATED:20240903T132041Z
LAST-MODIFIED:20240903T132041Z
UID:10267-1752400800-1752411600@rfwm.org
SUMMARY:Sunday Worship Service
DESCRIPTION:Sunday Worship Service \n10 am Prayer \n11 am Worship \nLocation: Northport Elementary School 5421 Brooklyn Blvd\, Brooklyn Center \n\n           Download QR
URL:https://rfwm.org/event/sunday-worship-service-2/2025-07-13/
CATEGORIES:Sunday
ATTACH;FMTTYPE=image/png:https://rfwm.org/wp-content/uploads/2023/12/rfwm-flyer.png
END:VEVENT
BEGIN:VEVENT
DTSTART;TZID=UTC:20250720T100000
DTEND;TZID=UTC:20250720T130000
DTSTAMP:20260421T182719
CREATED:20240903T132041Z
LAST-MODIFIED:20240903T132041Z
UID:10268-1753005600-1753016400@rfwm.org
SUMMARY:Sunday Worship Service
DESCRIPTION:Sunday Worship Service \n10 am Prayer \n11 am Worship \nLocation: Northport Elementary School 5421 Brooklyn Blvd\, Brooklyn Center \n\n           Download QR
URL:https://rfwm.org/event/sunday-worship-service-2/2025-07-20/
CATEGORIES:Sunday
ATTACH;FMTTYPE=image/png:https://rfwm.org/wp-content/uploads/2023/12/rfwm-flyer.png
END:VEVENT
BEGIN:VEVENT
DTSTART;TZID=UTC:20250727T100000
DTEND;TZID=UTC:20250727T130000
DTSTAMP:20260421T182719
CREATED:20240903T132041Z
LAST-MODIFIED:20240903T132041Z
UID:10269-1753610400-1753621200@rfwm.org
SUMMARY:Sunday Worship Service
DESCRIPTION:Sunday Worship Service \n10 am Prayer \n11 am Worship \nLocation: Northport Elementary School 5421 Brooklyn Blvd\, Brooklyn Center \n\n           Download QR
URL:https://rfwm.org/event/sunday-worship-service-2/2025-07-27/
CATEGORIES:Sunday
ATTACH;FMTTYPE=image/png:https://rfwm.org/wp-content/uploads/2023/12/rfwm-flyer.png
END:VEVENT
BEGIN:VEVENT
DTSTART;TZID=UTC:20260215T100000
DTEND;TZID=UTC:20260215T130000
DTSTAMP:20260421T182719
CREATED:20260215T000930Z
LAST-MODIFIED:20260215T230645Z
UID:12662-1771149600-1771160400@rfwm.org
SUMMARY:Sunday Service
DESCRIPTION:Sunday Service \n10 am Prayer \n11 am Service \nWoodland Elementary School\, 4501 Oak Grove Parkway\, Brooklyn Park \n  \n\n           Download QR
URL:https://rfwm.org/event/sunday-service-2/
CATEGORIES:Sunday
END:VEVENT
BEGIN:VEVENT
DTSTART;TZID=UTC:20260222T100000
DTEND;TZID=UTC:20260222T130000
DTSTAMP:20260421T182719
CREATED:20260215T001016Z
LAST-MODIFIED:20260215T231254Z
UID:12664-1771754400-1771765200@rfwm.org
SUMMARY:Sunday Service
DESCRIPTION:10 am Prayer \n11 am Service \nWoodland Elementary School\, 4501 Oak Grove Parkway\, Brooklyn Park \n\n           Download QR
URL:https://rfwm.org/event/sunday-service-3/
CATEGORIES:Sunday
ATTACH;FMTTYPE=image/png:https://rfwm.org/wp-content/uploads/2026/02/Screenshot-2026-02-14-183340-2.png
END:VEVENT
BEGIN:VEVENT
DTSTART;TZID=UTC:20260301T100000
DTEND;TZID=UTC:20260301T130000
DTSTAMP:20260421T182719
CREATED:20260215T001727Z
LAST-MODIFIED:20260215T002119Z
UID:12666-1772359200-1772370000@rfwm.org
SUMMARY:Sunday Service
DESCRIPTION:Grand Opening NEW LOCATION \n8557 Wyoming Ave N\, Brooklyn Park \n10 am Prayer & 11 am Service \nChild Care Provided \n\n           Download QR
URL:https://rfwm.org/event/sunday-service-4/
CATEGORIES:Sunday
ATTACH;FMTTYPE=image/png:https://rfwm.org/wp-content/uploads/2026/02/Screenshot-2026-02-14-181512.png
END:VEVENT
BEGIN:VEVENT
DTSTART;TZID=UTC:20260308T100000
DTEND;TZID=UTC:20260308T130000
DTSTAMP:20260421T182719
CREATED:20260215T003538Z
LAST-MODIFIED:20260311T130829Z
UID:12672-1772964000-1772974800@rfwm.org
SUMMARY:Sunday Service
DESCRIPTION:10 am Prayer \n11 am Service \nChild Care Provided \nChildren’s Church Immediately following Praise and Worship \n\n           Download QR
URL:https://rfwm.org/event/sunday-service-5/2026-03-08/
CATEGORIES:Sunday
ATTACH;FMTTYPE=image/png:https://rfwm.org/wp-content/uploads/2026/02/RFWM-Services-Flyer-March-2026.png
END:VEVENT
END:VCALENDAR