BEGIN:VCALENDAR
VERSION:2.0
PRODID:-//RFWM - ECPv6.15.20//NONSGML v1.0//EN
CALSCALE:GREGORIAN
METHOD:PUBLISH
X-ORIGINAL-URL:https://rfwm.org
X-WR-CALDESC:Events for RFWM
REFRESH-INTERVAL;VALUE=DURATION:PT1H
X-Robots-Tag:noindex
X-PUBLISHED-TTL:PT1H
BEGIN:VTIMEZONE
TZID:UTC
BEGIN:STANDARD
TZOFFSETFROM:+0000
TZOFFSETTO:+0000
TZNAME:UTC
DTSTART:20250101T000000
END:STANDARD
END:VTIMEZONE
BEGIN:VEVENT
DTSTART;TZID=UTC:20260412T100000
DTEND;TZID=UTC:20260412T130000
DTSTAMP:20260420T065835
CREATED:20260215T003538Z
LAST-MODIFIED:20260311T130831Z
UID:12679-1775988000-1775998800@rfwm.org
SUMMARY:Sunday Service
DESCRIPTION:10 am Prayer \n11 am Service \nChild Care Provided \nChildren’s Church Immediately following Praise and Worship \n\n           Download QR
URL:https://rfwm.org/event/sunday-service-5/2026-04-12/
CATEGORIES:Sunday
ATTACH;FMTTYPE=image/png:https://rfwm.org/wp-content/uploads/2026/02/RFWM-Services-Flyer-March-2026.png
END:VEVENT
END:VCALENDAR