BEGIN:VCALENDAR
VERSION:2.0
PRODID:-//RFWM - ECPv6.15.20//NONSGML v1.0//EN
CALSCALE:GREGORIAN
METHOD:PUBLISH
X-ORIGINAL-URL:https://rfwm.org
X-WR-CALDESC:Events for RFWM
REFRESH-INTERVAL;VALUE=DURATION:PT1H
X-Robots-Tag:noindex
X-PUBLISHED-TTL:PT1H
BEGIN:VTIMEZONE
TZID:UTC
BEGIN:STANDARD
TZOFFSETFROM:+0000
TZOFFSETTO:+0000
TZNAME:UTC
DTSTART:20230101T000000
END:STANDARD
END:VTIMEZONE
BEGIN:VEVENT
DTSTART;TZID=UTC:20241103T100000
DTEND;TZID=UTC:20241103T130000
DTSTAMP:20260421T095915
CREATED:20240903T132041Z
LAST-MODIFIED:20240903T132308Z
UID:9246-1730628000-1730638800@rfwm.org
SUMMARY:Sunday Worship Service
DESCRIPTION:Sunday Worship Service \n10 am Prayer \n11 am Worship \nLocation: Northport Elementary School 5421 Brooklyn Blvd\, Brooklyn Center \n\n           Download QR
URL:https://rfwm.org/event/sunday-worship-service-2/2024-11-03/
CATEGORIES:Sunday
ATTACH;FMTTYPE=image/png:https://rfwm.org/wp-content/uploads/2023/12/rfwm-flyer.png
END:VEVENT
BEGIN:VEVENT
DTSTART;TZID=UTC:20241110T100000
DTEND;TZID=UTC:20241110T130000
DTSTAMP:20260421T095915
CREATED:20240903T132041Z
LAST-MODIFIED:20240903T132311Z
UID:9247-1731232800-1731243600@rfwm.org
SUMMARY:Sunday Worship Service
DESCRIPTION:Sunday Worship Service \n10 am Prayer \n11 am Worship \nLocation: Northport Elementary School 5421 Brooklyn Blvd\, Brooklyn Center \n\n           Download QR
URL:https://rfwm.org/event/sunday-worship-service-2/2024-11-10/
CATEGORIES:Sunday
ATTACH;FMTTYPE=image/png:https://rfwm.org/wp-content/uploads/2023/12/rfwm-flyer.png
END:VEVENT
BEGIN:VEVENT
DTSTART;TZID=UTC:20241117T100000
DTEND;TZID=UTC:20241117T130000
DTSTAMP:20260421T095915
CREATED:20240903T132041Z
LAST-MODIFIED:20240903T132319Z
UID:9249-1731837600-1731848400@rfwm.org
SUMMARY:Sunday Worship Service
DESCRIPTION:Sunday Worship Service \n10 am Prayer \n11 am Worship \nLocation: Northport Elementary School 5421 Brooklyn Blvd\, Brooklyn Center \n\n           Download QR
URL:https://rfwm.org/event/sunday-worship-service-2/2024-11-17/
CATEGORIES:Sunday
ATTACH;FMTTYPE=image/png:https://rfwm.org/wp-content/uploads/2023/12/rfwm-flyer.png
END:VEVENT
BEGIN:VEVENT
DTSTART;TZID=UTC:20241124T100000
DTEND;TZID=UTC:20241124T130000
DTSTAMP:20260421T095915
CREATED:20240903T132041Z
LAST-MODIFIED:20240903T132321Z
UID:9250-1732442400-1732453200@rfwm.org
SUMMARY:Sunday Worship Service
DESCRIPTION:Sunday Worship Service \n10 am Prayer \n11 am Worship \nLocation: Northport Elementary School 5421 Brooklyn Blvd\, Brooklyn Center \n\n           Download QR
URL:https://rfwm.org/event/sunday-worship-service-2/2024-11-24/
CATEGORIES:Sunday
ATTACH;FMTTYPE=image/png:https://rfwm.org/wp-content/uploads/2023/12/rfwm-flyer.png
END:VEVENT
END:VCALENDAR