BEGIN:VCALENDAR
VERSION:2.0
PRODID:-//RFWM - ECPv6.15.20//NONSGML v1.0//EN
CALSCALE:GREGORIAN
METHOD:PUBLISH
X-ORIGINAL-URL:https://rfwm.org
X-WR-CALDESC:Events for RFWM
REFRESH-INTERVAL;VALUE=DURATION:PT1H
X-Robots-Tag:noindex
X-PUBLISHED-TTL:PT1H
BEGIN:VTIMEZONE
TZID:UTC
BEGIN:STANDARD
TZOFFSETFROM:+0000
TZOFFSETTO:+0000
TZNAME:UTC
DTSTART:20200101T000000
END:STANDARD
END:VTIMEZONE
BEGIN:VEVENT
DTSTART;TZID=UTC:20210710T180000
DTEND;TZID=UTC:20210710T180000
DTSTAMP:20260420T161630
CREATED:20210422T102936Z
LAST-MODIFIED:20210811T175650Z
UID:3039-1625940000-1625940000@rfwm.org
SUMMARY:Singles Ministry
DESCRIPTION:Every 2nd SATURDAYs\, at 6pm \n\n           Download QR
URL:https://rfwm.org/event/singles-ministry-4/
CATEGORIES:Recurring Events,Saturday
ATTACH;FMTTYPE=image/jpeg:https://rfwm.org/wp-content/uploads/sermons/2021/01/photo-1479648230934-2ab6525f4847.jpeg
END:VEVENT
BEGIN:VEVENT
DTSTART;TZID=UTC:20210508T090000
DTEND;TZID=UTC:20210508T100000
DTSTAMP:20260420T161631
CREATED:20210422T104910Z
LAST-MODIFIED:20210912T123613Z
UID:3052-1620464400-1620468000@rfwm.org
SUMMARY:Kingdom Brothers
DESCRIPTION:Every 2nd SATURDAYs\, at 9am \n\n           Download QR
URL:https://rfwm.org/event/kingdom-brothers/2021-05-08/
CATEGORIES:Recurring Events,Saturday
ATTACH;FMTTYPE=image/jpeg:https://rfwm.org/wp-content/uploads/2018/07/bg.jpg
END:VEVENT
END:VCALENDAR