BEGIN:VCALENDAR
VERSION:2.0
PRODID:-//RFWM - ECPv6.15.20//NONSGML v1.0//EN
CALSCALE:GREGORIAN
METHOD:PUBLISH
X-WR-CALNAME:RFWM
X-ORIGINAL-URL:https://rfwm.org
X-WR-CALDESC:Events for RFWM
REFRESH-INTERVAL;VALUE=DURATION:PT1H
X-Robots-Tag:noindex
X-PUBLISHED-TTL:PT1H
BEGIN:VTIMEZONE
TZID:UTC
BEGIN:STANDARD
TZOFFSETFROM:+0000
TZOFFSETTO:+0000
TZNAME:UTC
DTSTART:20240101T000000
END:STANDARD
END:VTIMEZONE
BEGIN:VEVENT
DTSTART;TZID=UTC:20250823T120000
DTEND;TZID=UTC:20250823T150000
DTSTAMP:20260421T025652
CREATED:20250701T224359Z
LAST-MODIFIED:20250701T224732Z
UID:10954-1755950400-1755961200@rfwm.org
SUMMARY:End of Summer BBQ
DESCRIPTION:Join Us for an End of Summer BBQ \n8100 Newton Avenue N\, Brooklyn Park \nSign up here: https://forms.gle/jciyAPVNNESq4r768 \n\n           Download QR
URL:https://rfwm.org/event/end-of-summer-bbq-2/
LOCATION:Brooklyn Park\, MN\, 8100 Newton Avenue N\, Brooklyn Park\, Minnesota\, 55443\, United States
CATEGORIES:Saturday
ATTACH;FMTTYPE=image/png:https://rfwm.org/wp-content/uploads/2025/07/Yellow-Purple-Bbq-Party-Virtual-Invitation.png
END:VEVENT
END:VCALENDAR