BEGIN:VCALENDAR
VERSION:2.0
PRODID:-//RFWM - ECPv6.15.20//NONSGML v1.0//EN
CALSCALE:GREGORIAN
METHOD:PUBLISH
X-ORIGINAL-URL:https://rfwm.org
X-WR-CALDESC:Events for RFWM
REFRESH-INTERVAL;VALUE=DURATION:PT1H
X-Robots-Tag:noindex
X-PUBLISHED-TTL:PT1H
BEGIN:VTIMEZONE
TZID:UTC
BEGIN:STANDARD
TZOFFSETFROM:+0000
TZOFFSETTO:+0000
TZNAME:UTC
DTSTART:20230101T000000
END:STANDARD
END:VTIMEZONE
BEGIN:VEVENT
DTSTART;VALUE=DATE:20240713
DTEND;VALUE=DATE:20240714
DTSTAMP:20260421T204417
CREATED:20231224T001254Z
LAST-MODIFIED:20231224T001254Z
UID:7676-1720828800-1720915199@rfwm.org
SUMMARY:Evangelism Event
DESCRIPTION:Flash Mob \n\n           Download QR
URL:https://rfwm.org/event/evangelism-event-2/
CATEGORIES:Saturday
END:VEVENT
END:VCALENDAR