BEGIN:VCALENDAR
VERSION:2.0
PRODID:-//RFWM - ECPv6.15.20//NONSGML v1.0//EN
CALSCALE:GREGORIAN
METHOD:PUBLISH
X-ORIGINAL-URL:https://rfwm.org
X-WR-CALDESC:Events for RFWM
REFRESH-INTERVAL;VALUE=DURATION:PT1H
X-Robots-Tag:noindex
X-PUBLISHED-TTL:PT1H
BEGIN:VTIMEZONE
TZID:UTC
BEGIN:STANDARD
TZOFFSETFROM:+0000
TZOFFSETTO:+0000
TZNAME:UTC
DTSTART:20230101T000000
END:STANDARD
END:VTIMEZONE
BEGIN:VEVENT
DTSTART;TZID=UTC:20240406T130000
DTEND;TZID=UTC:20240406T160000
DTSTAMP:20260422T011821
CREATED:20231224T000558Z
LAST-MODIFIED:20240402T185043Z
UID:7668-1712408400-1712419200@rfwm.org
SUMMARY:Children's Ministry Event
DESCRIPTION:Cinemagrill \n1-4 pm \n\n           Download QR
URL:https://rfwm.org/event/childrens-ministry-event-4/
CATEGORIES:Saturday
END:VEVENT
END:VCALENDAR