BEGIN:VCALENDAR
VERSION:2.0
PRODID:-//RFWM - ECPv6.15.20//NONSGML v1.0//EN
CALSCALE:GREGORIAN
METHOD:PUBLISH
X-ORIGINAL-URL:https://rfwm.org
X-WR-CALDESC:Events for RFWM
REFRESH-INTERVAL;VALUE=DURATION:PT1H
X-Robots-Tag:noindex
X-PUBLISHED-TTL:PT1H
BEGIN:VTIMEZONE
TZID:UTC
BEGIN:STANDARD
TZOFFSETFROM:+0000
TZOFFSETTO:+0000
TZNAME:UTC
DTSTART:20200101T000000
END:STANDARD
END:VTIMEZONE
BEGIN:VEVENT
DTSTART;TZID=UTC:20220219T140000
DTEND;TZID=UTC:20220219T160000
DTSTAMP:20260420T185248
CREATED:20211228T154035Z
LAST-MODIFIED:20220523T151506Z
UID:4472-1645279200-1645286400@rfwm.org
SUMMARY:Children's Ministry
DESCRIPTION:Download QR
URL:https://rfwm.org/event/childrens-ministry-2022-02-19/2022-02-19/
CATEGORIES:Recurring Events
END:VEVENT
BEGIN:VEVENT
DTSTART;TZID=UTC:20220205T180000
DTEND;TZID=UTC:20220205T193000
DTSTAMP:20260420T185248
CREATED:20211228T154424Z
LAST-MODIFIED:20220523T151245Z
UID:4495-1644084000-1644089400@rfwm.org
SUMMARY:Singles Ministry
DESCRIPTION:Join us for fellowship and biblical discussions to support your life as a single believer in Christ. \n\n           Download QR
URL:https://rfwm.org/event/singles-ministry-2/2022-02-05/
CATEGORIES:Recurring Events
END:VEVENT
BEGIN:VEVENT
DTSTART;TZID=UTC:20220122T140000
DTEND;TZID=UTC:20220122T160000
DTSTAMP:20260420T185248
CREATED:20211228T154035Z
LAST-MODIFIED:20211228T154144Z
UID:4470-1642860000-1642867200@rfwm.org
SUMMARY:Children's Ministry: Make-A-Space
DESCRIPTION:Download QR
URL:https://rfwm.org/event/childrens-ministry/
CATEGORIES:Recurring Events
END:VEVENT
BEGIN:VEVENT
DTSTART;TZID=UTC:20211009T180000
DTEND;TZID=UTC:20211009T180000
DTSTAMP:20260420T185248
CREATED:20180726T102347Z
LAST-MODIFIED:20210908T172352Z
UID:639-1633802400-1633802400@rfwm.org
SUMMARY:Singles Ministry
DESCRIPTION:Every 2nd SATURDAYs\, at 6pm \n\n           Download QR
URL:https://rfwm.org/event/singles-ministry/2021-10-09/
CATEGORIES:Recurring Events,Saturday
ATTACH;FMTTYPE=image/jpeg:https://rfwm.org/wp-content/uploads/2018/12/vbtm_img_1-1.jpg
END:VEVENT
BEGIN:VEVENT
DTSTART;TZID=UTC:20210918T150000
DTEND;TZID=UTC:20210918T170000
DTSTAMP:20260420T185248
CREATED:20210824T020307Z
LAST-MODIFIED:20210908T172833Z
UID:3726-1631977200-1631984400@rfwm.org
SUMMARY:Women's Ministry Fellowship
DESCRIPTION:Every 3rd SATURDAY from 3 pm – 5 pm \n\n           Download QR
URL:https://rfwm.org/event/womens-ministry-fellowship/2021-09-18/
CATEGORIES:Recurring Events,Saturday
ATTACH;FMTTYPE=image/jpeg:https://rfwm.org/wp-content/uploads/2021/02/women-2.jpg
END:VEVENT
BEGIN:VEVENT
DTSTART;TZID=UTC:20210911T180000
DTEND;TZID=UTC:20210911T180000
DTSTAMP:20260420T185248
CREATED:20210422T102500Z
LAST-MODIFIED:20210908T171443Z
UID:3041-1631383200-1631383200@rfwm.org
SUMMARY:Singles Ministry
DESCRIPTION:Every 2nd SATURDAYs\, at 6pm \n\n           Download QR
URL:https://rfwm.org/event/singles-ministry-6/
CATEGORIES:Recurring Events,Saturday
ATTACH;FMTTYPE=image/jpeg:https://rfwm.org/wp-content/uploads/2021/04/photo-1479648230934-2ab6525f4847.jpeg
END:VEVENT
BEGIN:VEVENT
DTSTART;TZID=UTC:20210825T180000
DTEND;TZID=UTC:20210825T200000
DTSTAMP:20260420T185248
CREATED:20210824T020905Z
LAST-MODIFIED:20210824T020938Z
UID:3728-1629914400-1629921600@rfwm.org
SUMMARY:Prayer & Bible Study
DESCRIPTION:Wednesday Nights 6 pm – 8 pm \n\n           Download QR
URL:https://rfwm.org/event/prayer-bible-study/
CATEGORIES:Recurring Events,Wednesday
ATTACH;FMTTYPE=image/jpeg:https://rfwm.org/wp-content/uploads/2018/07/bg.jpg
END:VEVENT
BEGIN:VEVENT
DTSTART;TZID=UTC:20210814T180000
DTEND;TZID=UTC:20210814T180000
DTSTAMP:20260420T185248
CREATED:20210422T102747Z
LAST-MODIFIED:20210707T234249Z
UID:3040-1628964000-1628964000@rfwm.org
SUMMARY:Singles Ministry
DESCRIPTION:Every 2nd SATURDAYs\, at 6pm \n\n           Download QR
URL:https://rfwm.org/event/singles-ministry-5/
CATEGORIES:Recurring Events,Saturday
ATTACH;FMTTYPE=image/jpeg:https://rfwm.org/wp-content/uploads/2021/04/photo-1479648230934-2ab6525f4847.jpeg
END:VEVENT
BEGIN:VEVENT
DTSTART;TZID=UTC:20210811T190000
DTEND;TZID=UTC:20210811T200000
DTSTAMP:20260420T185248
CREATED:20210803T024622Z
LAST-MODIFIED:20210811T132215Z
UID:3670-1628708400-1628712000@rfwm.org
SUMMARY:Mighty Men's Bible Study
DESCRIPTION:Men’s Bible Study \n\n           Download QR
URL:https://rfwm.org/event/mighty-mens-bible-study/
CATEGORIES:Recurring Events,Wednesday
ATTACH;FMTTYPE=image/jpeg:https://rfwm.org/wp-content/uploads/2020/06/pray.jpg
END:VEVENT
BEGIN:VEVENT
DTSTART;TZID=UTC:20210811T183000
DTEND;TZID=UTC:20210811T200000
DTSTAMP:20260420T185248
CREATED:20210803T024307Z
LAST-MODIFIED:20210811T131731Z
UID:3662-1628706600-1628712000@rfwm.org
SUMMARY:Women's Wednesday
DESCRIPTION:Women’s Bible Study and Fellowship \n\n           Download QR
URL:https://rfwm.org/event/womens-wednesday/
CATEGORIES:Recurring Events,Wednesday
ATTACH;FMTTYPE=image/png:https://rfwm.org/wp-content/uploads/2021/07/Copy-of-Copy-of-womens-Bible-study-3.png
END:VEVENT
BEGIN:VEVENT
DTSTART;TZID=UTC:20210710T180000
DTEND;TZID=UTC:20210710T180000
DTSTAMP:20260420T185248
CREATED:20210422T102936Z
LAST-MODIFIED:20210811T175650Z
UID:3039-1625940000-1625940000@rfwm.org
SUMMARY:Singles Ministry
DESCRIPTION:Every 2nd SATURDAYs\, at 6pm \n\n           Download QR
URL:https://rfwm.org/event/singles-ministry-4/
CATEGORIES:Recurring Events,Saturday
ATTACH;FMTTYPE=image/jpeg:https://rfwm.org/wp-content/uploads/sermons/2021/01/photo-1479648230934-2ab6525f4847.jpeg
END:VEVENT
BEGIN:VEVENT
DTSTART;TZID=UTC:20210508T090000
DTEND;TZID=UTC:20210508T100000
DTSTAMP:20260420T185248
CREATED:20210422T104910Z
LAST-MODIFIED:20210912T123613Z
UID:3052-1620464400-1620468000@rfwm.org
SUMMARY:Kingdom Brothers
DESCRIPTION:Every 2nd SATURDAYs\, at 9am \n\n           Download QR
URL:https://rfwm.org/event/kingdom-brothers/2021-05-08/
CATEGORIES:Recurring Events,Saturday
ATTACH;FMTTYPE=image/jpeg:https://rfwm.org/wp-content/uploads/2018/07/bg.jpg
END:VEVENT
END:VCALENDAR