BEGIN:VCALENDAR
VERSION:2.0
PRODID:-//RFWM - ECPv6.15.20//NONSGML v1.0//EN
CALSCALE:GREGORIAN
METHOD:PUBLISH
X-WR-CALNAME:RFWM
X-ORIGINAL-URL:https://rfwm.org
X-WR-CALDESC:Events for RFWM
REFRESH-INTERVAL;VALUE=DURATION:PT1H
X-Robots-Tag:noindex
X-PUBLISHED-TTL:PT1H
BEGIN:VTIMEZONE
TZID:UTC
BEGIN:STANDARD
TZOFFSETFROM:+0000
TZOFFSETTO:+0000
TZNAME:UTC
DTSTART:20240101T000000
END:STANDARD
END:VTIMEZONE
BEGIN:VEVENT
DTSTART;TZID=UTC:20251121T183000
DTEND;TZID=UTC:20251121T200000
DTSTAMP:20260420T213905
CREATED:20241206T200438Z
LAST-MODIFIED:20250312T170139Z
UID:9421-1763749800-1763755200@rfwm.org
SUMMARY:Freedom Gathering
DESCRIPTION:Fridays 6:30 – 8 pm \n8525 Edinbrook Crossing \nBrooklyn Park\, MN 55443 \n\n           Download QR
URL:https://rfwm.org/event/freedom-gathering/2025-11-21/
CATEGORIES:Friday
ATTACH;FMTTYPE=image/png:https://rfwm.org/wp-content/uploads/2024/12/Freedom-Gathering-Group-Flyer-1-Facebook-Post-March-2025.png
END:VEVENT
END:VCALENDAR