BEGIN:VCALENDAR
VERSION:2.0
PRODID:-//RFWM - ECPv6.15.20//NONSGML v1.0//EN
CALSCALE:GREGORIAN
METHOD:PUBLISH
X-ORIGINAL-URL:https://rfwm.org
X-WR-CALDESC:Events for RFWM
REFRESH-INTERVAL;VALUE=DURATION:PT1H
X-Robots-Tag:noindex
X-PUBLISHED-TTL:PT1H
BEGIN:VTIMEZONE
TZID:UTC
BEGIN:STANDARD
TZOFFSETFROM:+0000
TZOFFSETTO:+0000
TZNAME:UTC
DTSTART:20250101T000000
END:STANDARD
END:VTIMEZONE
BEGIN:VEVENT
DTSTART;TZID=UTC:20260530T080000
DTEND;TZID=UTC:20260530T170000
DTSTAMP:20260425T170325
CREATED:20260310T003039Z
LAST-MODIFIED:20260310T003039Z
UID:13229-1780128000-1780160400@rfwm.org
SUMMARY:Corporate Prayer
DESCRIPTION:Saturdays 10 am \n\n           Download QR
URL:https://rfwm.org/event/corporate-prayer-2/2026-05-30/
ATTACH;FMTTYPE=image/png:https://rfwm.org/wp-content/uploads/2026/02/Copy-of-IG-SERMON-Snippet.png
END:VEVENT
BEGIN:VEVENT
DTSTART;TZID=UTC:20260530T120000
DTEND;TZID=UTC:20260530T160000
DTSTAMP:20260425T170325
CREATED:20260419T125453Z
LAST-MODIFIED:20260419T125453Z
UID:13424-1780142400-1780156800@rfwm.org
SUMMARY:Tater Daze
DESCRIPTION:RFWM will participate in Tater Daze bringing the Word of Faith and Jesus to our community. \nRFWM will host a booth – more details and location to be shared within the coming week. \nMore details about the event: Tater Daze Parade and Community Gathering – Brooklyn Park \n\n           Download QR
URL:https://rfwm.org/event/tater-daze/
END:VEVENT
END:VCALENDAR