BEGIN:VCALENDAR
VERSION:2.0
PRODID:-//RFWM - ECPv6.15.20//NONSGML v1.0//EN
CALSCALE:GREGORIAN
METHOD:PUBLISH
X-ORIGINAL-URL:https://rfwm.org
X-WR-CALDESC:Events for RFWM
REFRESH-INTERVAL;VALUE=DURATION:PT1H
X-Robots-Tag:noindex
X-PUBLISHED-TTL:PT1H
BEGIN:VTIMEZONE
TZID:UTC
BEGIN:STANDARD
TZOFFSETFROM:+0000
TZOFFSETTO:+0000
TZNAME:UTC
DTSTART:20250101T000000
END:STANDARD
END:VTIMEZONE
BEGIN:VEVENT
DTSTART;TZID=UTC:20260523T080000
DTEND;TZID=UTC:20260523T170000
DTSTAMP:20260425T170321
CREATED:20260310T003039Z
LAST-MODIFIED:20260310T003039Z
UID:13227-1779523200-1779555600@rfwm.org
SUMMARY:Corporate Prayer
DESCRIPTION:Saturdays 10 am \n\n           Download QR
URL:https://rfwm.org/event/corporate-prayer-2/2026-05-23/
ATTACH;FMTTYPE=image/png:https://rfwm.org/wp-content/uploads/2026/02/Copy-of-IG-SERMON-Snippet.png
END:VEVENT
BEGIN:VEVENT
DTSTART;TZID=UTC:20260523T120000
DTEND;TZID=UTC:20260523T160000
DTSTAMP:20260425T170321
CREATED:20260328T123710Z
LAST-MODIFIED:20260328T123710Z
UID:13404-1779537600-1779552000@rfwm.org
SUMMARY:New Member Classess
DESCRIPTION:New Member Classes are three consecutive Saturdays for 4 hours.\nMay 9th\, 16th\, and 23rd from Noon – 4 pm\n\nThese classes will help you discover how your faith\, gifts\, and obedience contribute to building God’s church and advancing the mission of Resurrecting Faith World Ministries.\n\n           Download QR
URL:https://rfwm.org/event/new-member-classess/2026-05-23/
END:VEVENT
END:VCALENDAR