BEGIN:VCALENDAR
VERSION:2.0
PRODID:-//RFWM - ECPv6.15.20//NONSGML v1.0//EN
CALSCALE:GREGORIAN
METHOD:PUBLISH
X-WR-CALNAME:RFWM
X-ORIGINAL-URL:https://rfwm.org
X-WR-CALDESC:Events for RFWM
REFRESH-INTERVAL;VALUE=DURATION:PT1H
X-Robots-Tag:noindex
X-PUBLISHED-TTL:PT1H
BEGIN:VTIMEZONE
TZID:UTC
BEGIN:STANDARD
TZOFFSETFROM:+0000
TZOFFSETTO:+0000
TZNAME:UTC
DTSTART:20200101T000000
END:STANDARD
END:VTIMEZONE
BEGIN:VEVENT
DTSTART;TZID=UTC:20210901T180000
DTEND;TZID=UTC:20210901T200000
DTSTAMP:20260420T172944
CREATED:20210901T133204Z
LAST-MODIFIED:20220523T150244Z
UID:3736-1630519200-1630526400@rfwm.org
SUMMARY:Wednesday Night Prayer & Service
DESCRIPTION:Wednesdays 6 pm – 8 pm
URL:https://rfwm.org/event/wednesday-night-prayer-service/2021-09-01/
CATEGORIES:Wednesday
ATTACH;FMTTYPE=image/jpeg:https://rfwm.org/wp-content/uploads/2020/05/bible-5223296_960_720.jpg
END:VEVENT
END:VCALENDAR