BEGIN:VCALENDAR
VERSION:2.0
PRODID:-//RFWM - ECPv6.15.20//NONSGML v1.0//EN
CALSCALE:GREGORIAN
METHOD:PUBLISH
X-ORIGINAL-URL:https://rfwm.org
X-WR-CALDESC:Events for RFWM
REFRESH-INTERVAL;VALUE=DURATION:PT1H
X-Robots-Tag:noindex
X-PUBLISHED-TTL:PT1H
BEGIN:VTIMEZONE
TZID:UTC
BEGIN:STANDARD
TZOFFSETFROM:+0000
TZOFFSETTO:+0000
TZNAME:UTC
DTSTART:20200101T000000
END:STANDARD
END:VTIMEZONE
BEGIN:VEVENT
DTSTART;TZID=UTC:20210918T110000
DTEND;TZID=UTC:20210918T140000
DTSTAMP:20260420T174139
CREATED:20210824T020028Z
LAST-MODIFIED:20210928T225210Z
UID:3724-1631962800-1631973600@rfwm.org
SUMMARY:Teen Ministry Event
DESCRIPTION:3rd Saturdays 11 am – 2 pm
URL:https://rfwm.org/event/teen-ministry-outing/2021-09-18/
CATEGORIES:Saturday
ATTACH;FMTTYPE=image/png:https://rfwm.org/wp-content/uploads/2020/06/Resurrecting_Faith_World_Ministries_BG-children.png
END:VEVENT
END:VCALENDAR