BEGIN:VCALENDAR
VERSION:2.0
PRODID:-//RFWM - ECPv6.15.20//NONSGML v1.0//EN
CALSCALE:GREGORIAN
METHOD:PUBLISH
X-WR-CALNAME:RFWM
X-ORIGINAL-URL:https://rfwm.org
X-WR-CALDESC:Events for RFWM
REFRESH-INTERVAL;VALUE=DURATION:PT1H
X-Robots-Tag:noindex
X-PUBLISHED-TTL:PT1H
BEGIN:VTIMEZONE
TZID:UTC
BEGIN:STANDARD
TZOFFSETFROM:+0000
TZOFFSETTO:+0000
TZNAME:UTC
DTSTART:20200101T000000
END:STANDARD
END:VTIMEZONE
BEGIN:VEVENT
DTSTART;TZID=UTC:20210912T100000
DTEND;TZID=UTC:20210912T130000
DTSTAMP:20260420T231208
CREATED:20210908T161250Z
LAST-MODIFIED:20220523T151041Z
UID:3902-1631440800-1631451600@rfwm.org
SUMMARY:Sunday Worship Service
DESCRIPTION:Sunday Service \nPrayer – 10 am; Worship – 11 am \nChild care provided (ages 9 mo – 12 yrs)
URL:https://rfwm.org/event/sunday-worship-service/2021-09-12/
CATEGORIES:Sunday
ATTACH;FMTTYPE=image/jpeg:https://rfwm.org/wp-content/uploads/2021/07/RFWM-Flyer-1_B-232x300-1.jpg
END:VEVENT
END:VCALENDAR