BEGIN:VCALENDAR
VERSION:2.0
PRODID:-//RFWM - ECPv6.15.20//NONSGML v1.0//EN
CALSCALE:GREGORIAN
METHOD:PUBLISH
X-WR-CALNAME:RFWM
X-ORIGINAL-URL:https://rfwm.org
X-WR-CALDESC:Events for RFWM
REFRESH-INTERVAL;VALUE=DURATION:PT1H
X-Robots-Tag:noindex
X-PUBLISHED-TTL:PT1H
BEGIN:VTIMEZONE
TZID:UTC
BEGIN:STANDARD
TZOFFSETFROM:+0000
TZOFFSETTO:+0000
TZNAME:UTC
DTSTART:20250101T000000
END:STANDARD
END:VTIMEZONE
BEGIN:VEVENT
DTSTART;TZID=UTC:20260426T100000
DTEND;TZID=UTC:20260426T130000
DTSTAMP:20260420T035910
CREATED:20260215T003538Z
LAST-MODIFIED:20260311T130832Z
UID:12681-1777197600-1777208400@rfwm.org
SUMMARY:Sunday Service
DESCRIPTION:10 am Prayer \n11 am Service \nChild Care Provided \nChildren’s Church Immediately following Praise and Worship
URL:https://rfwm.org/event/sunday-service-5/2026-04-26/
CATEGORIES:Sunday
ATTACH;FMTTYPE=image/png:https://rfwm.org/wp-content/uploads/2026/02/RFWM-Services-Flyer-March-2026.png
END:VEVENT
BEGIN:VEVENT
DTSTART;TZID=UTC:20260503T100000
DTEND;TZID=UTC:20260503T130000
DTSTAMP:20260420T035910
CREATED:20260215T003538Z
LAST-MODIFIED:20260311T130832Z
UID:12682-1777802400-1777813200@rfwm.org
SUMMARY:Sunday Service
DESCRIPTION:10 am Prayer \n11 am Service \nChild Care Provided \nChildren’s Church Immediately following Praise and Worship
URL:https://rfwm.org/event/sunday-service-5/2026-05-03/
CATEGORIES:Sunday
ATTACH;FMTTYPE=image/png:https://rfwm.org/wp-content/uploads/2026/02/RFWM-Services-Flyer-March-2026.png
END:VEVENT
BEGIN:VEVENT
DTSTART;TZID=UTC:20260510T100000
DTEND;TZID=UTC:20260510T130000
DTSTAMP:20260420T035910
CREATED:20260215T003538Z
LAST-MODIFIED:20260311T130833Z
UID:12683-1778407200-1778418000@rfwm.org
SUMMARY:Sunday Service
DESCRIPTION:10 am Prayer \n11 am Service \nChild Care Provided \nChildren’s Church Immediately following Praise and Worship
URL:https://rfwm.org/event/sunday-service-5/2026-05-10/
CATEGORIES:Sunday
ATTACH;FMTTYPE=image/png:https://rfwm.org/wp-content/uploads/2026/02/RFWM-Services-Flyer-March-2026.png
END:VEVENT
BEGIN:VEVENT
DTSTART;TZID=UTC:20260517T100000
DTEND;TZID=UTC:20260517T130000
DTSTAMP:20260420T035910
CREATED:20260215T003538Z
LAST-MODIFIED:20260311T130833Z
UID:12684-1779012000-1779022800@rfwm.org
SUMMARY:Sunday Service
DESCRIPTION:10 am Prayer \n11 am Service \nChild Care Provided \nChildren’s Church Immediately following Praise and Worship
URL:https://rfwm.org/event/sunday-service-5/2026-05-17/
CATEGORIES:Sunday
ATTACH;FMTTYPE=image/png:https://rfwm.org/wp-content/uploads/2026/02/RFWM-Services-Flyer-March-2026.png
END:VEVENT
BEGIN:VEVENT
DTSTART;TZID=UTC:20260524T100000
DTEND;TZID=UTC:20260524T130000
DTSTAMP:20260420T035910
CREATED:20260215T003538Z
LAST-MODIFIED:20260311T130841Z
UID:12686-1779616800-1779627600@rfwm.org
SUMMARY:Sunday Service
DESCRIPTION:10 am Prayer \n11 am Service \nChild Care Provided \nChildren’s Church Immediately following Praise and Worship
URL:https://rfwm.org/event/sunday-service-5/2026-05-24/
CATEGORIES:Sunday
ATTACH;FMTTYPE=image/png:https://rfwm.org/wp-content/uploads/2026/02/RFWM-Services-Flyer-March-2026.png
END:VEVENT
BEGIN:VEVENT
DTSTART;TZID=UTC:20260531T100000
DTEND;TZID=UTC:20260531T130000
DTSTAMP:20260420T035910
CREATED:20260215T003538Z
LAST-MODIFIED:20260311T130841Z
UID:12687-1780221600-1780232400@rfwm.org
SUMMARY:Sunday Service
DESCRIPTION:10 am Prayer \n11 am Service \nChild Care Provided \nChildren’s Church Immediately following Praise and Worship
URL:https://rfwm.org/event/sunday-service-5/2026-05-31/
CATEGORIES:Sunday
ATTACH;FMTTYPE=image/png:https://rfwm.org/wp-content/uploads/2026/02/RFWM-Services-Flyer-March-2026.png
END:VEVENT
BEGIN:VEVENT
DTSTART;TZID=UTC:20260607T100000
DTEND;TZID=UTC:20260607T130000
DTSTAMP:20260420T035910
CREATED:20260215T003538Z
LAST-MODIFIED:20260311T130841Z
UID:12688-1780826400-1780837200@rfwm.org
SUMMARY:Sunday Service
DESCRIPTION:10 am Prayer \n11 am Service \nChild Care Provided \nChildren’s Church Immediately following Praise and Worship
URL:https://rfwm.org/event/sunday-service-5/2026-06-07/
CATEGORIES:Sunday
ATTACH;FMTTYPE=image/png:https://rfwm.org/wp-content/uploads/2026/02/RFWM-Services-Flyer-March-2026.png
END:VEVENT
BEGIN:VEVENT
DTSTART;TZID=UTC:20260614T100000
DTEND;TZID=UTC:20260614T130000
DTSTAMP:20260420T035910
CREATED:20260215T003538Z
LAST-MODIFIED:20260311T130842Z
UID:12689-1781431200-1781442000@rfwm.org
SUMMARY:Sunday Service
DESCRIPTION:10 am Prayer \n11 am Service \nChild Care Provided \nChildren’s Church Immediately following Praise and Worship
URL:https://rfwm.org/event/sunday-service-5/2026-06-14/
CATEGORIES:Sunday
ATTACH;FMTTYPE=image/png:https://rfwm.org/wp-content/uploads/2026/02/RFWM-Services-Flyer-March-2026.png
END:VEVENT
BEGIN:VEVENT
DTSTART;TZID=UTC:20260621T100000
DTEND;TZID=UTC:20260621T130000
DTSTAMP:20260420T035910
CREATED:20260215T003538Z
LAST-MODIFIED:20260311T130842Z
UID:12690-1782036000-1782046800@rfwm.org
SUMMARY:Sunday Service
DESCRIPTION:10 am Prayer \n11 am Service \nChild Care Provided \nChildren’s Church Immediately following Praise and Worship
URL:https://rfwm.org/event/sunday-service-5/2026-06-21/
CATEGORIES:Sunday
ATTACH;FMTTYPE=image/png:https://rfwm.org/wp-content/uploads/2026/02/RFWM-Services-Flyer-March-2026.png
END:VEVENT
BEGIN:VEVENT
DTSTART;TZID=UTC:20260628T100000
DTEND;TZID=UTC:20260628T130000
DTSTAMP:20260420T035910
CREATED:20260215T003538Z
LAST-MODIFIED:20260311T130843Z
UID:12691-1782640800-1782651600@rfwm.org
SUMMARY:Sunday Service
DESCRIPTION:10 am Prayer \n11 am Service \nChild Care Provided \nChildren’s Church Immediately following Praise and Worship
URL:https://rfwm.org/event/sunday-service-5/2026-06-28/
CATEGORIES:Sunday
ATTACH;FMTTYPE=image/png:https://rfwm.org/wp-content/uploads/2026/02/RFWM-Services-Flyer-March-2026.png
END:VEVENT
BEGIN:VEVENT
DTSTART;TZID=UTC:20260705T100000
DTEND;TZID=UTC:20260705T130000
DTSTAMP:20260420T035910
CREATED:20260215T003538Z
LAST-MODIFIED:20260311T130843Z
UID:12692-1783245600-1783256400@rfwm.org
SUMMARY:Sunday Service
DESCRIPTION:10 am Prayer \n11 am Service \nChild Care Provided \nChildren’s Church Immediately following Praise and Worship
URL:https://rfwm.org/event/sunday-service-5/2026-07-05/
CATEGORIES:Sunday
ATTACH;FMTTYPE=image/png:https://rfwm.org/wp-content/uploads/2026/02/RFWM-Services-Flyer-March-2026.png
END:VEVENT
BEGIN:VEVENT
DTSTART;TZID=UTC:20260712T100000
DTEND;TZID=UTC:20260712T130000
DTSTAMP:20260420T035910
CREATED:20260215T003538Z
LAST-MODIFIED:20260311T130843Z
UID:12693-1783850400-1783861200@rfwm.org
SUMMARY:Sunday Service
DESCRIPTION:10 am Prayer \n11 am Service \nChild Care Provided \nChildren’s Church Immediately following Praise and Worship
URL:https://rfwm.org/event/sunday-service-5/2026-07-12/
CATEGORIES:Sunday
ATTACH;FMTTYPE=image/png:https://rfwm.org/wp-content/uploads/2026/02/RFWM-Services-Flyer-March-2026.png
END:VEVENT
BEGIN:VEVENT
DTSTART;TZID=UTC:20260719T100000
DTEND;TZID=UTC:20260719T130000
DTSTAMP:20260420T035910
CREATED:20260215T003538Z
LAST-MODIFIED:20260311T130844Z
UID:12694-1784455200-1784466000@rfwm.org
SUMMARY:Sunday Service
DESCRIPTION:10 am Prayer \n11 am Service \nChild Care Provided \nChildren’s Church Immediately following Praise and Worship
URL:https://rfwm.org/event/sunday-service-5/2026-07-19/
CATEGORIES:Sunday
ATTACH;FMTTYPE=image/png:https://rfwm.org/wp-content/uploads/2026/02/RFWM-Services-Flyer-March-2026.png
END:VEVENT
BEGIN:VEVENT
DTSTART;TZID=UTC:20260726T100000
DTEND;TZID=UTC:20260726T130000
DTSTAMP:20260420T035910
CREATED:20260215T003538Z
LAST-MODIFIED:20260311T130844Z
UID:12695-1785060000-1785070800@rfwm.org
SUMMARY:Sunday Service
DESCRIPTION:10 am Prayer \n11 am Service \nChild Care Provided \nChildren’s Church Immediately following Praise and Worship
URL:https://rfwm.org/event/sunday-service-5/2026-07-26/
CATEGORIES:Sunday
ATTACH;FMTTYPE=image/png:https://rfwm.org/wp-content/uploads/2026/02/RFWM-Services-Flyer-March-2026.png
END:VEVENT
BEGIN:VEVENT
DTSTART;TZID=UTC:20260802T100000
DTEND;TZID=UTC:20260802T130000
DTSTAMP:20260420T035910
CREATED:20260215T003538Z
LAST-MODIFIED:20260311T130846Z
UID:12696-1785664800-1785675600@rfwm.org
SUMMARY:Sunday Service
DESCRIPTION:10 am Prayer \n11 am Service \nChild Care Provided \nChildren’s Church Immediately following Praise and Worship
URL:https://rfwm.org/event/sunday-service-5/2026-08-02/
CATEGORIES:Sunday
ATTACH;FMTTYPE=image/png:https://rfwm.org/wp-content/uploads/2026/02/RFWM-Services-Flyer-March-2026.png
END:VEVENT
BEGIN:VEVENT
DTSTART;TZID=UTC:20260809T100000
DTEND;TZID=UTC:20260809T130000
DTSTAMP:20260420T035910
CREATED:20260215T003538Z
LAST-MODIFIED:20260311T130846Z
UID:12697-1786269600-1786280400@rfwm.org
SUMMARY:Sunday Service
DESCRIPTION:10 am Prayer \n11 am Service \nChild Care Provided \nChildren’s Church Immediately following Praise and Worship
URL:https://rfwm.org/event/sunday-service-5/2026-08-09/
CATEGORIES:Sunday
ATTACH;FMTTYPE=image/png:https://rfwm.org/wp-content/uploads/2026/02/RFWM-Services-Flyer-March-2026.png
END:VEVENT
BEGIN:VEVENT
DTSTART;TZID=UTC:20260816T100000
DTEND;TZID=UTC:20260816T130000
DTSTAMP:20260420T035910
CREATED:20260215T003538Z
LAST-MODIFIED:20260311T130847Z
UID:12698-1786874400-1786885200@rfwm.org
SUMMARY:Sunday Service
DESCRIPTION:10 am Prayer \n11 am Service \nChild Care Provided \nChildren’s Church Immediately following Praise and Worship
URL:https://rfwm.org/event/sunday-service-5/2026-08-16/
CATEGORIES:Sunday
ATTACH;FMTTYPE=image/png:https://rfwm.org/wp-content/uploads/2026/02/RFWM-Services-Flyer-March-2026.png
END:VEVENT
BEGIN:VEVENT
DTSTART;TZID=UTC:20260823T100000
DTEND;TZID=UTC:20260823T130000
DTSTAMP:20260420T035910
CREATED:20260215T003538Z
LAST-MODIFIED:20260311T130847Z
UID:12699-1787479200-1787490000@rfwm.org
SUMMARY:Sunday Service
DESCRIPTION:10 am Prayer \n11 am Service \nChild Care Provided \nChildren’s Church Immediately following Praise and Worship
URL:https://rfwm.org/event/sunday-service-5/2026-08-23/
CATEGORIES:Sunday
ATTACH;FMTTYPE=image/png:https://rfwm.org/wp-content/uploads/2026/02/RFWM-Services-Flyer-March-2026.png
END:VEVENT
BEGIN:VEVENT
DTSTART;TZID=UTC:20260830T100000
DTEND;TZID=UTC:20260830T130000
DTSTAMP:20260420T035910
CREATED:20260215T003538Z
LAST-MODIFIED:20260311T130847Z
UID:12700-1788084000-1788094800@rfwm.org
SUMMARY:Sunday Service
DESCRIPTION:10 am Prayer \n11 am Service \nChild Care Provided \nChildren’s Church Immediately following Praise and Worship
URL:https://rfwm.org/event/sunday-service-5/2026-08-30/
CATEGORIES:Sunday
ATTACH;FMTTYPE=image/png:https://rfwm.org/wp-content/uploads/2026/02/RFWM-Services-Flyer-March-2026.png
END:VEVENT
BEGIN:VEVENT
DTSTART;TZID=UTC:20260906T100000
DTEND;TZID=UTC:20260906T130000
DTSTAMP:20260420T035910
CREATED:20260215T003538Z
LAST-MODIFIED:20260311T130848Z
UID:12701-1788688800-1788699600@rfwm.org
SUMMARY:Sunday Service
DESCRIPTION:10 am Prayer \n11 am Service \nChild Care Provided \nChildren’s Church Immediately following Praise and Worship
URL:https://rfwm.org/event/sunday-service-5/2026-09-06/
CATEGORIES:Sunday
ATTACH;FMTTYPE=image/png:https://rfwm.org/wp-content/uploads/2026/02/RFWM-Services-Flyer-March-2026.png
END:VEVENT
BEGIN:VEVENT
DTSTART;TZID=UTC:20260913T100000
DTEND;TZID=UTC:20260913T130000
DTSTAMP:20260420T035910
CREATED:20260215T003538Z
LAST-MODIFIED:20260311T130848Z
UID:12702-1789293600-1789304400@rfwm.org
SUMMARY:Sunday Service
DESCRIPTION:10 am Prayer \n11 am Service \nChild Care Provided \nChildren’s Church Immediately following Praise and Worship
URL:https://rfwm.org/event/sunday-service-5/2026-09-13/
CATEGORIES:Sunday
ATTACH;FMTTYPE=image/png:https://rfwm.org/wp-content/uploads/2026/02/RFWM-Services-Flyer-March-2026.png
END:VEVENT
BEGIN:VEVENT
DTSTART;TZID=UTC:20260920T100000
DTEND;TZID=UTC:20260920T130000
DTSTAMP:20260420T035910
CREATED:20260215T003538Z
LAST-MODIFIED:20260311T130848Z
UID:12703-1789898400-1789909200@rfwm.org
SUMMARY:Sunday Service
DESCRIPTION:10 am Prayer \n11 am Service \nChild Care Provided \nChildren’s Church Immediately following Praise and Worship
URL:https://rfwm.org/event/sunday-service-5/2026-09-20/
CATEGORIES:Sunday
ATTACH;FMTTYPE=image/png:https://rfwm.org/wp-content/uploads/2026/02/RFWM-Services-Flyer-March-2026.png
END:VEVENT
BEGIN:VEVENT
DTSTART;TZID=UTC:20260927T100000
DTEND;TZID=UTC:20260927T130000
DTSTAMP:20260420T035910
CREATED:20260215T003538Z
LAST-MODIFIED:20260311T130849Z
UID:12704-1790503200-1790514000@rfwm.org
SUMMARY:Sunday Service
DESCRIPTION:10 am Prayer \n11 am Service \nChild Care Provided \nChildren’s Church Immediately following Praise and Worship
URL:https://rfwm.org/event/sunday-service-5/2026-09-27/
CATEGORIES:Sunday
ATTACH;FMTTYPE=image/png:https://rfwm.org/wp-content/uploads/2026/02/RFWM-Services-Flyer-March-2026.png
END:VEVENT
BEGIN:VEVENT
DTSTART;TZID=UTC:20261004T100000
DTEND;TZID=UTC:20261004T130000
DTSTAMP:20260420T035910
CREATED:20260215T003538Z
LAST-MODIFIED:20260311T130849Z
UID:12705-1791108000-1791118800@rfwm.org
SUMMARY:Sunday Service
DESCRIPTION:10 am Prayer \n11 am Service \nChild Care Provided \nChildren’s Church Immediately following Praise and Worship
URL:https://rfwm.org/event/sunday-service-5/2026-10-04/
CATEGORIES:Sunday
ATTACH;FMTTYPE=image/png:https://rfwm.org/wp-content/uploads/2026/02/RFWM-Services-Flyer-March-2026.png
END:VEVENT
BEGIN:VEVENT
DTSTART;TZID=UTC:20261011T100000
DTEND;TZID=UTC:20261011T130000
DTSTAMP:20260420T035910
CREATED:20260215T003538Z
LAST-MODIFIED:20260311T130851Z
UID:12706-1791712800-1791723600@rfwm.org
SUMMARY:Sunday Service
DESCRIPTION:10 am Prayer \n11 am Service \nChild Care Provided \nChildren’s Church Immediately following Praise and Worship
URL:https://rfwm.org/event/sunday-service-5/2026-10-11/
CATEGORIES:Sunday
ATTACH;FMTTYPE=image/png:https://rfwm.org/wp-content/uploads/2026/02/RFWM-Services-Flyer-March-2026.png
END:VEVENT
BEGIN:VEVENT
DTSTART;TZID=UTC:20261018T100000
DTEND;TZID=UTC:20261018T130000
DTSTAMP:20260420T035910
CREATED:20260215T003538Z
LAST-MODIFIED:20260311T130851Z
UID:12707-1792317600-1792328400@rfwm.org
SUMMARY:Sunday Service
DESCRIPTION:10 am Prayer \n11 am Service \nChild Care Provided \nChildren’s Church Immediately following Praise and Worship
URL:https://rfwm.org/event/sunday-service-5/2026-10-18/
CATEGORIES:Sunday
ATTACH;FMTTYPE=image/png:https://rfwm.org/wp-content/uploads/2026/02/RFWM-Services-Flyer-March-2026.png
END:VEVENT
BEGIN:VEVENT
DTSTART;TZID=UTC:20261025T100000
DTEND;TZID=UTC:20261025T130000
DTSTAMP:20260420T035910
CREATED:20260215T003538Z
LAST-MODIFIED:20260311T130852Z
UID:12708-1792922400-1792933200@rfwm.org
SUMMARY:Sunday Service
DESCRIPTION:10 am Prayer \n11 am Service \nChild Care Provided \nChildren’s Church Immediately following Praise and Worship
URL:https://rfwm.org/event/sunday-service-5/2026-10-25/
CATEGORIES:Sunday
ATTACH;FMTTYPE=image/png:https://rfwm.org/wp-content/uploads/2026/02/RFWM-Services-Flyer-March-2026.png
END:VEVENT
BEGIN:VEVENT
DTSTART;TZID=UTC:20261101T100000
DTEND;TZID=UTC:20261101T130000
DTSTAMP:20260420T035910
CREATED:20260215T003538Z
LAST-MODIFIED:20260311T130852Z
UID:12709-1793527200-1793538000@rfwm.org
SUMMARY:Sunday Service
DESCRIPTION:10 am Prayer \n11 am Service \nChild Care Provided \nChildren’s Church Immediately following Praise and Worship
URL:https://rfwm.org/event/sunday-service-5/2026-11-01/
CATEGORIES:Sunday
ATTACH;FMTTYPE=image/png:https://rfwm.org/wp-content/uploads/2026/02/RFWM-Services-Flyer-March-2026.png
END:VEVENT
BEGIN:VEVENT
DTSTART;TZID=UTC:20261108T100000
DTEND;TZID=UTC:20261108T130000
DTSTAMP:20260420T035910
CREATED:20260215T003538Z
LAST-MODIFIED:20260311T130852Z
UID:12710-1794132000-1794142800@rfwm.org
SUMMARY:Sunday Service
DESCRIPTION:10 am Prayer \n11 am Service \nChild Care Provided \nChildren’s Church Immediately following Praise and Worship
URL:https://rfwm.org/event/sunday-service-5/2026-11-08/
CATEGORIES:Sunday
ATTACH;FMTTYPE=image/png:https://rfwm.org/wp-content/uploads/2026/02/RFWM-Services-Flyer-March-2026.png
END:VEVENT
BEGIN:VEVENT
DTSTART;TZID=UTC:20261115T100000
DTEND;TZID=UTC:20261115T130000
DTSTAMP:20260420T035910
CREATED:20260215T003538Z
LAST-MODIFIED:20260311T130853Z
UID:12711-1794736800-1794747600@rfwm.org
SUMMARY:Sunday Service
DESCRIPTION:10 am Prayer \n11 am Service \nChild Care Provided \nChildren’s Church Immediately following Praise and Worship
URL:https://rfwm.org/event/sunday-service-5/2026-11-15/
CATEGORIES:Sunday
ATTACH;FMTTYPE=image/png:https://rfwm.org/wp-content/uploads/2026/02/RFWM-Services-Flyer-March-2026.png
END:VEVENT
END:VCALENDAR