BEGIN:VCALENDAR
VERSION:2.0
PRODID:-//RFWM - ECPv6.15.20//NONSGML v1.0//EN
CALSCALE:GREGORIAN
METHOD:PUBLISH
X-WR-CALNAME:RFWM
X-ORIGINAL-URL:https://rfwm.org
X-WR-CALDESC:Events for RFWM
REFRESH-INTERVAL;VALUE=DURATION:PT1H
X-Robots-Tag:noindex
X-PUBLISHED-TTL:PT1H
BEGIN:VTIMEZONE
TZID:UTC
BEGIN:STANDARD
TZOFFSETFROM:+0000
TZOFFSETTO:+0000
TZNAME:UTC
DTSTART:20230101T000000
END:STANDARD
END:VTIMEZONE
BEGIN:VEVENT
DTSTART;TZID=UTC:20240913T180000
DTEND;TZID=UTC:20240913T200000
DTSTAMP:20260420T213710
CREATED:20240521T165053Z
LAST-MODIFIED:20240521T165053Z
UID:9132-1726250400-1726257600@rfwm.org
SUMMARY:Overcomers
DESCRIPTION:12-Week Group – Fridays 6-8pm \nStarts: June 28\, 2024 \nRFWM Offices – Main Floor Conference Room
URL:https://rfwm.org/event/overcomers-3/2024-09-13/
CATEGORIES:Friday
END:VEVENT
BEGIN:VEVENT
DTSTART;TZID=UTC:20240628T180000
DTEND;TZID=UTC:20240628T200000
DTSTAMP:20260420T213710
CREATED:20240521T165053Z
LAST-MODIFIED:20240602T120409Z
UID:9111-1719597600-1719604800@rfwm.org
SUMMARY:Overcomers
DESCRIPTION:12-Week Group – Fridays 6-8pm \nStarts: June 28\, 2024 \nRFWM Offices – Main Floor Conference Room
URL:https://rfwm.org/event/overcomers-3/
CATEGORIES:Friday
ATTACH;FMTTYPE=image/png:https://rfwm.org/wp-content/uploads/2024/05/Overcomers-Flyer-2.png
END:VEVENT
END:VCALENDAR