BEGIN:VCALENDAR
VERSION:2.0
PRODID:-//RFWM - ECPv6.15.20//NONSGML v1.0//EN
CALSCALE:GREGORIAN
METHOD:PUBLISH
X-WR-CALNAME:RFWM
X-ORIGINAL-URL:https://rfwm.org
X-WR-CALDESC:Events for RFWM
REFRESH-INTERVAL;VALUE=DURATION:PT1H
X-Robots-Tag:noindex
X-PUBLISHED-TTL:PT1H
BEGIN:VTIMEZONE
TZID:UTC
BEGIN:STANDARD
TZOFFSETFROM:+0000
TZOFFSETTO:+0000
TZNAME:UTC
DTSTART:20200101T000000
END:STANDARD
END:VTIMEZONE
BEGIN:VEVENT
DTSTART;TZID=UTC:20210908T180000
DTEND;TZID=UTC:20210908T190000
DTSTAMP:20260420T213822
CREATED:20210908T160455Z
LAST-MODIFIED:20210913T204409Z
UID:3856-1631124000-1631127600@rfwm.org
SUMMARY:Nightly Prayer
DESCRIPTION:Join us for prayer Monday – Friday at 6 pm the month of September.
URL:https://rfwm.org/event/nightly-prayer/2021-09-08/
CATEGORIES:Friday,Monday,Thursday,Tuesday,Wednesday
ATTACH;FMTTYPE=image/jpeg:https://rfwm.org/wp-content/uploads/2020/05/freedon.jpg
END:VEVENT
END:VCALENDAR