BEGIN:VCALENDAR
VERSION:2.0
PRODID:-//RFWM - ECPv6.15.20//NONSGML v1.0//EN
CALSCALE:GREGORIAN
METHOD:PUBLISH
X-ORIGINAL-URL:https://rfwm.org
X-WR-CALDESC:Events for RFWM
REFRESH-INTERVAL;VALUE=DURATION:PT1H
X-Robots-Tag:noindex
X-PUBLISHED-TTL:PT1H
BEGIN:VTIMEZONE
TZID:UTC
BEGIN:STANDARD
TZOFFSETFROM:+0000
TZOFFSETTO:+0000
TZNAME:UTC
DTSTART:20250101T000000
END:STANDARD
END:VTIMEZONE
BEGIN:VEVENT
DTSTART;TZID=UTC:20260415T080000
DTEND;TZID=UTC:20260415T170000
DTSTAMP:20260420T052855
CREATED:20260216T002814Z
LAST-MODIFIED:20260216T003024Z
UID:12925-1776240000-1776272400@rfwm.org
SUMMARY:Midweek Service
DESCRIPTION:Wednesdays \n6pm Prayer & 7pm Bible Study
URL:https://rfwm.org/event/n-midweek-service/2026-04-15/
ATTACH;FMTTYPE=image/png:https://rfwm.org/wp-content/uploads/2026/02/Screenshot-2026-02-15-182509.png
END:VEVENT
BEGIN:VEVENT
DTSTART;TZID=UTC:20260408T080000
DTEND;TZID=UTC:20260408T170000
DTSTAMP:20260420T052855
CREATED:20260216T002814Z
LAST-MODIFIED:20260216T003024Z
UID:12924-1775635200-1775667600@rfwm.org
SUMMARY:Midweek Service
DESCRIPTION:Wednesdays \n6pm Prayer & 7pm Bible Study
URL:https://rfwm.org/event/n-midweek-service/2026-04-08/
ATTACH;FMTTYPE=image/png:https://rfwm.org/wp-content/uploads/2026/02/Screenshot-2026-02-15-182509.png
END:VEVENT
BEGIN:VEVENT
DTSTART;TZID=UTC:20260401T080000
DTEND;TZID=UTC:20260401T170000
DTSTAMP:20260420T052855
CREATED:20260216T002814Z
LAST-MODIFIED:20260216T003023Z
UID:12923-1775030400-1775062800@rfwm.org
SUMMARY:Midweek Service
DESCRIPTION:Wednesdays \n6pm Prayer & 7pm Bible Study
URL:https://rfwm.org/event/n-midweek-service/2026-04-01/
ATTACH;FMTTYPE=image/png:https://rfwm.org/wp-content/uploads/2026/02/Screenshot-2026-02-15-182509.png
END:VEVENT
BEGIN:VEVENT
DTSTART;TZID=UTC:20260325T080000
DTEND;TZID=UTC:20260325T170000
DTSTAMP:20260420T052855
CREATED:20260216T002814Z
LAST-MODIFIED:20260216T003023Z
UID:12922-1774425600-1774458000@rfwm.org
SUMMARY:Midweek Service
DESCRIPTION:Wednesdays \n6pm Prayer & 7pm Bible Study
URL:https://rfwm.org/event/n-midweek-service/2026-03-25/
ATTACH;FMTTYPE=image/png:https://rfwm.org/wp-content/uploads/2026/02/Screenshot-2026-02-15-182509.png
END:VEVENT
BEGIN:VEVENT
DTSTART;TZID=UTC:20260318T080000
DTEND;TZID=UTC:20260318T170000
DTSTAMP:20260420T052855
CREATED:20260216T002814Z
LAST-MODIFIED:20260216T003023Z
UID:12921-1773820800-1773853200@rfwm.org
SUMMARY:Midweek Service
DESCRIPTION:Wednesdays \n6pm Prayer & 7pm Bible Study
URL:https://rfwm.org/event/n-midweek-service/2026-03-18/
ATTACH;FMTTYPE=image/png:https://rfwm.org/wp-content/uploads/2026/02/Screenshot-2026-02-15-182509.png
END:VEVENT
BEGIN:VEVENT
DTSTART;TZID=UTC:20260311T080000
DTEND;TZID=UTC:20260311T170000
DTSTAMP:20260420T052855
CREATED:20260216T002814Z
LAST-MODIFIED:20260216T003022Z
UID:12920-1773216000-1773248400@rfwm.org
SUMMARY:Midweek Service
DESCRIPTION:Wednesdays \n6pm Prayer & 7pm Bible Study
URL:https://rfwm.org/event/n-midweek-service/2026-03-11/
ATTACH;FMTTYPE=image/png:https://rfwm.org/wp-content/uploads/2026/02/Screenshot-2026-02-15-182509.png
END:VEVENT
BEGIN:VEVENT
DTSTART;TZID=UTC:20260304T080000
DTEND;TZID=UTC:20260304T170000
DTSTAMP:20260420T052855
CREATED:20260216T002814Z
LAST-MODIFIED:20260216T003022Z
UID:12919-1772611200-1772643600@rfwm.org
SUMMARY:Midweek Service
DESCRIPTION:Wednesdays \n6pm Prayer & 7pm Bible Study
URL:https://rfwm.org/event/n-midweek-service/2026-03-04/
ATTACH;FMTTYPE=image/png:https://rfwm.org/wp-content/uploads/2026/02/Screenshot-2026-02-15-182509.png
END:VEVENT
END:VCALENDAR