BEGIN:VCALENDAR
VERSION:2.0
PRODID:-//RFWM - ECPv6.15.20//NONSGML v1.0//EN
CALSCALE:GREGORIAN
METHOD:PUBLISH
X-WR-CALNAME:RFWM
X-ORIGINAL-URL:https://rfwm.org
X-WR-CALDESC:Events for RFWM
REFRESH-INTERVAL;VALUE=DURATION:PT1H
X-Robots-Tag:noindex
X-PUBLISHED-TTL:PT1H
BEGIN:VTIMEZONE
TZID:UTC
BEGIN:STANDARD
TZOFFSETFROM:+0000
TZOFFSETTO:+0000
TZNAME:UTC
DTSTART:20250101T000000
END:STANDARD
END:VTIMEZONE
BEGIN:VEVENT
DTSTART;TZID=UTC:20260417T183000
DTEND;TZID=UTC:20260417T200000
DTSTAMP:20260420T052731
CREATED:20260310T002726Z
LAST-MODIFIED:20260311T125744Z
UID:13179-1776450600-1776456000@rfwm.org
SUMMARY:Freedom Gathering
DESCRIPTION:Fridays 6:30 pm
URL:https://rfwm.org/event/freedom-gathering-2/2026-04-17/
ATTACH;FMTTYPE=image/png:https://rfwm.org/wp-content/uploads/2026/03/Freedom-Gathering-Group-Flyer-2-8.5-x-11-in-1.png
END:VEVENT
BEGIN:VEVENT
DTSTART;TZID=UTC:20260410T183000
DTEND;TZID=UTC:20260410T200000
DTSTAMP:20260420T052731
CREATED:20260310T002726Z
LAST-MODIFIED:20260311T125744Z
UID:13178-1775845800-1775851200@rfwm.org
SUMMARY:Freedom Gathering
DESCRIPTION:Fridays 6:30 pm
URL:https://rfwm.org/event/freedom-gathering-2/2026-04-10/
ATTACH;FMTTYPE=image/png:https://rfwm.org/wp-content/uploads/2026/03/Freedom-Gathering-Group-Flyer-2-8.5-x-11-in-1.png
END:VEVENT
BEGIN:VEVENT
DTSTART;TZID=UTC:20260403T183000
DTEND;TZID=UTC:20260403T200000
DTSTAMP:20260420T052731
CREATED:20260310T002726Z
LAST-MODIFIED:20260311T125743Z
UID:13177-1775241000-1775246400@rfwm.org
SUMMARY:Freedom Gathering
DESCRIPTION:Fridays 6:30 pm
URL:https://rfwm.org/event/freedom-gathering-2/2026-04-03/
ATTACH;FMTTYPE=image/png:https://rfwm.org/wp-content/uploads/2026/03/Freedom-Gathering-Group-Flyer-2-8.5-x-11-in-1.png
END:VEVENT
BEGIN:VEVENT
DTSTART;TZID=UTC:20260327T183000
DTEND;TZID=UTC:20260327T200000
DTSTAMP:20260420T052731
CREATED:20260310T002726Z
LAST-MODIFIED:20260311T125743Z
UID:13176-1774636200-1774641600@rfwm.org
SUMMARY:Freedom Gathering
DESCRIPTION:Fridays 6:30 pm
URL:https://rfwm.org/event/freedom-gathering-2/2026-03-27/
ATTACH;FMTTYPE=image/png:https://rfwm.org/wp-content/uploads/2026/03/Freedom-Gathering-Group-Flyer-2-8.5-x-11-in-1.png
END:VEVENT
BEGIN:VEVENT
DTSTART;TZID=UTC:20260320T183000
DTEND;TZID=UTC:20260320T200000
DTSTAMP:20260420T052731
CREATED:20260310T002726Z
LAST-MODIFIED:20260311T125743Z
UID:13175-1774031400-1774036800@rfwm.org
SUMMARY:Freedom Gathering
DESCRIPTION:Fridays 6:30 pm
URL:https://rfwm.org/event/freedom-gathering-2/2026-03-20/
ATTACH;FMTTYPE=image/png:https://rfwm.org/wp-content/uploads/2026/03/Freedom-Gathering-Group-Flyer-2-8.5-x-11-in-1.png
END:VEVENT
BEGIN:VEVENT
DTSTART;TZID=UTC:20260313T183000
DTEND;TZID=UTC:20260313T200000
DTSTAMP:20260420T052731
CREATED:20260310T002726Z
LAST-MODIFIED:20260311T125742Z
UID:13174-1773426600-1773432000@rfwm.org
SUMMARY:Freedom Gathering
DESCRIPTION:Fridays 6:30 pm
URL:https://rfwm.org/event/freedom-gathering-2/2026-03-13/
ATTACH;FMTTYPE=image/png:https://rfwm.org/wp-content/uploads/2026/03/Freedom-Gathering-Group-Flyer-2-8.5-x-11-in-1.png
END:VEVENT
END:VCALENDAR