BEGIN:VCALENDAR
VERSION:2.0
PRODID:-//RFWM - ECPv6.15.20//NONSGML v1.0//EN
CALSCALE:GREGORIAN
METHOD:PUBLISH
X-ORIGINAL-URL:https://rfwm.org
X-WR-CALDESC:Events for RFWM
REFRESH-INTERVAL;VALUE=DURATION:PT1H
X-Robots-Tag:noindex
X-PUBLISHED-TTL:PT1H
BEGIN:VTIMEZONE
TZID:UTC
BEGIN:STANDARD
TZOFFSETFROM:+0000
TZOFFSETTO:+0000
TZNAME:UTC
DTSTART:20200101T000000
END:STANDARD
END:VTIMEZONE
BEGIN:VEVENT
DTSTART;TZID=UTC:20210901T120000
DTEND;TZID=UTC:20210901T130000
DTSTAMP:20260420T161912
CREATED:20210901T132803Z
LAST-MODIFIED:20210913T204336Z
UID:3734-1630497600-1630501200@rfwm.org
SUMMARY:Believers Noon Hour Bible Study
DESCRIPTION:September 1-30\, 2021 \nMonday – Friday at Noon
URL:https://rfwm.org/event/belivers-noon-hour-bible-study/2021-09-01/
CATEGORIES:Friday,Monday,Thursday,Tuesday,Wednesday
ATTACH;FMTTYPE=image/jpeg:https://rfwm.org/wp-content/uploads/sermons/2021/06/aaron-burden-9zsHNt5OpqE-unsplash.jpg
END:VEVENT
END:VCALENDAR