BEGIN:VCALENDAR
VERSION:2.0
PRODID:-//RFWM - ECPv6.15.20//NONSGML v1.0//EN
CALSCALE:GREGORIAN
METHOD:PUBLISH
X-ORIGINAL-URL:https://rfwm.org
X-WR-CALDESC:Events for RFWM
REFRESH-INTERVAL;VALUE=DURATION:PT1H
X-Robots-Tag:noindex
X-PUBLISHED-TTL:PT1H
BEGIN:VTIMEZONE
TZID:UTC
BEGIN:STANDARD
TZOFFSETFROM:+0000
TZOFFSETTO:+0000
TZNAME:UTC
DTSTART:20220101T000000
END:STANDARD
END:VTIMEZONE
BEGIN:VEVENT
DTSTART;TZID=UTC:20230926T180000
DTEND;TZID=UTC:20230926T203000
DTSTAMP:20260420T191328
CREATED:20230805T142312Z
LAST-MODIFIED:20230805T142312Z
UID:5709-1695751200-1695760200@rfwm.org
SUMMARY:Believe and See Women's Event
DESCRIPTION:Women come to receive deliverance\, healing\, and receive wholeness through faith in Jesus Christ \nLocation: \nBrooklyn Park Community Center \n5600 85th Avenue N\, Brooklyn Park MN \nChild care NOT provided
URL:https://rfwm.org/event/believe-and-see-womens-event/2023-09-26/
CATEGORIES:Tuesday,Wednesday
END:VEVENT
END:VCALENDAR